BEGIN:VCALENDAR
VERSION:2.0
PRODID:-//Temporada Alta - ECPv6.15.17//NONSGML v1.0//EN
CALSCALE:GREGORIAN
METHOD:PUBLISH
X-ORIGINAL-URL:https://temporada-alta.com/es/
X-WR-CALDESC:Eventos para Temporada Alta
REFRESH-INTERVAL;VALUE=DURATION:PT1H
X-Robots-Tag:noindex
X-PUBLISHED-TTL:PT1H
BEGIN:VTIMEZONE
TZID:Europe/Madrid
BEGIN:DAYLIGHT
TZOFFSETFROM:+0100
TZOFFSETTO:+0200
TZNAME:CEST
DTSTART:20190331T010000
END:DAYLIGHT
BEGIN:STANDARD
TZOFFSETFROM:+0200
TZOFFSETTO:+0100
TZNAME:CET
DTSTART:20191027T010000
END:STANDARD
BEGIN:DAYLIGHT
TZOFFSETFROM:+0100
TZOFFSETTO:+0200
TZNAME:CEST
DTSTART:20200329T010000
END:DAYLIGHT
BEGIN:STANDARD
TZOFFSETFROM:+0200
TZOFFSETTO:+0100
TZNAME:CET
DTSTART:20201025T010000
END:STANDARD
BEGIN:DAYLIGHT
TZOFFSETFROM:+0100
TZOFFSETTO:+0200
TZNAME:CEST
DTSTART:20210328T010000
END:DAYLIGHT
BEGIN:STANDARD
TZOFFSETFROM:+0200
TZOFFSETTO:+0100
TZNAME:CET
DTSTART:20211031T010000
END:STANDARD
END:VTIMEZONE
BEGIN:VEVENT
DTSTART;TZID=Europe/Madrid:20200201T080000
DTEND;TZID=Europe/Madrid:20200202T233000
DTSTAMP:20260421T122832
CREATED:20200114T150350Z
LAST-MODIFIED:20200120T083059Z
UID:49977-1580544000-1580686200@temporada-alta.com
SUMMARY:Perdón
DESCRIPTION:Una comedia alrededor del sentimiento de culpa en las relaciones humanas\nEl nuevo espectáculo del Duo Sutottos muestra el reencuentro de dos amigos de la infancia que se transforma en una disputa permanente entre sus egos\, reclamos del pasado y frustraciones de éste. Volver a verse saca a la luz las manipulaciones y miserias más profundas\, en un intento constante para escapar de los vínculos de la infancia. Lo que fue y ya no es\, lo que vuelve para ser distinto. En el plano ficcional\, el discurso de los personajes es de carácter repetitivo\, el reproche y la manipulación funcionan como un mecanismo que se vuelve sobre sí mismo. Este carácter cíclico tiene como voluntad poner de manifiesto el hecho de que estos personajes no pueden escapar de su pasado\, condenados a vivir siempre las mismas discusiones. El territorio vincular los mantiene atrapados en un intento fallido para volver a la infancia. Los recuerdos que los unen no son suficientes para volver a ser lo que una vez fueron.
URL:https://temporada-alta.com/es/espectaculo/perdon-iberoamerica/
LOCATION:Teatro Timbre 4 de Buenos Aires
CATEGORIES:2020 Iberoamérica
ATTACH;FMTTYPE=image/jpeg:https://temporada-alta.com/wp-content/uploads/perdon.jpg
END:VEVENT
BEGIN:VEVENT
DTSTART;TZID=Europe/Madrid:20200204T080000
DTEND;TZID=Europe/Madrid:20200204T233000
DTSTAMP:20260421T122832
CREATED:20200114T101338Z
LAST-MODIFIED:20200120T094938Z
UID:49802-1580803200-1580859000@temporada-alta.com
SUMMARY:Carta Rechazada
DESCRIPTION:Una carta que puede ser un discurso o un correo electrónico\, sin miedo al pasado y sin perder de vista el futuro\nEn escena\, una actriz con las manos esposadas como un criminal. No obstante\, está dispuesta a escribir una carta\, como aquella que habla. Acusada por ella misma de hurgar en la correspondencia ajena\, reflexiona sobre el contenido de algunas cartas que ha leído. A partir de textos conocidos como Carta del hallazgo de Brasil de Pero Vaz de Caminha\, Carta al padre de Kafka\, Carta a Bosie d’Oscar Wilde\, Cartas portuguesas de Mariana Alcoforado y Nuevas cartas portuguesas de María Teresa Horta\, María Isabel Barreno y María Velho da Costa\, entre otras; esta carta de presentación pretende repasar algunos temas como el feminismo\, la guerra y el postcolonialismo en un mundo en el cual se enfrentan Facebook y Twitter. 
URL:https://temporada-alta.com/es/espectaculo/carta-rechazada-iberoamerica/
LOCATION:Teatro Timbre 4 de Buenos Aires
CATEGORIES:2020 Iberoamérica
ATTACH;FMTTYPE=image/jpeg:https://temporada-alta.com/wp-content/uploads/carta_bona.jpg
END:VEVENT
BEGIN:VEVENT
DTSTART;TZID=Europe/Madrid:20200204T080000
DTEND;TZID=Europe/Madrid:20200205T233000
DTSTAMP:20260421T122832
CREATED:20200114T125816Z
LAST-MODIFIED:20200120T095132Z
UID:49965-1580803200-1580945400@temporada-alta.com
SUMMARY:Perceptions
DESCRIPTION:Un espectáculo de circo contemporáneo que invita a soñar con otras realidades\nPerceptions es un viaje al corazón de la imaginación cuántica\, dónde aquello infinitamente grande se mezcla con aquello infinitamente pequeño. Mientras evoluciona la exploración de los artistas en escena\, el mundo suspendido se transforma y se vuelve impredecible.
URL:https://temporada-alta.com/es/espectaculo/perceptions-iberoamerica/
LOCATION:Teatro Timbre 4 de Buenos Aires
CATEGORIES:2020 Iberoamérica
ATTACH;FMTTYPE=image/jpeg:https://temporada-alta.com/wp-content/uploads/Bivouac.jpg
END:VEVENT
BEGIN:VEVENT
DTSTART;TZID=Europe/Madrid:20200205T080000
DTEND;TZID=Europe/Madrid:20200207T233000
DTSTAMP:20260421T122832
CREATED:20200114T110221Z
LAST-MODIFIED:20200120T095532Z
UID:49853-1580889600-1581118200@temporada-alta.com
SUMMARY:Finir en beauté / Bello final
DESCRIPTION:Mohamed El Khatib reconstruye un tipo de diario escrito a partir del día en que murió su madre\nSiempre interesado en el documento como activo escénico\, como herramienta\, El-Khatib reconstruye un tipo de diario escrito a partir del día en que murió su madre. Empezó como un trabajo de inmersión en la memoria para volver a visitar lugares y espacios de su vida. Todos estos recuerdos cobran vida en escena sin intermediarios entre el autor\, su vida\, su escritura y el público. Creada en octubre de 2014 en el Festival de Marseille\, la obra ha participado en diferentes festivales de teatro en Francia y en el extranjero.
URL:https://temporada-alta.com/es/espectaculo/finir-en-beaute-bello-final-iberoamerica/
LOCATION:Teatro Timbre 4 de Buenos Aires
CATEGORIES:2020 Iberoamérica
ATTACH;FMTTYPE=image/jpeg:https://temporada-alta.com/wp-content/uploads/finirenbeaute.jpg
END:VEVENT
BEGIN:VEVENT
DTSTART;TZID=Europe/Madrid:20200205T080000
DTEND;TZID=Europe/Madrid:20200208T170000
DTSTAMP:20260421T122832
CREATED:20200114T120244Z
LAST-MODIFIED:20200120T095738Z
UID:49891-1580889600-1581181200@temporada-alta.com
SUMMARY:Hay que tirar las vacas por el barranco
DESCRIPTION:Una adaptación teatral del libro Voces del laberinto\, del periodista español Ricard Ruiz Garzón\nUna recopilación de quince testimonios de pacientes afectados de esquizofrenia y sus familiares. En la obra\, diferentes monólogos recorren el proceso de la enfermedad\, des de los primeros brotes hasta la recuperación o la muerte\, con tal de intentar aclarar los estigmas\, mitos y prejuicios sobre este daño. “A veces el teatro necesita desnudarse de sí mismo\, de sus mecanismos más elementales\, para poder hablar de ciertas realidades”\, dicen sus creadores\, la compañía venezolana La Caja de Fósforos\, que quieren hablar de la esquizofrenia porque es una enfermedad que hiere la comunicación y afecta a la relación con los demás. “Escuchando a los pacientes víctimas de la enfermedad; escuchando a los familiares víctimas de la enfermedad a través de voces concretas\, bajo un arreglo artístico mínimo\, si pura y humana desesperación\, quizás podamos romper las barreras que nos impiden ver en estos seres nuestros propios miedos y angustias\, y compartir un mismo espacio mental: el espacio de aquello que es humano”.
URL:https://temporada-alta.com/es/espectaculo/hay-que-tirar-las-vacas-por-el-barranco-iberoamerica/
LOCATION:Teatro Timbre 4 de Buenos Aires
CATEGORIES:2020 Iberoamérica
ATTACH;FMTTYPE=image/jpeg:https://temporada-alta.com/wp-content/uploads/vacasbarranco.jpg
END:VEVENT
BEGIN:VEVENT
DTSTART;TZID=Europe/Madrid:20200205T080000
DTEND;TZID=Europe/Madrid:20200214T170000
DTSTAMP:20260421T122832
CREATED:20200113T154309Z
LAST-MODIFIED:20200120T095343Z
UID:49734-1580889600-1581699600@temporada-alta.com
SUMMARY:A.K.A (Also Known as)
DESCRIPTION:Un auténtico fenómeno teatral que ha conseguido los principales premios del país. Teatro comprometido sobre el racismo\, la identidad y las redes sociales\nGanador en los Mac\, en los Butaca y en los Premis de la Crítica\, A.K.A. ha sido uno de los fenómenos teatrales del año. Un auténtico éxito de público y crítica que ha conseguido acercar los jóvenes al teatro. Un montaje\, escrito por Daniel J. Meyer —que se ha formado como ayudante de dirección de Àngel Llàcer— y dirigido por Montse Rodríguez\, explica la historia de Carlos\, un adolescente adoptado que ve como sus fundamentos comienzan a tambalearse. Somos quienes sentimos que somos o quien la gente cree que somos? Una obra comprometida y de ritmo trepidante sobre el racismo\, la identidad\, las redes sociales y la importancia de los amigos y del primer amor.
URL:https://temporada-alta.com/es/espectaculo/a-k-a-also-known-as-iberoamerica/
LOCATION:Teatro Timbre 4 de Buenos Aires
CATEGORIES:2020 Iberoamérica
ATTACH;FMTTYPE=image/jpeg:https://temporada-alta.com/wp-content/uploads/akawebona.jpg
END:VEVENT
BEGIN:VEVENT
DTSTART;TZID=Europe/Madrid:20200206T080000
DTEND;TZID=Europe/Madrid:20200207T170000
DTSTAMP:20260421T122832
CREATED:20200114T103016Z
LAST-MODIFIED:20200120T095821Z
UID:49814-1580976000-1581094800@temporada-alta.com
SUMMARY:Colección de amantes
DESCRIPTION:Un montaje sobre el universo de las relaciones humanas\nRaquel colecciona cosas raras. Entre Lisboa\, Ponta Delgada\, Río de Janeiro\, Loulé\, Minde\, Paredes de Coura\, Sever do Vouga\, Ovar\, Manaos\, Barreiro\, Bergen\, Stavanger\, Oslo\, Varsovia\, Cincinnati\, Portland y Guimarães\, coleccionó 184 amantes (hasta octubre de 2018). En cuada ciudad por la que viaja\, colecciona más amantes\, y su colección va acumulando las nuevos encuentros. 
URL:https://temporada-alta.com/es/espectaculo/coleccion-de-amantes/
LOCATION:Teatro Timbre 4 de Buenos Aires
CATEGORIES:2020 Iberoamérica
ATTACH;FMTTYPE=image/jpeg:https://temporada-alta.com/wp-content/uploads/colecionamantes.jpg
END:VEVENT
BEGIN:VEVENT
DTSTART;TZID=Europe/Madrid:20200207T080000
DTEND;TZID=Europe/Madrid:20200210T233000
DTSTAMP:20260421T122832
CREATED:20200114T113407Z
LAST-MODIFIED:20200120T100337Z
UID:49864-1581062400-1581377400@temporada-alta.com
SUMMARY:Hasta agotar existencias (Ensayando para que la muerte de mi madre no me pille desprevenida)
DESCRIPTION:Una pieza de teatro documental que reflexiona sobre las relaciones madre-hija\nHasta agotar existencias (Ensayando para que la muerte de mi madre no me pille desprevenida) es una pieza de autoría escénica en clave documental; estrategias concebidas\, trabajadas e interpretadas desde una voz narrativa y visual muy personal\, pero con el deseo absoluto de universalidad. \nPartiendo de una premisa tan obsesiva como irreal -la certidumbre de que la madre de la creadora morirá la mañana siguiente-\, Verónica Navas reflexiona sobre las relaciones madre e hija\, la construcción de una misma como mujer\, la herencia social y de género\, los clichés y los anhelos\, la incorrección política e incluso la oportuna falta de precisión de la lengua para definir el entorno y nuestros sentimientos.
URL:https://temporada-alta.com/es/espectaculo/hasta-agotar-existencias-ensayando-para-que-la-muerte-de-mi-madre-no-me-pille-desprevenida-iberoamerica/
LOCATION:Teatro Timbre 4 de Buenos Aires
CATEGORIES:2020 Iberoamérica
ATTACH;FMTTYPE=image/jpeg:https://temporada-alta.com/wp-content/uploads/hasta.jpg
END:VEVENT
BEGIN:VEVENT
DTSTART;TZID=Europe/Madrid:20200207T080000
DTEND;TZID=Europe/Madrid:20200215T170000
DTSTAMP:20260421T122832
CREATED:20200113T161329Z
LAST-MODIFIED:20200128T084913Z
UID:49763-1581062400-1581786000@temporada-alta.com
SUMMARY:Kassandra
DESCRIPTION:Elisabet Casanovas protagoniza un monólogo escrito por el autor uruguayo Sergio Blanco y dirigido por Sergi Belbel que desmitifica el mito de Casandra\nCassandra significa en griego antiguo “la que enreda a los hombres”. Una adivina que por despecho de un dios no recibirá nunca el más mínimo crédito para sus pronósticos. Sergio Blanco\, el prestigioso autor y director uruguayo\, vuelve al festival con un monólogo para desmitificar el mito. Cassandra ahora es un chico\, con nombre de chica\, que vive al margen\, que sobrevive del contrabando y que se expresa en una lengua que no es la suya ni la del autor. Una obra escrita en un inglés muy básico\, comprensible para todos. A través de sus historias pasadas\, Kassandra nos explica nuestras historias presentes: nuestras insoportables guerras\, nuestras infortunadas Troyas.
URL:https://temporada-alta.com/es/espectaculo/kassandra-iberoamerica/
LOCATION:Teatro Timbre 4 de Buenos Aires
CATEGORIES:2020 Iberoamérica
ATTACH;FMTTYPE=image/jpeg:https://temporada-alta.com/wp-content/uploads/kassandrabona.jpg
END:VEVENT
BEGIN:VEVENT
DTSTART;TZID=Europe/Madrid:20200208T080000
DTEND;TZID=Europe/Madrid:20200209T170000
DTSTAMP:20260421T122832
CREATED:20200114T122536Z
LAST-MODIFIED:20200120T100415Z
UID:49903-1581148800-1581267600@temporada-alta.com
SUMMARY:Josefina la gallina puso un huevo en la cocina
DESCRIPTION:La migración como detonante y las gallinas como metáfora de nuestra vida\nPrimer trabajo unipersonal que la conocida compañía Vaca 35 decide explorar. Siguiendo la línea de trabajo de creación colectiva\, esta indagación toma como punto de partida un evento de la infancia del actor. La migración como concepto detonante y las gallinas como metáfora de nuestra vida. Un actor que migra\, un recorrido de vida\, que entiende su condición de gallina y a partir de aquí abre las alas y afloja el cuerpo para poner miles de huevos\, refugiarse en ellos y pensarlos como sus hijos\, sus recuerdos\, sus anhelos\, sus pérdidas\, el pasado y el trayecto para huir del miedo e intentar volar\, a pesar de ser un ave de corral. Mirar un punto fijo en la nada y que te asalten las lágrimas. Un rostro desencajado. Ser un vacío completo. Migrar hacia otro lado\, aunque las gallinas no puedan volar. Quizás en todo caso\, esta sea una investigación sobre el amor y la soledad.
URL:https://temporada-alta.com/es/espectaculo/josefina-la-gallina-puso-un-huevo-en-la-cocina-iberoamerica/
LOCATION:Teatro Timbre 4 de Buenos Aires
CATEGORIES:2020 Iberoamérica
ATTACH;FMTTYPE=image/jpeg:https://temporada-alta.com/wp-content/uploads/vaca35.jpg
END:VEVENT
BEGIN:VEVENT
DTSTART;TZID=Europe/Madrid:20200208T080000
DTEND;TZID=Europe/Madrid:20200209T233000
DTSTAMP:20260421T122832
CREATED:20200114T124648Z
LAST-MODIFIED:20200120T100734Z
UID:49941-1581148800-1581291000@temporada-alta.com
SUMMARY:Light years away
DESCRIPTION:Una película fuera de la pantalla\, un documental sin rostros\, un espectáculo iluminado con linternas\nGuiada por espeleólogos (estudiosos de las cavidades naturales del subsuelo)\, la obra es una visita a través de la oscuridad del teatro\, un recorrido donde todo lo que aparece sorprende\, ya sea orgánico o inanimado\, cronológico o anacrónico\, visible o invisible.
URL:https://temporada-alta.com/es/espectaculo/light-years-away-iberoamerica/
LOCATION:Teatro Timbre 4 de Buenos Aires
CATEGORIES:2020 Iberoamérica
ATTACH;FMTTYPE=image/jpeg:https://temporada-alta.com/wp-content/uploads/LYA.jpg
END:VEVENT
BEGIN:VEVENT
DTSTART;TZID=Europe/Madrid:20200211T080000
DTEND;TZID=Europe/Madrid:20200212T233000
DTSTAMP:20260421T122832
CREATED:20200113T165355Z
LAST-MODIFIED:20200120T101042Z
UID:49782-1581408000-1581550200@temporada-alta.com
SUMMARY:Amanecerá con escombros sobre el suelo
DESCRIPTION:Un ejercicio de memoria colectiva que se pregunta por el instante en que las certezas se derrumban\nUna obra de teatro documental y biográfico que pone en escena a 5 supervivientes del terremoto ocurrido en Chile en el año 2010 (27F). A través de sus recuerdos narrados en primera persona reconstruirán sus experiencias alrededor de una de las catástrofes más significativas de la historia reciente del país. A partir de documentos\, archivos y diferentes materiales biográficos\, el montaje trata de entender hasta qué punto este paréntesis de la civilización que significa un terremoto\, puede superarse. ¿Qué tenemos en común además del miedo? ¿Quién puede asegurar que la pesadilla que se vivió aquella noche realmente acabó? ¿Qué se esconde detrás de las ruinas? La pérdida de un hijo\, el derrumbe de un edificio\, la violencia desmedida\, el miedo irracional a los demás y un pueblo arrasado por el mar. Es un ejercicio de memoria colectiva que se pregunta por el instante en que las certezas se derrumban\, pero también sobre la posibilidad de seguir construyendo encima de esta destrucción.
URL:https://temporada-alta.com/es/espectaculo/amanecera-con-escombros-sobre-el-suelo-iberoamerica/
LOCATION:Teatro Timbre 4 de Buenos Aires
CATEGORIES:2020 Iberoamérica
ATTACH;FMTTYPE=image/jpeg:https://temporada-alta.com/wp-content/uploads/amanecerabonaweb.jpg
END:VEVENT
BEGIN:VEVENT
DTSTART;TZID=Europe/Madrid:20200211T080000
DTEND;TZID=Europe/Madrid:20200212T233000
DTSTAMP:20260421T122832
CREATED:20200114T104103Z
LAST-MODIFIED:20200120T101131Z
UID:49836-1581408000-1581550200@temporada-alta.com
SUMMARY:Este cuerpo mío
DESCRIPTION:Un ejercicio de percepción\, una revisión hacia la historia que narra el propio cuerpo\nReivindicar el sentido de la existencia a través de aquello que somos tangiblemente. ¿Qué es lo que un cuerpo puede explicar de sí mismo a partir de un lugar\, un contexto y una sociedad? Esta obra es un vínculo dónde lo personal es colectivo.
URL:https://temporada-alta.com/es/espectaculo/este-cuerpo-mio-iberoamerica/
LOCATION:Teatro Timbre 4 de Buenos Aires
CATEGORIES:2020 Iberoamérica
ATTACH;FMTTYPE=image/jpeg:https://temporada-alta.com/wp-content/uploads/estecuerpomío.jpg
END:VEVENT
BEGIN:VEVENT
DTSTART;TZID=Europe/Madrid:20200211T080000
DTEND;TZID=Europe/Madrid:20200216T233000
DTSTAMP:20260421T122832
CREATED:20200113T163536Z
LAST-MODIFIED:20200120T100706Z
UID:49771-1581408000-1581895800@temporada-alta.com
SUMMARY:Parias
DESCRIPTION:Cuatro títeres\, inspirados en personajes clave de la literatura universal\, ayudan al espectador a repensar las grandes cuestiones morales\n¿Se puede hacer filosofía con una marioneta? La respuesta la tiene Javier Aranda y un espectáculo como Parias. La estremecedora intimidad que crea este artista zaragozano con sus títeres está al servicio de las grandes cuestiones morales. Cuatro muñecos inspirados en personajes de grandes obras del teatro y de la literatura universal (Hamlet\, La cantante calva\, El tiranicida y Los miserables) simbolizan la degradación y marginalización del ser humano. Una propuesta tierna\, divertida\, inteligente\, poética y conmovedora para despertar la reflexión y la emoción a un público adulto sorprendido por el modo en que un títere toca aquello más profundo del alma humano.
URL:https://temporada-alta.com/es/espectaculo/parias-iberoamerica/
LOCATION:Teatro Timbre 4 de Buenos Aires
CATEGORIES:2020 Iberoamérica
ATTACH;FMTTYPE=image/jpeg:https://temporada-alta.com/wp-content/uploads/pariaswebbona.jpg
END:VEVENT
BEGIN:VEVENT
DTSTART;TZID=Europe/Madrid:20200212T080000
DTEND;TZID=Europe/Madrid:20200213T233000
DTSTAMP:20260421T122832
CREATED:20200114T162410Z
LAST-MODIFIED:20200120T101256Z
UID:49998-1581494400-1581636600@temporada-alta.com
SUMMARY:Solo cosas geniales
DESCRIPTION:Escrita por el dramaturgo británico Duncan McMillan\n\nSolo Cosas Geniales es una experiencia única e inolvidable que te permite recorrer\, de la mano de la actriz Norma Martínez\, una historia aparentemente sencilla\, pero que ofrece profundidad. Una historia que nos recuerda aquello que somos capaces de hacer para las personas que queremos. Una aproximación luminosa a la depresión.
URL:https://temporada-alta.com/es/espectaculo/solo-cosas-geniales-2-iberoamerica/
LOCATION:Teatro Timbre 4 de Buenos Aires
CATEGORIES:2020 Iberoamérica
ATTACH;FMTTYPE=image/jpeg:https://temporada-alta.com/wp-content/uploads/solocosasgeniales.jpg
END:VEVENT
BEGIN:VEVENT
DTSTART;TZID=Europe/Madrid:20200213T080000
DTEND;TZID=Europe/Madrid:20200214T233000
DTSTAMP:20260421T122832
CREATED:20200114T163553Z
LAST-MODIFIED:20200120T101354Z
UID:50007-1581580800-1581723000@temporada-alta.com
SUMMARY:Terrorismo emocional
DESCRIPTION:Superar una ruptura a través de un proceso creativo\nClara se acaba de separar de una relación larga e idílica. De vuelta a la casa de sus padres\, empieza a vislumbrar la posibilidad de convertir su ruptura en algo creativo. Quizás el desamor de sus frutos. Al verse obligada a volver a la casa de sus padres después de su reciente separación\, Clara emprende un viaje de sanación a través de la escritura\, donde se lo cuestionará todo.
URL:https://temporada-alta.com/es/espectaculo/terrorismo-emocional-iberoamerica/
LOCATION:Teatro Timbre 4 de Buenos Aires
CATEGORIES:2020 Iberoamérica
ATTACH;FMTTYPE=image/jpeg:https://temporada-alta.com/wp-content/uploads/terrorismoemocional.jpg
END:VEVENT
BEGIN:VEVENT
DTSTART;TZID=Europe/Madrid:20200213T080000
DTEND;TZID=Europe/Madrid:20200216T233000
DTSTAMP:20260421T122832
CREATED:20200114T165212Z
LAST-MODIFIED:20200120T102003Z
UID:50017-1581580800-1581895800@temporada-alta.com
SUMMARY:Torneo de Dramatúrgia Transatlántico
DESCRIPTION:Cataluña y Argentina suben al ring\nUn año más\, el Mediterráneo y el Río de la Plata se enfrentaran en el Torneo de Dramatúrgia Transatlánico. En esta nueva edición\, la finalista y la semifinalista de la eliminatoria catalana\, Laura Gost y Concha Milla\, subirán al ring para luchar con los escritores argentinos Valeria di Toto y Benjamín Gáfaro\, 1º y 2º lugar del Primer Torneo de Dramaturgia Argentina realizado a Timbre 4 el diciembre de 2019. \nEl Torneo se desarrollará en dos rondas previas clasificatorias que enfrentaran un texto catalán con uno argentino cada una\, y la final donde participaran los ganadores de cada eliminatoria. Hasta el momento han ganado el torneo transatlántico los autores Roger Peña (El recambio)\, Pere Riera (Red Pontiac)\, Jordi Galceran (El Crédito)\, Leandro Airaldo (Enamorarse es hablar corto y enredado)\, Tocar mare de la mallorquina Marta Barceló y\, el año pasado\, Cristina Clemente\, con el texto Las lentes para mirar cargadores. \nParticipantes: Laura Gost\, Concha Milla\, Benjamín Gáfaro y Valeria Di Toto \nPrimera semifinal: jueves 13 de febrero a las 21:30h \nSegunda semifinal: viernes 14 de febrero a las 21:30h \nGran final: domingo 16 de febrero a las 21:00h
URL:https://temporada-alta.com/es/espectaculo/torneo-de-dramaturgia-transatlantico/
LOCATION:Teatro Timbre 4 de Buenos Aires
CATEGORIES:2020 Iberoamérica
ATTACH;FMTTYPE=image/jpeg:https://temporada-alta.com/wp-content/uploads/torneodramatu.jpg
END:VEVENT
BEGIN:VEVENT
DTSTART;TZID=Europe/Madrid:20200214T080000
DTEND;TZID=Europe/Madrid:20200215T233000
DTSTAMP:20260421T122832
CREATED:20200114T161309Z
LAST-MODIFIED:20200120T102405Z
UID:49986-1581667200-1581809400@temporada-alta.com
SUMMARY:Que todas las vaquitas de Argentina griten MU
DESCRIPTION:Tres tragedias\, tres mundos\, tres seres caducos en un destino ineludible: el fracaso\nGrupo Mínimo presenta un tríptico compuesto por tres estructuras trágicas condensadas. Áyax\, gran guerrero de la Ilíada (a quien Sófocles tomó para una de sus primera tragedias)\, enloquece al no poder heredar las armas sagradas de Aquiles. Así nos adentramos en la historia de Giancarlo\, un inmigrante italiano que prueba suerte en el campo argentino. Su fracaso como maestro quesero desborda su complicada vida familiar ítalo-argentina. La última parte se centra en Fabiana Fever\, una estrella en decadencia en la década de los 70\, que se juega su última carta en la filmación de una película independiente. Cada paso que da confirma su obsolescencia\, desplazada por la figura juvenil del momento. La fuerza del destino\, factor central de las tragedias clásicas\, arrastra a estos personajes al fracaso inevitable\, a la acción desesperada. Estos héroes se acercan al fracaso como las vacas que van inevitablemente al matadero. Anhelan a la vaca\, que al menos no se sabe predestinada. Su tragedia es también la razón\, el saberse acabados.
URL:https://temporada-alta.com/es/espectaculo/que-todas-las-vaquitas-de-argentina-griten-mu-iberoamerica/
LOCATION:Teatro Timbre 4 de Buenos Aires
CATEGORIES:2020 Iberoamérica
ATTACH;FMTTYPE=image/jpeg:https://temporada-alta.com/wp-content/uploads/vacas.jpg
END:VEVENT
BEGIN:VEVENT
DTSTART;TZID=Europe/Madrid:20200214T080000
DTEND;TZID=Europe/Madrid:20200221T170000
DTSTAMP:20260421T122832
CREATED:20200113T170654Z
LAST-MODIFIED:20200120T102038Z
UID:49788-1581667200-1582304400@temporada-alta.com
SUMMARY:Carnaval
DESCRIPTION:Con crudeza\, humor y ternura\, Carnaval propone un recorrido por diversos relatos de niños y niñas del mundo que han sobrevivido a una realidad descarnada\, violenta e injusta.\nPresentadas desde la óptica inocente pero sumamente dura y directa\, propia de la infancia\, las historias exponen las vivencias y emociones sobre el círculo vicioso de la pobreza\, la violencia y el abandono que vulnera a los niños permanentemente. En los carnavales el tiempo se detiene\, suspende jerarquías y permite la catarsis. Bajo esta premisa\, la obra propone un ritmo vertiginoso y dinámico donde la música en vivo\, el canto\, el baile y el humor unen los diferentes relatos\, pero también surgen como una salvación frente las historias de marginalidad\, explotación\, abuso y desamparo. Escrita y dirigida por Trinidad González\, Carnaval es un collage de situaciones tristes y delirantes\, una realidad de la cual todos formamos parte.
URL:https://temporada-alta.com/es/espectaculo/carnaval-iberoamerica/
LOCATION:Teatro Timbre 4 de Buenos Aires
CATEGORIES:2020 Iberoamérica
ATTACH;FMTTYPE=image/jpeg:https://temporada-alta.com/wp-content/uploads/carnavalbonaweb.jpg
END:VEVENT
BEGIN:VEVENT
DTSTART;TZID=Europe/Madrid:20200215T080000
DTEND;TZID=Europe/Madrid:20200215T233000
DTSTAMP:20260421T122832
CREATED:20200114T125220Z
LAST-MODIFIED:20200120T102401Z
UID:49948-1581753600-1581809400@temporada-alta.com
SUMMARY:Mobile
DESCRIPTION:Un espectáculo de danza y malabarismos\nMobile es un espectáculo compuesto de un sistema de tubos metálicos de diferentes longitudes\, suspendidos en altura. La particularidad del artista es la de realizar figuras clásicas de malabarismo\, con una atención minuciosa a los materiales y al ritmo en que estos se generan. Los objetos móviles utilizados en sus actuaciones toman una cierta magnitud escénica que permite crear una relación única con el artista.
URL:https://temporada-alta.com/es/espectaculo/mobile-iberoamerica/
LOCATION:Teatro Timbre 4 de Buenos Aires
CATEGORIES:2020 Iberoamérica
ATTACH;FMTTYPE=image/jpeg:https://temporada-alta.com/wp-content/uploads/mobile.jpg
END:VEVENT
BEGIN:VEVENT
DTSTART;TZID=Europe/Madrid:20200218T080000
DTEND;TZID=Europe/Madrid:20200218T233000
DTSTAMP:20260421T122832
CREATED:20200114T123620Z
LAST-MODIFIED:20200120T102348Z
UID:49921-1582012800-1582068600@temporada-alta.com
SUMMARY:Joseph Kids
DESCRIPTION:Gracias al mundo digital\, Sciarroni da a luz a un conmovedor mundo mágico y musical\nEn vivo y de espaldas\, el artista explora las (de) formaciones de su propia imagen\, proyectada de frente en una pantalla. Juega\, se desdobla\, se disfraza y se divierte. Su cuerpo es un pincel elástico que dibuja diferentes formas como los tentáculos de un pulpo. El espectador asistirá a una metamorfosis.
URL:https://temporada-alta.com/es/espectaculo/joseph-kids-iberoamerica/
LOCATION:Teatro Timbre 4 de Buenos Aires
CATEGORIES:2020 Iberoamérica
ATTACH;FMTTYPE=image/jpeg:https://temporada-alta.com/wp-content/uploads/sciarroni.jpg
END:VEVENT
END:VCALENDAR