BEGIN:VCALENDAR
VERSION:2.0
PRODID:-//Temporada Alta - ECPv6.15.17//NONSGML v1.0//EN
CALSCALE:GREGORIAN
METHOD:PUBLISH
X-WR-CALNAME:Temporada Alta
X-ORIGINAL-URL:https://temporada-alta.com/es/
X-WR-CALDESC:Eventos para Temporada Alta
REFRESH-INTERVAL;VALUE=DURATION:PT1H
X-Robots-Tag:noindex
X-PUBLISHED-TTL:PT1H
BEGIN:VTIMEZONE
TZID:Europe/Madrid
BEGIN:DAYLIGHT
TZOFFSETFROM:+0100
TZOFFSETTO:+0200
TZNAME:CEST
DTSTART:20180325T010000
END:DAYLIGHT
BEGIN:STANDARD
TZOFFSETFROM:+0200
TZOFFSETTO:+0100
TZNAME:CET
DTSTART:20181028T010000
END:STANDARD
BEGIN:DAYLIGHT
TZOFFSETFROM:+0100
TZOFFSETTO:+0200
TZNAME:CEST
DTSTART:20190331T010000
END:DAYLIGHT
BEGIN:STANDARD
TZOFFSETFROM:+0200
TZOFFSETTO:+0100
TZNAME:CET
DTSTART:20191027T010000
END:STANDARD
BEGIN:DAYLIGHT
TZOFFSETFROM:+0100
TZOFFSETTO:+0200
TZNAME:CEST
DTSTART:20200329T010000
END:DAYLIGHT
BEGIN:STANDARD
TZOFFSETFROM:+0200
TZOFFSETTO:+0100
TZNAME:CET
DTSTART:20201025T010000
END:STANDARD
END:VTIMEZONE
BEGIN:VEVENT
DTSTART;TZID=Europe/Madrid:20190201T080000
DTEND;TZID=Europe/Madrid:20190210T170000
DTSTAMP:20260421T105057
CREATED:20190124T121810Z
LAST-MODIFIED:20190124T151331Z
UID:21048-1549008000-1549818000@temporada-alta.com
SUMMARY:Dados tirados
DESCRIPTION:Una historia que examina la ciudad contemporánea \nEs una historia de fantasmas que examina el Montevideo contemporáneo a través del lente del Londres de los años 60. Uruguay\, como muchos otros países en el mundo\, sigue fascinado con la cultura inglesa de los sesentas\, el Londres de los Beatles y los Stones. ¿Cuál es esa fascinación y por qué aún persiste? Andrés\, es un joven conductor de televisión uruguayo\, en busca el éxito\, al precio de su vida personal. A través de él y otros personajes\, la obra habla de la trampa de éxito\, y los peligros de ambición.
URL:https://temporada-alta.com/es/espectaculo/dados-tirados/
LOCATION:Sala Verdi de Montevideo
CATEGORIES:2019 Iberoamerica
ATTACH;FMTTYPE=image/jpeg:https://temporada-alta.com/wp-content/uploads/DadosTirados.jpg
END:VEVENT
BEGIN:VEVENT
DTSTART;TZID=Europe/Madrid:20190204T080000
DTEND;TZID=Europe/Madrid:20190204T170000
DTSTAMP:20260421T105057
CREATED:20190124T121810Z
LAST-MODIFIED:20190204T095759Z
UID:21173-1549267200-1549299600@temporada-alta.com
SUMMARY:It’s always here
DESCRIPTION:Adi Boutrous explora identidades\nLa obra explora las identidades nacionales y de género. El contacto entre los cuerpos presenta una analogía con las relaciones cómo nosotros experimentamos en la vida cotidiana: manipuladora\, conflictiva\, agresiva y\, a la vez\, íntima\, tierna y protectora. Es decir\, permite explorarnos\, abierta y honestamente\, cómo somos y quisiéramos ser.
URL:https://temporada-alta.com/es/espectaculo/its-always-here/
LOCATION:Alianza Francesa de Lima
CATEGORIES:2019 Iberoamerica
ATTACH;FMTTYPE=image/jpeg:https://temporada-alta.com/wp-content/uploads/its-always-here.jpg
END:VEVENT
BEGIN:VEVENT
DTSTART;TZID=Europe/Madrid:20190207T080000
DTEND;TZID=Europe/Madrid:20190207T170000
DTSTAMP:20260421T105057
CREATED:20190124T121812Z
LAST-MODIFIED:20190125T095038Z
UID:21050-1549526400-1549558800@temporada-alta.com
SUMMARY:Los acantilados de V.
DESCRIPTION:Realidad virtual al servicio de una historia sobre la cárcel\nFrente a una crisis de escasez de órganos\, a los presos con condenas largas les ofrecen reducirlas a cambio de una parte de su cuerpo. Con lentes de realidad virtual\, el espectador está invitado a compartir la vida de un preso que está a punto de canjear sus ojos por la libertad. Los acantilados de V. es una de las primeras experiencias de narrativa de origen francés que mezclan actuación con realidad virtual.
URL:https://temporada-alta.com/es/espectaculo/los-acantilados-de-v/
LOCATION:Alianza Francesa de Lima
CATEGORIES:2019 Iberoamerica
ATTACH;FMTTYPE=image/jpeg:https://temporada-alta.com/wp-content/uploads/acantilados-de-v.jpg
END:VEVENT
BEGIN:VEVENT
DTSTART;TZID=Europe/Madrid:20190207T080000
DTEND;TZID=Europe/Madrid:20190208T170000
DTSTAMP:20260421T105057
CREATED:20190124T121810Z
LAST-MODIFIED:20190905T075339Z
UID:21021-1549526400-1549645200@temporada-alta.com
SUMMARY:Cases
DESCRIPTION:Un proyecto de Xesca Salvà\nLos espectadores se sientan delante de la casa\, se ponen los auriculares y empieza la función. Una mezcla de historias reales sobre la memoria\, el amor\, la fragilidad y el cuerpo\, junto a una serie de instrucciones\, conducirán a los espectadores a una experiencia única. Una reivindicación de la intimidad\, donde realidad y ficción\, personas y personajes\, público e intérpretes\, se intercalan.
URL:https://temporada-alta.com/es/espectaculo/cases/
LOCATION:Teatro Timbre 4 de Buenos Aires
CATEGORIES:2019 Iberoamerica
ATTACH;FMTTYPE=image/jpeg:https://temporada-alta.com/wp-content/uploads/3-Casas.jpg
END:VEVENT
BEGIN:VEVENT
DTSTART;TZID=Europe/Madrid:20190207T080000
DTEND;TZID=Europe/Madrid:20190209T170000
DTSTAMP:20260421T105057
CREATED:20190124T121813Z
LAST-MODIFIED:20190905T075726Z
UID:20889-1549526400-1549731600@temporada-alta.com
SUMMARY:Tierra Baja
DESCRIPTION:Lluís Homar viaja a Iberoamérica para presentar el clásico catalán de Guimerà\nAcercamiento actual y contemporáneo a una de las obras más emblemáticas de la literatura catalana. Esta interpretación del clásico de Àngel Guimerà es un proyecto muy personal de Lluís Homar que nos presenta un Tierra baja inédito\, para una sola voz\, asumiendo en solitario todos los papeles de la obra. Esta soledad permite mostrar con mayor claridad la dialéctica que se establece entre la parte “oscura” (Tierra baja) y la parte “pura” (Tierra alta)\, la complejidad\, la contradicción y la lucha interna que se produce en cada uno de nosotros.
URL:https://temporada-alta.com/es/espectaculo/tierra-baja/
LOCATION:Teatro Timbre 4 de Buenos Aires
CATEGORIES:2019 Iberoamerica
ATTACH;FMTTYPE=image/jpeg:https://temporada-alta.com/wp-content/uploads/5-Tierra-baja-Ph-David-Ruano.jpg
END:VEVENT
BEGIN:VEVENT
DTSTART;TZID=Europe/Madrid:20190208T080000
DTEND;TZID=Europe/Madrid:20190208T170000
DTSTAMP:20260421T105057
CREATED:20190124T121812Z
LAST-MODIFIED:20190125T094434Z
UID:21052-1549612800-1549645200@temporada-alta.com
SUMMARY:El mundo por montera
DESCRIPTION:Un show musical-escénico del excéntrico Rodrigo Cuevas\nShow musical-escénico en el cual el artista muestra su universo: un mundo tradicional\, rural\, excéntrico pero también\, urbano\, crítico y tecnológico. Un espectáculo donde hay más folklore\, más música popular y más carcajada\, todo ello enhebrado con calidad musical y vocal.
URL:https://temporada-alta.com/es/espectaculo/el-mundo-por-montera/
LOCATION:Alianza Francesa de Lima
CATEGORIES:2019 Iberoamerica
ATTACH;FMTTYPE=image/jpeg:https://temporada-alta.com/wp-content/uploads/el-mundo-por-montera.jpg
END:VEVENT
BEGIN:VEVENT
DTSTART;TZID=Europe/Madrid:20190208T080000
DTEND;TZID=Europe/Madrid:20190209T170000
DTSTAMP:20260421T105057
CREATED:20190124T121811Z
LAST-MODIFIED:20190125T092657Z
UID:21055-1549612800-1549731600@temporada-alta.com
SUMMARY:Pompeya
DESCRIPTION:Teatro documental dirigido por Rodrigo Soto \nPompeya es una obra que\, desde el mundo del comercio sexual\, habla de marginación\, emigrantes y discriminación. “El travesti es una excusa para hablar de un Chile que trata a su gente como inmigrante en su propia tierra. Somos nosotros mismos excluidos”\, cuenta el director Rodrigo Soto.
URL:https://temporada-alta.com/es/espectaculo/pompeya/
LOCATION:Auditorio ICPNA Miraflores
CATEGORIES:2019 Iberoamerica
ATTACH;FMTTYPE=image/jpeg:https://temporada-alta.com/wp-content/uploads/Pompeya-Jorge-Sánchez-GAM-6.jpg
END:VEVENT
BEGIN:VEVENT
DTSTART;TZID=Europe/Madrid:20190208T080000
DTEND;TZID=Europe/Madrid:20190209T170000
DTSTAMP:20260421T105057
CREATED:20190124T121813Z
LAST-MODIFIED:20190125T092345Z
UID:21027-1549612800-1549731600@temporada-alta.com
SUMMARY:Cheta
DESCRIPTION:Una historia de adolescentes situada en la explosión de la crisis del 2002 en Uruguay\nLa obra es una historia de iniciación\, es el relato de la pérdida de la inocencia de tres adolescentes y un niño. Es también la historia de la pérdida de la inocencia de un país. Una inocencia que parece regenerarse cada algunos años gracias al conveniente olvido. Situada en la explosión de la crisis del 2002 en Uruguay\, esta pieza recorre imágenes de las memorias personales y colectivas de sus protagonistas\, navegando por sus historias para poder relatar la Historia de un país y de un barrio. \n 
URL:https://temporada-alta.com/es/espectaculo/cheta/
LOCATION:Teatro Timbre 4 de Buenos Aires
CATEGORIES:2019 Iberoamerica
ATTACH;FMTTYPE=image/jpeg:https://temporada-alta.com/wp-content/uploads/3-CHETA-Ph-Gonzalo-Nogueira.jpg
END:VEVENT
BEGIN:VEVENT
DTSTART;TZID=Europe/Madrid:20190209T080000
DTEND;TZID=Europe/Madrid:20190210T170000
DTSTAMP:20260421T105057
CREATED:20190124T121813Z
LAST-MODIFIED:20190125T092236Z
UID:21046-1549699200-1549818000@temporada-alta.com
SUMMARY:La intención de las palomas
DESCRIPTION:Una pieza del argentino Fernando Ferrer\nTodos venimos fallados a este mundo. Y eso hace que nos sintamos terriblemente solos. Hasta que descubrimos algo (por más absurdo que parezca) que nos muestra que eso no es tan malo como suena. \nLa historia de Fran y sus palomas es la historia de un chico que entiende que convertirse en adulto es\, necesaria e inevitablemente\, traumático… Y aún así puede ser revelador…
URL:https://temporada-alta.com/es/espectaculo/la-intencion-de-las-palomas/
LOCATION:Sala Verdi de Montevideo
CATEGORIES:2019 Iberoamerica
ATTACH;FMTTYPE=image/jpeg:https://temporada-alta.com/wp-content/uploads/LaIntencionDeLasPalomas.jpg
END:VEVENT
BEGIN:VEVENT
DTSTART;TZID=Europe/Madrid:20190209T080000
DTEND;TZID=Europe/Madrid:20190215T170000
DTSTAMP:20260421T105057
CREATED:20190124T121813Z
LAST-MODIFIED:20190125T091722Z
UID:21006-1549699200-1550250000@temporada-alta.com
SUMMARY:Calma!
DESCRIPTION:Guillem Albà estrena su nuevo espectáculo en Buenos Aires \nUn espectáculo de teatro de creación\, con material completamente nuevo e inédito\, que recoge el color más poético y visual de Pluja y Trau y la locura más festiva y desenfrenada del clown cabaretero de Marabunta. Con el único acompañamiento de un regidor de escena\, y un técnico de sonido e iluminación\, el personaje se mostrará solo ante la audiencia. Guillem jugará con el público durante la hora y cuarto de espectáculo\, haciéndolo partícipe de una experiencia teatral real\, y dándole un papel destacado en el conjunto del show.
URL:https://temporada-alta.com/es/espectaculo/calma/
LOCATION:Teatro Timbre 4 de Buenos Aires
CATEGORIES:2019 Iberoamerica
ATTACH;FMTTYPE=image/jpeg:https://temporada-alta.com/wp-content/uploads/20181211112923-calma.jpg
END:VEVENT
BEGIN:VEVENT
DTSTART;TZID=Europe/Madrid:20190212T080000
DTEND;TZID=Europe/Madrid:20190217T170000
DTSTAMP:20260421T105057
CREATED:20190121T103657Z
LAST-MODIFIED:20190905T080126Z
UID:21025-1549958400-1550422800@temporada-alta.com
SUMMARY:Vida
DESCRIPTION:Javier Aranda presenta una joya del teatro de pequeño formato que se ha llevado multitud de premios en España\nDos manos y el universo de una canasta de costura. Las cosas hechas a mano tienen su propio carácter\, las manos como parte de un ser\, como protagonistas\, como seres especiales que crean movimiento\, emoción y vida. Una canasta a la deriva\, un viaje. De cualquier rincón\, de cualquier canasta emergen brotes de vida: vidas valiosas\, particulares y únicas.
URL:https://temporada-alta.com/es/espectaculo/vida-2/
LOCATION:Teatro Timbre 4 de Buenos Aires
CATEGORIES:2019 Iberoamerica
ATTACH;FMTTYPE=image/jpeg:https://temporada-alta.com/wp-content/uploads/2-vida-Ph-Ana-Jimenez.jpg
END:VEVENT
BEGIN:VEVENT
DTSTART;TZID=Europe/Madrid:20190213T080000
DTEND;TZID=Europe/Madrid:20190214T170000
DTSTAMP:20260421T105057
CREATED:20190124T121811Z
LAST-MODIFIED:20190124T161307Z
UID:21058-1550044800-1550163600@temporada-alta.com
SUMMARY:Hasta el último suspiro
DESCRIPTION:Circo contemporáneo de firma francesa \nEspectáculo de circo contemporáneo donde los personajes aparecen y desaparecen\, desafiando la gravedad\, en la vorágine de la luz y el universo sonoro. Una metamorfosis y una energía delirante\, que enloquece poco a poco al espectador a través de la imaginación.
URL:https://temporada-alta.com/es/espectaculo/hasta-el-ultimo-suspiro/
LOCATION:Gran Teatro Nacional de Lima
CATEGORIES:2019 Iberoamerica
ATTACH;FMTTYPE=image/jpeg:https://temporada-alta.com/wp-content/uploads/Hasta-el-último-suspiro.jpg
END:VEVENT
BEGIN:VEVENT
DTSTART;TZID=Europe/Madrid:20190213T080000
DTEND;TZID=Europe/Madrid:20190219T170000
DTSTAMP:20260421T105057
CREATED:20190124T121812Z
LAST-MODIFIED:20190125T090927Z
UID:21038-1550044800-1550595600@temporada-alta.com
SUMMARY:Prehistoria de la felicidad
DESCRIPTION:Danza y teatro físico dirigido por Alonso Nuñez \nPrehistoria de la felicidad parece hablar del tiempo en que un hombre define su vínculo con el mundo a partir de la relación que tiene originalmente con sus padres pronunciando la idea del “tiempo primitivo” del inconsciente. Sin texto y con un extraño sentido del humor cuestiona los roles que la cultura nos atribuye en la imagen de una familia nuclear representada por tres actores-bailarines. Un ritual de reconciliación para bailar con las inmemoriales fealdades y bellezas de la historia personal.
URL:https://temporada-alta.com/es/espectaculo/prehistoria-de-la-felicidad/
LOCATION:Teatro Timbre 4 de Buenos Aires
CATEGORIES:2019 Iberoamerica
ATTACH;FMTTYPE=image/jpeg:https://temporada-alta.com/wp-content/uploads/8-Prehistoria-de-la-felicidad-Ph-Dante-Rossi.jpg
END:VEVENT
BEGIN:VEVENT
DTSTART;TZID=Europe/Madrid:20190214T080000
DTEND;TZID=Europe/Madrid:20190217T170000
DTSTAMP:20260421T105057
CREATED:20190124T121810Z
LAST-MODIFIED:20190125T090040Z
UID:21327-1550131200-1550422800@temporada-alta.com
SUMMARY:Torneo de Dramaturgia Transatlántico 2019
DESCRIPTION:Dentro de estas dos agitadas semanas de presentaciones artísticas e intercambio cultural\, se realizará el ya conocido y esperado Torneo de Dramaturgia Transatlántico. Este año participarán dos textos que son los ganadores del Torneig de Dramatúrgia de Temporada Alta 2018 y dos textos argentinos (1º y 2º lugar del Primer Torneo de Dramaturgia Argentina\, realizado en Timbre 4 en diciembre del 2018); que a su vez\, fueron seleccionados por el Diplomado de Dramaturgia de la Universidad de Buenos Aires\, UBA. El torneo se desarrolla en una ronda previa clasificatoria donde se leen dos textos y el público\, mediante votación popular\, determina el ganador. \nEl objetivo es motivar y apoyar la escritura teatral\, presentar los textos al público y de este modo poner en contacto para su conocimiento e interacción a dramaturgos de diversas culturas. \n  \nParticipantes: Cristina Clemente\, Marta Arán\, Andrea Marrazzi y Facundo Zilberberg. \nPrimera semifinal: jueves 14 de febrero a las 23.15 h \nSegunda semifinal: viernes 15 de febrero a las 23.15 h \nGran final: domingo 17 de febrero a las 21.00 h
URL:https://temporada-alta.com/es/espectaculo/torneo-de-dramaturgia-2019/
LOCATION:Teatro Timbre 4 de Buenos Aires
CATEGORIES:2019 Iberoamerica
ATTACH;FMTTYPE=image/jpeg:https://temporada-alta.com/wp-content/uploads/20190117100458-.jpg
END:VEVENT
BEGIN:VEVENT
DTSTART;TZID=Europe/Madrid:20190214T080000
DTEND;TZID=Europe/Madrid:20190217T170000
DTSTAMP:20260421T105057
CREATED:20190124T121812Z
LAST-MODIFIED:20190125T084209Z
UID:21040-1550131200-1550422800@temporada-alta.com
SUMMARY:El tigre no es como lo pintan
DESCRIPTION:Una adaptación libre de la historia de Dario Fo con actuación y dirección del colombiano Alfonso Ortiz\nEs una historia de Dario Fo (Premio Nobel de literatura 1997) que recoge de un cuentero chino. Un relato fantástico con valores sobre los afectos\, la sociedad y la política\, utilizando elementos de la narración oral. Esta versión es una adaptación libre y espontánea con el objetivo de volverla universal\, ya que lo que cuenta la historia en su mundo metafórico analógico e imaginario\, puede estar sucediendo en cualquier lugar del planeta tierra.
URL:https://temporada-alta.com/es/espectaculo/el-tigre-no-es-como-lo-pintan/
LOCATION:Teatro Timbre 4 de Buenos Aires
CATEGORIES:2019 Iberoamerica
ATTACH;FMTTYPE=image/jpeg:https://temporada-alta.com/wp-content/uploads/ElTigreNoEsComoLoPintan.jpg
END:VEVENT
BEGIN:VEVENT
DTSTART;TZID=Europe/Madrid:20190215T080000
DTEND;TZID=Europe/Madrid:20190216T170000
DTSTAMP:20260421T105057
CREATED:20190124T121812Z
LAST-MODIFIED:20190125T083407Z
UID:21042-1550217600-1550336400@temporada-alta.com
SUMMARY:Mondkind
DESCRIPTION:Teatro performativo para todos los públicos\nTeatro performance sobre “ser diferente” para un público de 9 a 100 años. Mondkind cuenta la historia de un ser que llega a la Tierra desde la Luna y debe enfrentar la tarea de integrarse en un nuevo espacio tiempo\, en un nuevo planeta\, con un sistema diferente en el que creció. Se abordan los tópicos: migración\, identidad y pertenencia. Un espectáculo que entrelaza actuación\, teatro de objetos\, sombras y música.
URL:https://temporada-alta.com/es/espectaculo/mondkind/
LOCATION:Teatro Timbre 4 de Buenos Aires
CATEGORIES:2019 Iberoamerica
ATTACH;FMTTYPE=image/jpeg:https://temporada-alta.com/wp-content/uploads/Mondkind.jpg
END:VEVENT
BEGIN:VEVENT
DTSTART;TZID=Europe/Madrid:20190215T080000
DTEND;TZID=Europe/Madrid:20190216T170000
DTSTAMP:20260421T105057
CREATED:20190124T121812Z
LAST-MODIFIED:20190125T083525Z
UID:21044-1550217600-1550336400@temporada-alta.com
SUMMARY:Tu veneno en mí
DESCRIPTION:Una creación colectiva con dirección de Manuel García Migani\nDe pronto sentí el río en mí\, corría en mí con sus orillas trémulas de señas\, con sus hondos reflejos apenas estrellados.  Corría el río en mí con sus ramajes. Era yo un río en el anochecer\, y suspiraban en mí los árboles\, y el sendero y las hierbas se apagaban en mí. Me atravesaba un río\, y se lo llevaba todo. Me atravesaba un río y se apagaba todo lo tuyo en mí.
URL:https://temporada-alta.com/es/espectaculo/tu-veneno-en-mi/
LOCATION:Teatro Timbre 4 de Buenos Aires
CATEGORIES:2019 Iberoamerica
ATTACH;FMTTYPE=image/jpeg:https://temporada-alta.com/wp-content/uploads/5-Tu-veneno-en-mí-Ph-Leando-Fernandez.jpg
END:VEVENT
BEGIN:VEVENT
DTSTART;TZID=Europe/Madrid:20190216T080000
DTEND;TZID=Europe/Madrid:20190217T170000
DTSTAMP:20260421T105057
CREATED:20190124T121811Z
LAST-MODIFIED:20190125T082744Z
UID:21060-1550304000-1550422800@temporada-alta.com
SUMMARY:10 miniballetti
DESCRIPTION:Danza experimental y queer\nEs una exploración basada en un cuaderno de notas de la infancia de la coreógrafa italiana Francesca Pennini. En esta máquina de tiempo\, hay un espacio para cada parte de la memoria\, pero también para lógica de los gestos\, la cibernética\, la teoría del caos\, la aplicación de la teoría queer\, y\, la más importante\, una genial ironía que rodea todo.
URL:https://temporada-alta.com/es/espectaculo/10-miniballetti/
LOCATION:Alianza Francesa de Lima
CATEGORIES:2019 Iberoamerica
ATTACH;FMTTYPE=image/jpeg:https://temporada-alta.com/wp-content/uploads/10-miniballetti.jpg
END:VEVENT
BEGIN:VEVENT
DTSTART;TZID=Europe/Madrid:20190218T080000
DTEND;TZID=Europe/Madrid:20190219T170000
DTSTAMP:20260421T105057
CREATED:20190124T121811Z
LAST-MODIFIED:20190125T082605Z
UID:21063-1550476800-1550595600@temporada-alta.com
SUMMARY:Yo tenía un plan
DESCRIPTION:Una experiencia emocional diferente a todo\nLa vida no es la que uno vivió\, sino la que uno recuerda. Y cómo la recuerda para contarla. La abuela de Zulu quería que él fuera obispo. La abuela de Emi\, que la llamaran para hacer papeles de princesa. Pero su plan\, ¿cuál era?
URL:https://temporada-alta.com/es/espectaculo/yo-tenia-un-plan/
LOCATION:Alianza Francesa de Lima
CATEGORIES:2019 Iberoamerica
ATTACH;FMTTYPE=image/jpeg:https://temporada-alta.com/wp-content/uploads/yo-tenia-un-plan.jpg
END:VEVENT
BEGIN:VEVENT
DTSTART;TZID=Europe/Madrid:20190220T080000
DTEND;TZID=Europe/Madrid:20190221T170000
DTSTAMP:20260421T105057
CREATED:20190124T121811Z
LAST-MODIFIED:20190125T082228Z
UID:21067-1550649600-1550768400@temporada-alta.com
SUMMARY:Altrove
DESCRIPTION:Teatro físico para combatir el estigma de la discapacidad\n\nAlessandro Schiattarella crea un lenguaje a partir de sus limitaciones físicas. Su estrategia es entender\, explorar y recrear su discapacidad no como una enfermedad\, sino como un cuerpo “nuevo” con potencial propio. Altrove inyecta la discapacidad a la danza contemporánea popular y combate al mismo tiempo el estigma y la discriminación.
URL:https://temporada-alta.com/es/espectaculo/altrove/
LOCATION:Lugar de la Memoria
CATEGORIES:2019 Iberoamerica
ATTACH;FMTTYPE=image/jpeg:https://temporada-alta.com/wp-content/uploads/Altrove.jpg
END:VEVENT
BEGIN:VEVENT
DTSTART;TZID=Europe/Madrid:20190220T080000
DTEND;TZID=Europe/Madrid:20190221T170000
DTSTAMP:20260421T105057
CREATED:20190124T121811Z
LAST-MODIFIED:20190124T160858Z
UID:21065-1550649600-1550768400@temporada-alta.com
SUMMARY:Santiago Amoukalli
DESCRIPTION:Teatro documental con la firma de Lagartijas Tiradas al Sol \nEsta historia transcurre en un tiempo convulso\, en un país con fiebre\, a personas temblorosas y en un lugar que tal vez no haya existido jamás. Intenta cuestionar cómo se implementa “la democracia mexicana” en un ámbito específico\, en una comunidad específica que tiene su historia\, su contexto\, su alto nivel de marginación.
URL:https://temporada-alta.com/es/espectaculo/santiago-amoukalli/
LOCATION:Alianza Francesa de Lima
CATEGORIES:2019 Iberoamerica
ATTACH;FMTTYPE=image/jpeg:https://temporada-alta.com/wp-content/uploads/santiago-amoukalli.jpg
END:VEVENT
BEGIN:VEVENT
DTSTART;VALUE=DATE:20190223
DTEND;VALUE=DATE:20190225
DTSTAMP:20260421T105057
CREATED:20190124T121810Z
LAST-MODIFIED:20190124T145907Z
UID:21072-1550880000-1551052799@temporada-alta.com
SUMMARY:Solo cosas geniales
DESCRIPTION:Escrita por el dramaturgo británico Duncan Macmillan\n \nSolo Cosas Geniales es una experiencia única e inolvidable que te permite recorrer de la mano de una notable actriz (Norma Martínez) una historia aparentemente sencilla\, pero que ofrece profundidad y hondura al recordarnos lo que somos capaces de hacer por las personas que amamos. Un acercamiento luminosa a la depresión.
URL:https://temporada-alta.com/es/espectaculo/solo-cosas-geniales/
LOCATION:Alianza Francesa de Lima
CATEGORIES:2019 Iberoamerica
ATTACH;FMTTYPE=image/jpeg:https://temporada-alta.com/wp-content/uploads/Solo-cosas-geniales.jpg
END:VEVENT
BEGIN:VEVENT
DTSTART;TZID=Europe/Madrid:20190226T000000
DTEND;TZID=Europe/Madrid:20190226T235900
DTSTAMP:20260421T105057
CREATED:20120823T160256Z
LAST-MODIFIED:20190221T130109Z
UID:24968-1551139200-1551225540@temporada-alta.com
SUMMARY:Punto de información
DESCRIPTION:En el Cafè Savoy (Hotel Peninsular) del 18 de septiembre al 7 de diciembre\n\n	Temporada Alta os ofrecerá durante el festival un espacio donde os atenderemos para daros información sobre los espectáculos y la programación\, orientados sobre el funcionamiento del nuevo sistema de venta de entradas online y donde podréis recoger el Programa Oficial del Festival. \n	Miembros del equipo de organización del Festival\, directores y algunos de los actores de las compañías participantes sacarán la cabeza para conversar con los compradores y el público. \n	Atención presencial de 11h a 13h y de 17h a 20h \n	Con el apoyo de: HamletStore \n	Con la colaboración de: Café Savoy
URL:https://temporada-alta.com/es/espectaculo/punto-de-informacin/
LOCATION:Casino de Girona
CATEGORIES:2012
ATTACH;FMTTYPE=image/jpeg:https://temporada-alta.com/wp-content/uploads/activitatparalela_puntinfo.jpg
END:VEVENT
BEGIN:VEVENT
DTSTART;TZID=Europe/Madrid:20190226T000000
DTEND;TZID=Europe/Madrid:20190226T235900
DTSTAMP:20260421T105057
CREATED:20130829T115419Z
LAST-MODIFIED:20190221T130511Z
UID:25417-1551139200-1551225540@temporada-alta.com
SUMMARY:Bhum 3!
DESCRIPTION:Human Boundary Manifest (Manifest frontera humana)\n\n	5 de octubre a las 5 de la tarde \n \n\n	L’animal Tardor es el paraguas que acoge las actividades que l’Animal a l’esquena propone durante los meses de septiembre y octubre.\n	Más información \n \n\n	 \n \n\n	A la nave de L’animal a l’esquena\n \n\n	GUS de Baró d’Evel (Francia-Cataluña). Un laboratorio en el que Baró d’Evel Cirk propone seguir con un trabajo de transformaciones en el que el animal y el humano se confunden\, así como profundizar en la diversidad de lenguajes y en el movimiento y la materia. \n \n\n	La veu del cos d’Alia Sellami (Túnez). Taller-Laboratorio dirigido a intérpretes y cantantes. Sellami es compositora e intérprete de música clásica\, árabe\, jazz y contemporánea y pedagoga en la Universidad y en el Conservatorio Superior de Música de Túnez. \n \n\n	Solo on Bach & Glenn Federica Porello (Italia) improvisa sobre la estructura coreográfica de Albert Quesada (Cataluña-Bélgica)\, desde las Goldberg Variations a fragmentos de conversaciones en las que el pianista explica su lectura de la obra de Bach. \n \n\n	 \n \n\n	En el interior de Mas Espolla\n \n\n	Xavi Bobés\, (Cataluña) artista en residencia durante el año 2013\, nos presenta una pequeña muestra de su trabajo y Núria Font/NU2’s (Cataluña)\, realizadora de vídeo\, comisaria y colaboradora de L’animal a l’esquena\, nos propone un programa de vídeos. \n \n\n	  \n \n\n	A l’entorn del Mas Espolla \n \n\n	Intervenciones. Presentaciones cortas de artistas vinculados al programa de creación y residencias de L’animal como Noemí Bouissou\, Blaï Mateu\, Jonas Juilland\, Piero Steiner\, Taxecs\, entre otros. \n \n\n	Fiesta Bhum! con música en directo y otras sorpresas\, DJ\, bar…hasta la madrugada. \n \n\n	Horarios i programación complerta \n	  \n \n\n	Talleres\n \n\n	Inscripciones \n \n\n	Mal Pelo El silenci i la possibilitat d’imaginar. \n \n\n	16-20 septiembre y 7 -11 de octubre \n \n\n	Alia Sellami (Túnez) La veu del cos. \n \n\n	30 septiembre al 5 de octubre \n \n\n	  \n \n\n	* Programa diseñado y producido por L’animal a l’esquena con el apoyo de Temporada Alta \n \n\n	* Todas las actividades son gratuitas a excepción de los talleres.
URL:https://temporada-alta.com/es/espectaculo/bhum-3/
CATEGORIES:2013
ATTACH;FMTTYPE=image/jpeg:https://temporada-alta.com/wp-content/uploads/robot-bhum-ta-1.jpg
END:VEVENT
END:VCALENDAR