BEGIN:VCALENDAR
VERSION:2.0
PRODID:-//Temporada Alta - ECPv6.15.17//NONSGML v1.0//EN
CALSCALE:GREGORIAN
METHOD:PUBLISH
X-WR-CALNAME:Temporada Alta
X-ORIGINAL-URL:https://temporada-alta.com/es/
X-WR-CALDESC:Eventos para Temporada Alta
REFRESH-INTERVAL;VALUE=DURATION:PT1H
X-Robots-Tag:noindex
X-PUBLISHED-TTL:PT1H
BEGIN:VTIMEZONE
TZID:Europe/Madrid
BEGIN:DAYLIGHT
TZOFFSETFROM:+0100
TZOFFSETTO:+0200
TZNAME:CEST
DTSTART:20190331T010000
END:DAYLIGHT
BEGIN:STANDARD
TZOFFSETFROM:+0200
TZOFFSETTO:+0100
TZNAME:CET
DTSTART:20191027T010000
END:STANDARD
BEGIN:DAYLIGHT
TZOFFSETFROM:+0100
TZOFFSETTO:+0200
TZNAME:CEST
DTSTART:20200329T010000
END:DAYLIGHT
BEGIN:STANDARD
TZOFFSETFROM:+0200
TZOFFSETTO:+0100
TZNAME:CET
DTSTART:20201025T010000
END:STANDARD
BEGIN:DAYLIGHT
TZOFFSETFROM:+0100
TZOFFSETTO:+0200
TZNAME:CEST
DTSTART:20210328T010000
END:DAYLIGHT
BEGIN:STANDARD
TZOFFSETFROM:+0200
TZOFFSETTO:+0100
TZNAME:CET
DTSTART:20211031T010000
END:STANDARD
END:VTIMEZONE
BEGIN:VEVENT
DTSTART;TZID=Europe/Madrid:20200205T080000
DTEND;TZID=Europe/Madrid:20200207T233000
DTSTAMP:20260419T222544
CREATED:20200114T110221Z
LAST-MODIFIED:20200120T095532Z
UID:49853-1580889600-1581118200@temporada-alta.com
SUMMARY:Finir en beauté / Bello final
DESCRIPTION:Mohamed El Khatib reconstruye un tipo de diario escrito a partir del día en que murió su madre\nSiempre interesado en el documento como activo escénico\, como herramienta\, El-Khatib reconstruye un tipo de diario escrito a partir del día en que murió su madre. Empezó como un trabajo de inmersión en la memoria para volver a visitar lugares y espacios de su vida. Todos estos recuerdos cobran vida en escena sin intermediarios entre el autor\, su vida\, su escritura y el público. Creada en octubre de 2014 en el Festival de Marseille\, la obra ha participado en diferentes festivales de teatro en Francia y en el extranjero.
URL:https://temporada-alta.com/es/espectaculo/finir-en-beaute-bello-final-iberoamerica/
LOCATION:Teatro Timbre 4 de Buenos Aires
CATEGORIES:2020 Iberoamérica
ATTACH;FMTTYPE=image/jpeg:https://temporada-alta.com/wp-content/uploads/finirenbeaute.jpg
END:VEVENT
BEGIN:VEVENT
DTSTART;TZID=Europe/Madrid:20200205T080000
DTEND;TZID=Europe/Madrid:20200208T170000
DTSTAMP:20260419T222544
CREATED:20200114T120244Z
LAST-MODIFIED:20200120T095738Z
UID:49891-1580889600-1581181200@temporada-alta.com
SUMMARY:Hay que tirar las vacas por el barranco
DESCRIPTION:Una adaptación teatral del libro Voces del laberinto\, del periodista español Ricard Ruiz Garzón\nUna recopilación de quince testimonios de pacientes afectados de esquizofrenia y sus familiares. En la obra\, diferentes monólogos recorren el proceso de la enfermedad\, des de los primeros brotes hasta la recuperación o la muerte\, con tal de intentar aclarar los estigmas\, mitos y prejuicios sobre este daño. “A veces el teatro necesita desnudarse de sí mismo\, de sus mecanismos más elementales\, para poder hablar de ciertas realidades”\, dicen sus creadores\, la compañía venezolana La Caja de Fósforos\, que quieren hablar de la esquizofrenia porque es una enfermedad que hiere la comunicación y afecta a la relación con los demás. “Escuchando a los pacientes víctimas de la enfermedad; escuchando a los familiares víctimas de la enfermedad a través de voces concretas\, bajo un arreglo artístico mínimo\, si pura y humana desesperación\, quizás podamos romper las barreras que nos impiden ver en estos seres nuestros propios miedos y angustias\, y compartir un mismo espacio mental: el espacio de aquello que es humano”.
URL:https://temporada-alta.com/es/espectaculo/hay-que-tirar-las-vacas-por-el-barranco-iberoamerica/
LOCATION:Teatro Timbre 4 de Buenos Aires
CATEGORIES:2020 Iberoamérica
ATTACH;FMTTYPE=image/jpeg:https://temporada-alta.com/wp-content/uploads/vacasbarranco.jpg
END:VEVENT
BEGIN:VEVENT
DTSTART;TZID=Europe/Madrid:20200205T080000
DTEND;TZID=Europe/Madrid:20200214T170000
DTSTAMP:20260419T222544
CREATED:20200113T154309Z
LAST-MODIFIED:20200120T095343Z
UID:49734-1580889600-1581699600@temporada-alta.com
SUMMARY:A.K.A (Also Known as)
DESCRIPTION:Un auténtico fenómeno teatral que ha conseguido los principales premios del país. Teatro comprometido sobre el racismo\, la identidad y las redes sociales\nGanador en los Mac\, en los Butaca y en los Premis de la Crítica\, A.K.A. ha sido uno de los fenómenos teatrales del año. Un auténtico éxito de público y crítica que ha conseguido acercar los jóvenes al teatro. Un montaje\, escrito por Daniel J. Meyer —que se ha formado como ayudante de dirección de Àngel Llàcer— y dirigido por Montse Rodríguez\, explica la historia de Carlos\, un adolescente adoptado que ve como sus fundamentos comienzan a tambalearse. Somos quienes sentimos que somos o quien la gente cree que somos? Una obra comprometida y de ritmo trepidante sobre el racismo\, la identidad\, las redes sociales y la importancia de los amigos y del primer amor.
URL:https://temporada-alta.com/es/espectaculo/a-k-a-also-known-as-iberoamerica/
LOCATION:Teatro Timbre 4 de Buenos Aires
CATEGORIES:2020 Iberoamérica
ATTACH;FMTTYPE=image/jpeg:https://temporada-alta.com/wp-content/uploads/akawebona.jpg
END:VEVENT
BEGIN:VEVENT
DTSTART;TZID=Europe/Madrid:20200206T080000
DTEND;TZID=Europe/Madrid:20200207T170000
DTSTAMP:20260419T222544
CREATED:20200114T103016Z
LAST-MODIFIED:20200120T095821Z
UID:49814-1580976000-1581094800@temporada-alta.com
SUMMARY:Colección de amantes
DESCRIPTION:Un montaje sobre el universo de las relaciones humanas\nRaquel colecciona cosas raras. Entre Lisboa\, Ponta Delgada\, Río de Janeiro\, Loulé\, Minde\, Paredes de Coura\, Sever do Vouga\, Ovar\, Manaos\, Barreiro\, Bergen\, Stavanger\, Oslo\, Varsovia\, Cincinnati\, Portland y Guimarães\, coleccionó 184 amantes (hasta octubre de 2018). En cuada ciudad por la que viaja\, colecciona más amantes\, y su colección va acumulando las nuevos encuentros. 
URL:https://temporada-alta.com/es/espectaculo/coleccion-de-amantes/
LOCATION:Teatro Timbre 4 de Buenos Aires
CATEGORIES:2020 Iberoamérica
ATTACH;FMTTYPE=image/jpeg:https://temporada-alta.com/wp-content/uploads/colecionamantes.jpg
END:VEVENT
END:VCALENDAR