BEGIN:VCALENDAR
VERSION:2.0
PRODID:-//Temporada Alta - ECPv6.15.17//NONSGML v1.0//EN
CALSCALE:GREGORIAN
METHOD:PUBLISH
X-WR-CALNAME:Temporada Alta
X-ORIGINAL-URL:https://temporada-alta.com/es/
X-WR-CALDESC:Eventos para Temporada Alta
REFRESH-INTERVAL;VALUE=DURATION:PT1H
X-Robots-Tag:noindex
X-PUBLISHED-TTL:PT1H
BEGIN:VTIMEZONE
TZID:Europe/Madrid
BEGIN:DAYLIGHT
TZOFFSETFROM:+0100
TZOFFSETTO:+0200
TZNAME:CEST
DTSTART:20190331T010000
END:DAYLIGHT
BEGIN:STANDARD
TZOFFSETFROM:+0200
TZOFFSETTO:+0100
TZNAME:CET
DTSTART:20191027T010000
END:STANDARD
BEGIN:DAYLIGHT
TZOFFSETFROM:+0100
TZOFFSETTO:+0200
TZNAME:CEST
DTSTART:20200329T010000
END:DAYLIGHT
BEGIN:STANDARD
TZOFFSETFROM:+0200
TZOFFSETTO:+0100
TZNAME:CET
DTSTART:20201025T010000
END:STANDARD
BEGIN:DAYLIGHT
TZOFFSETFROM:+0100
TZOFFSETTO:+0200
TZNAME:CEST
DTSTART:20210328T010000
END:DAYLIGHT
BEGIN:STANDARD
TZOFFSETFROM:+0200
TZOFFSETTO:+0100
TZNAME:CET
DTSTART:20211031T010000
END:STANDARD
END:VTIMEZONE
BEGIN:VEVENT
DTSTART;TZID=Europe/Madrid:20200201T080000
DTEND;TZID=Europe/Madrid:20200202T233000
DTSTAMP:20260419T151133
CREATED:20200114T150350Z
LAST-MODIFIED:20200120T083059Z
UID:49977-1580544000-1580686200@temporada-alta.com
SUMMARY:Perdón
DESCRIPTION:Una comedia alrededor del sentimiento de culpa en las relaciones humanas\nEl nuevo espectáculo del Duo Sutottos muestra el reencuentro de dos amigos de la infancia que se transforma en una disputa permanente entre sus egos\, reclamos del pasado y frustraciones de éste. Volver a verse saca a la luz las manipulaciones y miserias más profundas\, en un intento constante para escapar de los vínculos de la infancia. Lo que fue y ya no es\, lo que vuelve para ser distinto. En el plano ficcional\, el discurso de los personajes es de carácter repetitivo\, el reproche y la manipulación funcionan como un mecanismo que se vuelve sobre sí mismo. Este carácter cíclico tiene como voluntad poner de manifiesto el hecho de que estos personajes no pueden escapar de su pasado\, condenados a vivir siempre las mismas discusiones. El territorio vincular los mantiene atrapados en un intento fallido para volver a la infancia. Los recuerdos que los unen no son suficientes para volver a ser lo que una vez fueron.
URL:https://temporada-alta.com/es/espectaculo/perdon-iberoamerica/
LOCATION:Teatro Timbre 4 de Buenos Aires
CATEGORIES:2020 Iberoamérica
ATTACH;FMTTYPE=image/jpeg:https://temporada-alta.com/wp-content/uploads/perdon.jpg
END:VEVENT
END:VCALENDAR