BEGIN:VCALENDAR
VERSION:2.0
PRODID:-//Temporada Alta - ECPv6.15.17//NONSGML v1.0//EN
CALSCALE:GREGORIAN
METHOD:PUBLISH
X-WR-CALNAME:Temporada Alta
X-ORIGINAL-URL:https://temporada-alta.com/es/
X-WR-CALDESC:Eventos para Temporada Alta
REFRESH-INTERVAL;VALUE=DURATION:PT1H
X-Robots-Tag:noindex
X-PUBLISHED-TTL:PT1H
BEGIN:VTIMEZONE
TZID:Europe/Madrid
BEGIN:DAYLIGHT
TZOFFSETFROM:+0100
TZOFFSETTO:+0200
TZNAME:CEST
DTSTART:20180325T010000
END:DAYLIGHT
BEGIN:STANDARD
TZOFFSETFROM:+0200
TZOFFSETTO:+0100
TZNAME:CET
DTSTART:20181028T010000
END:STANDARD
BEGIN:DAYLIGHT
TZOFFSETFROM:+0100
TZOFFSETTO:+0200
TZNAME:CEST
DTSTART:20190331T010000
END:DAYLIGHT
BEGIN:STANDARD
TZOFFSETFROM:+0200
TZOFFSETTO:+0100
TZNAME:CET
DTSTART:20191027T010000
END:STANDARD
BEGIN:DAYLIGHT
TZOFFSETFROM:+0100
TZOFFSETTO:+0200
TZNAME:CEST
DTSTART:20200329T010000
END:DAYLIGHT
BEGIN:STANDARD
TZOFFSETFROM:+0200
TZOFFSETTO:+0100
TZNAME:CET
DTSTART:20201025T010000
END:STANDARD
END:VTIMEZONE
BEGIN:VEVENT
DTSTART;TZID=Europe/Madrid:20191104T000000
DTEND;TZID=Europe/Madrid:20191209T235959
DTSTAMP:20260421T105057
CREATED:20190802T094512Z
LAST-MODIFIED:20191209T220003Z
UID:38799-1572825600-1575935999@temporada-alta.com
SUMMARY:IX Torneig de Dramatúrgia
DESCRIPTION:Uno de los eventos más populares del Festival. Ocho dramaturgos suben al ring a fin de que el público escoja el texto ganador\nVuelve el enfrentamiento teatral más celebrado del festival: el gran combate de la dramaturgia catalana. Un ring en el qué los boxeadores substituyen los puños por el texto. El Torneo de Dramaturgia se celebra por noveno año consecutivo y enfrontará cordialmente los textos de ocho dramaturgos de expresión catalana. Cómo cada año\, el público decidirá el mejor texto de cada combate y el ganador final. El enfrentamiento se ha exportado a las Islas Baleares\, el País Valenciano\, Madrid o América del Sur\, y entre los premiados de las ediciones catalanas anteriores está Jordi Galceran —con El crèdit\, que ahora triunfa en París —\, Jordi Oriol o Cristina Clemente. \n 
URL:https://temporada-alta.com/es/espectaculo/ix-torneig-de-dramaturgia/
LOCATION:Sala La Planeta
CATEGORIES:2019,Popular,Popularidad,Sonoro,Teatro
ATTACH;FMTTYPE=image/jpeg:https://temporada-alta.com/wp-content/uploads/TorneigDeDramaturgia_destacada.jpg
END:VEVENT
BEGIN:VEVENT
DTSTART;TZID=Europe/Madrid:20191123T000000
DTEND;TZID=Europe/Madrid:20191123T235959
DTSTAMP:20260421T105057
CREATED:20190411T151040Z
LAST-MODIFIED:20191123T183009Z
UID:34944-1574467200-1574553599@temporada-alta.com
SUMMARY:El Petit Príncep
DESCRIPTION:Uno de los musicales catalanes más aplaudido\, premiado y querido. Una obra para toda la familia que ya ha seducido a 200.000 espectadores\nYa es la quinta temporada que el muchacho de pelo rubio y sabiduría camuflada canta sobre el escenario. Aplaudido\, premiado y amado por más de 200.000 espectadores\, vuelve el musical que Ángel Llacer y Manu Guix han construido a partir de la obra de Saint-Exupéry. Un universo poético que cuestiona las convenciones del mundo adulto e invita a remirar el mundo con magia y aventura. Una propuesta con un diseño audiovisual que nos sumerge de lleno en la historia. Un musical repleto de alegorías sobre la importancia de cuidar la curiosidad y el juego. Una lección para adultos y aviadores. Un cuento clásico que está a punto de convertirse en un clásico\, también\, de los musicales de nuestro país. \n 
URL:https://temporada-alta.com/es/espectaculo/el-petit-princep-2019/
LOCATION:Auditori de Girona
CATEGORIES:2019,En familia,Etiquetas internas,Música,Nuevas funciones,Popular,Popularidad,Sonoro,Teatro
ATTACH;FMTTYPE=image/jpeg:https://temporada-alta.com/wp-content/uploads/ElPetitPrincep_c_DavidRuano_.jpg
END:VEVENT
BEGIN:VEVENT
DTSTART;TZID=Europe/Madrid:20191123T000000
DTEND;TZID=Europe/Madrid:20191123T235959
DTSTAMP:20260421T105057
CREATED:20190724T100040Z
LAST-MODIFIED:20191124T223015Z
UID:37419-1574467200-1574553599@temporada-alta.com
SUMMARY:Una gossa en un descampat
DESCRIPTION:Una de las obras revelación y Premio de la Crítica 2018. Verdad y humor para contar una historia autobiográfica sobre la muerte perinatal\nJúlia y Pau esperan un niño. Ella está de cinco meses cuando el embarazo se complica. Llegan al hospital esperando que les digan que el dolor de barriga es normal\, pero se quedan ingresados. En una semana deberán hacerse a la idea de que pierden su hijo. Una gossa en un descampat\, de la bañolense Clàudia Cedó\, es una historia autobiográfica de superación\, un thriller trepidante y un acto de profunda verdad interpretado por Míriam Monlleó y Maria Rodríguez. Una obra vitalista que\, por méritos propios\, se convirtió en la gran ganadora de los Premios de la Crítica 2018 y en una de las obras revelación de la temporada pasada. \n 
URL:https://temporada-alta.com/es/espectaculo/una-gossa-en-un-descampat/
LOCATION:Teatre Municipal de Banyoles
CATEGORIES:2019,Popular,Popularidad,Teatro
ATTACH;FMTTYPE=image/jpeg:https://temporada-alta.com/wp-content/uploads/gossa_destacada.jpg
END:VEVENT
BEGIN:VEVENT
DTSTART;TZID=Europe/Madrid:20191123T000000
DTEND;TZID=Europe/Madrid:20191123T235959
DTSTAMP:20260421T105057
CREATED:20190730T143641Z
LAST-MODIFIED:20191123T183015Z
UID:37440-1574467200-1574553599@temporada-alta.com
SUMMARY:Prefunción 'Una costilla sobre la mesa. Madre'
DESCRIPTION:Contextualiza este espectáculo de una de las creadoras más reconocidas a nivel europeo\nDe la mano de un crítico de Recomana\, descubre el imaginario de Angelica Liddell y prepárate para el espectáculo que verás. Una costilla sobre la mesa. Madre es un espectáculo poético\, físico y visceral. Así es el teatro de Angelica Liddell\, una de las creadoras más irreverentes e inclasificables del panorama actual. \n  \nOrganitza:       \nDinamitza:
URL:https://temporada-alta.com/es/espectaculo/pre-funcion-una-costilla-sobre-la-mesa-madre/
LOCATION:Teatre Municipal de Girona\, Espanya
CATEGORIES:Actividades,Etiquetas internas,Pre-funciones
ATTACH;FMTTYPE=image/jpeg:https://temporada-alta.com/wp-content/uploads/UnaCostillaSobreLaMesa_CAST.jpg
END:VEVENT
BEGIN:VEVENT
DTSTART;TZID=Europe/Madrid:20191123T000000
DTEND;TZID=Europe/Madrid:20191123T235959
DTSTAMP:20260421T105057
CREATED:20190802T094506Z
LAST-MODIFIED:20191123T123008Z
UID:38802-1574467200-1574553599@temporada-alta.com
SUMMARY:Retrospective
DESCRIPTION:Una película de uno de los más destacados coreógrafos europeos. A partir de sus piezas más significativas reflexiona sobre la dimensión política de la danza\nRevisar su trayectoria artística para adivinar qué le continuaba interesando de los 19 montajes realizados hasta ahora. Es lo que se propone el popular bailarín y coreógrafo francés Jérôme Bel\, una de las figuras más importantes de la danza europea\, en su 20a propuesta: Retrospective. Una película dónde enfrenta el pasado de sus espectáculos mientras reflexiona sobre la dimensión política de la danza. 18 fragmentos extraídos de sus montajes más significativos\, como Gala o The show must go on\, que sirven para construir su particular visión del mundo de la danza. También para hacer una declaración de defensa del medio ambiente: la compañía ya no viajará en avión por razones ecológicas. El vídeo será su medio para llegar a todos los rincones del mundo. \nPor razones ecológicas\, la compañía R.B / Jérôme Bel ya no viaja en avión. El medio de vídeo de Retrospective permite sin embargo su gira mundial. \n 
URL:https://temporada-alta.com/es/espectaculo/retrospective/
LOCATION:Sala Truffaut (Cinemes Albéniz Plaça)
CATEGORIES:2019,Cicle Cine i Escena,Cine,Danza,Etiquetas internas,Internacional,No popular,Popularidad,Sobretítulos,Visual
ATTACH;FMTTYPE=image/jpeg:https://temporada-alta.com/wp-content/uploads/Retrospective_destacada.jpg
END:VEVENT
BEGIN:VEVENT
DTSTART;TZID=Europe/Madrid:20191123T000000
DTEND;TZID=Europe/Madrid:20191123T235959
DTSTAMP:20260421T105057
CREATED:20190802T094539Z
LAST-MODIFIED:20191124T223012Z
UID:37074-1574467200-1574553599@temporada-alta.com
SUMMARY:Una costilla sobre la mesa. Madre
DESCRIPTION:Un réquiem para la madre de una de las creadoras más personales e inclasificables. Dolor transformado en poesía con banda sonora de Niño de Elche\nPoético\, físico y visceral. Así es el teatro de Angélica Liddell\, una de las creadoras más irreverentes e inclasificables del panorama actual y de más proyección internacional. Ahora vuelve a Temporada Alta para presentar su nuevo montaje: un réquiem a su madre\, fallecida en el año 2018. Una oración teatral\, una explosión de culpa y expiación dónde Liddell expresa su amor y\, a la vez\, todo su dolor convirtiendo aquello sublime en sufrimiento. Y todo\, acompañado de una banda sonora creada e interpretada en directo por otro provocador: el cantaor Niño de Elche. No dejará a nadie indiferente. \n 
URL:https://temporada-alta.com/es/espectaculo/una-costilla-sobre-la-mesa-madre/
LOCATION:Teatre Municipal de Girona\, Espanya
CATEGORIES:2019,Etiquetas internas,Internacional,Jóvenes,No popular,Popularidad,Sobretítulos,Teatro
ATTACH;FMTTYPE=image/jpeg:https://temporada-alta.com/wp-content/uploads/UnaCostillaMadre_destacada.jpg
END:VEVENT
BEGIN:VEVENT
DTSTART;TZID=Europe/Madrid:20191123T000000
DTEND;TZID=Europe/Madrid:20191123T235959
DTSTAMP:20260421T105057
CREATED:20190802T094540Z
LAST-MODIFIED:20191124T223013Z
UID:39190-1574467200-1574553599@temporada-alta.com
SUMMARY:Veus que no veus
DESCRIPTION:La payasa catalana ha decidido alterar la tradición del circo en clave femenina\nCada vez hay más mujeres que se ponen la nariz roja\, pero qué pasa cuando se montan los nombrados números de payasos clásicos no con payasos\, sino con payasas? Pepa Plana\, una de las grandes payasas catalanas\, ha decidido trastocar la tradición del circo. Dirigido por Joan Arqué\, Veus que no veus es un montaje donde Plana y Noël Olivé subvierten los números clásicos para revivir la tradición más payasa en clave de mujer\, intercalando entre los números de siempre la historia de unas artistas que viven en un mundo de hombres. Humor y poesía en un espectáculo dónde las protagonistas juegan\, pero también muerden. \n 
URL:https://temporada-alta.com/es/espectaculo/veus-que-no-veus/
LOCATION:Teatre de Bescanó
CATEGORIES:2019,Circo,Popular,Popularidad
ATTACH;FMTTYPE=image/jpeg:https://temporada-alta.com/wp-content/uploads/VeusQueNoVeus_destacada.jpg
END:VEVENT
BEGIN:VEVENT
DTSTART;TZID=Europe/Madrid:20191123T000000
DTEND;TZID=Europe/Madrid:20191123T235959
DTSTAMP:20260421T105057
CREATED:20190802T094535Z
LAST-MODIFIED:20191123T183011Z
UID:38307-1574467200-1574553599@temporada-alta.com
SUMMARY:O agora que demora (El presente que se alarga)
DESCRIPTION:Vuelve al Festival una de las directoras brasileñas más internacionales. Un espectáculo\, entre teatral y cinematográfico\, que habla de la actualidad a partir de Homero\nLa directora\, actriz\, dramaturga y cineasta brasileña Christiane Jatahy vuelve al festival con la segunda parte del díptico Our Odyssey\, basado en los textos épicos de Homero. Qué nos puede enseñar una ficción de hace 3.000 años sobre nosotros? La respuesta llega con su nueva fusión experimental del lenguaje cinematográfico y el teatral. En este caso\, una película rodada en Jenin (Palestina)\, en campos de refugiados de Libia y Grecia\, en Johannesburgo\, en una comunidad indígena del Amazonas y en Rio de Janeiro. Las personas que graba explican su realidad a través de los versos homéricos. Es así como Jatahy alcanza el “presente que se alarga” del título. \n 
URL:https://temporada-alta.com/es/espectaculo/o-agora-que-demora-el-presente-que-se-alarga/
LOCATION:El Canal
CATEGORIES:2019,Cicle Cine i Escena,Connexió Iberoamèrica,Etiquetas internas,Internacional,No popular,Popularidad,Sobretítulos,Teatro,Visual
ATTACH;FMTTYPE=image/jpeg:https://temporada-alta.com/wp-content/uploads/1200x600.jpg
END:VEVENT
BEGIN:VEVENT
DTSTART;TZID=Europe/Madrid:20191123T000000
DTEND;TZID=Europe/Madrid:20191124T235959
DTSTAMP:20260421T105057
CREATED:20190802T094540Z
LAST-MODIFIED:20191124T223017Z
UID:38734-1574467200-1574639999@temporada-alta.com
SUMMARY:KULTUR
DESCRIPTION:El spin off de LA PLAZA (Premio de la Crítica 2018) desmonta convenciones teatrales con la firma de uno de los colectivos más innovadores de la escena catalana\nA un proyecto de El Conde de Torrefiel se debe ir abierto a la sorpresa y la curiosidad. Su obstinación con el derribo de fronteras y etiquetas continúa con KULTUR\, spinoff de LA PLAZA\, montaje que flirteaba con la instalación museística y que fue galardonado con el Premio de la Crítica 2018. Esta idea de la performance también domina esta nueva propuesta que enfrenta al espectador a una escena en apariencia realista (un casting que exige una escena de sexo explícito) para crear una experiencia íntima y subjetiva\, para que adopte\, ayudado por la oscuridad y unos auriculares\, la posición de un voyeur que espía una situación que crece en intensidad. \n 
URL:https://temporada-alta.com/es/espectaculo/kultur/
CATEGORIES:2019,Etiquetas internas,Jóvenes,No popular,Popularidad,Teatro
ATTACH;FMTTYPE=image/jpeg:https://temporada-alta.com/wp-content/uploads/Kultur_destacada.jpg
END:VEVENT
BEGIN:VEVENT
DTSTART;TZID=Europe/Madrid:20191123T000000
DTEND;TZID=Europe/Madrid:20191124T235959
DTSTAMP:20260421T105057
CREATED:20190802T094525Z
LAST-MODIFIED:20191124T223008Z
UID:38864-1574467200-1574639999@temporada-alta.com
SUMMARY:La melancolía del turista
DESCRIPTION:Después de maravillar al público con Primer álbum (TA16)\, Larios y Oligor vuelven a reunir sus universos para reflexionar sobre la idea de Paraíso\nShaday Larios\, de la compañía mejicana Microscopía\, y Jomi Oligor\, de Hermanos Oligor\, vuelven con La melancolía del turista\, espectáculo que se pregunta sobre el ascenso y la caída de la idea de un paraíso. Una galería de espejismos del que se esconde detrás de un paisaje sublimado que ya no existe o que no existió nunca. Una mirada crítica —sin perder el aliento poético de estos creadores— al imaginario del paraíso. Oligor y Microscopía —unos de los triunfadores de Temporada Alta 2016 con Primer álbum— exploran esta fantasía con su lenguaje particular hecho de objetos\, mecanismos y miniaturas. \n 
URL:https://temporada-alta.com/es/espectaculo/la-melancolia-del-turista/
CATEGORIES:2019,Etiquetas internas,Jóvenes,No popular,Nuevas funciones,Popularidad,Teatro
ATTACH;FMTTYPE=image/jpeg:https://temporada-alta.com/wp-content/uploads/LaMelancoliaDelTurista_destacada.jpg
END:VEVENT
BEGIN:VEVENT
DTSTART;TZID=Europe/Madrid:20191123T000000
DTEND;TZID=Europe/Madrid:20191124T235959
DTSTAMP:20260421T105057
CREATED:20190802T094503Z
LAST-MODIFIED:20191124T223006Z
UID:38825-1574467200-1574639999@temporada-alta.com
SUMMARY:Dimonis
DESCRIPTION:Cabosanroque invoca a Jacint Verdaguer en una nueva instalación sonora en la que han participado Niño de Elche\, Rocío Molina y Enric Casasses\nEl dúo cabosanroque se ha fijado en una de las vivencias más particulares del poeta Jacint Vergaguer: los exorcismos en los cuales participó entre 1890 y 1893\, en un piso de Barcelona. El dúo ha recreado en Dimonis la casa de oración dónde se practicaban estos rituales. Un espacio\, con la participación grabada de Niño de Elche\, Rocío Molina y Enric Casasses\, dónde el público se podrá pasear libremente y modificar la dramaturgia sonora. Sin misticismo ni truculencias\, cabosanroque se interesa por las implicaciones estéticas de la posesión del demonio y el paralelismo con los parásitos que modifican la conducta de sus huéspedes. \n 
URL:https://temporada-alta.com/es/espectaculo/dimonis/
LOCATION:Teatre Municipal de Girona\, Espanya
CATEGORIES:2019,Etiquetas internas,Instalación,Jóvenes,Música,No popular,Popularidad
ATTACH;FMTTYPE=image/jpeg:https://temporada-alta.com/wp-content/uploads/dimonis_cabo_FRAUrecerquesvisuals_03.jpg
END:VEVENT
BEGIN:VEVENT
DTSTART;TZID=Europe/Madrid:20191123T000000
DTEND;TZID=Europe/Madrid:20191124T235959
DTSTAMP:20260421T105057
CREATED:20190802T094558Z
LAST-MODIFIED:20191124T223010Z
UID:37067-1574467200-1574639999@temporada-alta.com
SUMMARY:VENTURA
DESCRIPTION:Una experiencia teatral para 25 espectadores situada en una casa particular\, que maravilla al público desde 2015\nUna experiencia teatral para 25 espectadores que maravilla al público desde 2015. Ventura es uno de los clásicos del festival\, teatro de proximidad llevado al extremo donde la historia\, cómo se explica y el lugar donde se explica son indivisibles. El espectador vive una experiencia única\, siguiendo el hilo de una historia familiar que\, como un rompecabezas\, se va desgranando y no nos deja indiferentes. Las vidas de Teresa y Maria se entrecruzan\, las decisiones y el destino pueden jugar una mala pasada y modificar la vida para siempre. Teatro vivencial en primera linea\, dónde arte y vida se confunden y nos conmueven. \n 
URL:https://temporada-alta.com/es/espectaculo/ventura-2019/
CATEGORIES:2019,Etiquetas internas,Movilidad reducida,Nuevas funciones,Teatro
ATTACH;FMTTYPE=image/jpeg:https://temporada-alta.com/wp-content/uploads/Ventura_destacada.jpg
END:VEVENT
END:VCALENDAR