BEGIN:VCALENDAR
VERSION:2.0
PRODID:-//Temporada Alta - ECPv6.15.17//NONSGML v1.0//EN
CALSCALE:GREGORIAN
METHOD:PUBLISH
X-WR-CALNAME:Temporada Alta
X-ORIGINAL-URL:https://temporada-alta.com/es/
X-WR-CALDESC:Eventos para Temporada Alta
REFRESH-INTERVAL;VALUE=DURATION:PT1H
X-Robots-Tag:noindex
X-PUBLISHED-TTL:PT1H
BEGIN:VTIMEZONE
TZID:Europe/Madrid
BEGIN:DAYLIGHT
TZOFFSETFROM:+0100
TZOFFSETTO:+0200
TZNAME:CEST
DTSTART:20180325T010000
END:DAYLIGHT
BEGIN:STANDARD
TZOFFSETFROM:+0200
TZOFFSETTO:+0100
TZNAME:CET
DTSTART:20181028T010000
END:STANDARD
BEGIN:DAYLIGHT
TZOFFSETFROM:+0100
TZOFFSETTO:+0200
TZNAME:CEST
DTSTART:20190331T010000
END:DAYLIGHT
BEGIN:STANDARD
TZOFFSETFROM:+0200
TZOFFSETTO:+0100
TZNAME:CET
DTSTART:20191027T010000
END:STANDARD
BEGIN:DAYLIGHT
TZOFFSETFROM:+0100
TZOFFSETTO:+0200
TZNAME:CEST
DTSTART:20200329T010000
END:DAYLIGHT
BEGIN:STANDARD
TZOFFSETFROM:+0200
TZOFFSETTO:+0100
TZNAME:CET
DTSTART:20201025T010000
END:STANDARD
END:VTIMEZONE
BEGIN:VEVENT
DTSTART;TZID=Europe/Madrid:20191104T000000
DTEND;TZID=Europe/Madrid:20191209T235959
DTSTAMP:20260421T104922
CREATED:20190802T094512Z
LAST-MODIFIED:20191209T220003Z
UID:38799-1572825600-1575935999@temporada-alta.com
SUMMARY:IX Torneig de Dramatúrgia
DESCRIPTION:Uno de los eventos más populares del Festival. Ocho dramaturgos suben al ring a fin de que el público escoja el texto ganador\nVuelve el enfrentamiento teatral más celebrado del festival: el gran combate de la dramaturgia catalana. Un ring en el qué los boxeadores substituyen los puños por el texto. El Torneo de Dramaturgia se celebra por noveno año consecutivo y enfrontará cordialmente los textos de ocho dramaturgos de expresión catalana. Cómo cada año\, el público decidirá el mejor texto de cada combate y el ganador final. El enfrentamiento se ha exportado a las Islas Baleares\, el País Valenciano\, Madrid o América del Sur\, y entre los premiados de las ediciones catalanas anteriores está Jordi Galceran —con El crèdit\, que ahora triunfa en París —\, Jordi Oriol o Cristina Clemente. \n 
URL:https://temporada-alta.com/es/espectaculo/ix-torneig-de-dramaturgia/
LOCATION:Sala La Planeta
CATEGORIES:2019,Popular,Popularidad,Sonoro,Teatro
ATTACH;FMTTYPE=image/jpeg:https://temporada-alta.com/wp-content/uploads/TorneigDeDramaturgia_destacada.jpg
END:VEVENT
BEGIN:VEVENT
DTSTART;TZID=Europe/Madrid:20191117T000000
DTEND;TZID=Europe/Madrid:20191117T235959
DTSTAMP:20260421T104922
CREATED:20190729T110553Z
LAST-MODIFIED:20191118T003505Z
UID:37354-1573948800-1574035199@temporada-alta.com
SUMMARY:Postfunción 'El Chinabum'
DESCRIPTION:Después de la función participa en esta charla con la compañía\nEl Chinabum es la producción de una compañía emergente en casa nuestra. Ya se ha podido ver en Barcelona y ha sido aclamada por el público y la crítica. Quédate después de la función y participa en este coloquio para decirnos lo qué piensas. Actividad dinamizada por Nova Veu\, plataforma de jóvenes críticos vinculada a la asociación Recomana. \n  \nOrganiza:     \nDinamiza:
URL:https://temporada-alta.com/es/espectaculo/post-funcion-el-chinabum/
LOCATION:Sala La Planeta
CATEGORIES:Actividades,Etiquetas internas,Post-funciones
ATTACH;FMTTYPE=image/jpeg:https://temporada-alta.com/wp-content/uploads/ElChinabum_CAST-1.jpg
END:VEVENT
BEGIN:VEVENT
DTSTART;TZID=Europe/Madrid:20191117T000000
DTEND;TZID=Europe/Madrid:20191117T235900
DTSTAMP:20260421T104922
CREATED:20190802T094538Z
LAST-MODIFIED:20191209T092403Z
UID:38306-1573948800-1574035140@temporada-alta.com
SUMMARY:Lù (路)
DESCRIPTION:Danza\, audiovisuales y artes plásticas al servicio de una de las compañías de teatro familiar más reconocidas del País Valenciano\nDos niñas pobres son las protagonistas de Lù (路) (en chino\, “camino”). Trabajan y trabajan en el campo sin descanso\, pero han convertido el duro trabajo que normalmente haría un adulto en un fantástico juego para sobrevivir y ser un poco felices. No hay ningún niño o niña que no juegue\, que no mire\, toque\, husmee\, experimente\, invente\, imagine y\, sobretodo\, sueñe y pregunte. Espectáculo íntimo y poético de la valenciana Cia. Maduixa que combina danza\, audiovisual y artes plásticas. Un canto al poder de la imaginación de los más pequeños de la casa. En 2018\, la compañía ganó el premio Moritz de Tàrrega por Mulïer.
URL:https://temporada-alta.com/es/espectaculo/lu-%e8%b7%af/
LOCATION:El Canal
CATEGORIES:2019,En familia,Etiquetas internas,Familiar,Popular,Popularidad,Teatro
ATTACH;FMTTYPE=image/jpeg:https://temporada-alta.com/wp-content/uploads/Lu_destacada.jpg
END:VEVENT
BEGIN:VEVENT
DTSTART;TZID=Europe/Madrid:20191117T000000
DTEND;TZID=Europe/Madrid:20191117T235959
DTSTAMP:20260421T104922
CREATED:20190802T094540Z
LAST-MODIFIED:20191118T003503Z
UID:37124-1573948800-1574035199@temporada-alta.com
SUMMARY:El Chinabum
DESCRIPTION:Un retrato generacional gestado en un lavabo de un restaurante chino. Una pieza que ya ha seducido la escena más underground de Barcelona\nUn hombre cierra en el baño de su bar a tres chicas que\, incomunicadas\, buscan la manera de salir. Lo que antes parecía el almacén de un bar chino se acaba convirtiendo en su refugio. Creen que pueden cambiar el mundo pero el mundo solo quiere vender Yatekomos\, los populares fideos instantáneos. Este es el punto de partida de El Chinabum\, una obra de Berta Prieto i Lola Rosales dirigida por Paula Ribó\, miembro de las conocidas The Mamzelles. Una reflexión sobre una generación que ha sido educada para ganar Operación Triunfo\, para vivir una “vida cupcake”. Una generación que ahora no sabe como afrontar la existencia. \n 
URL:https://temporada-alta.com/es/espectaculo/el-chinabum/
LOCATION:Sala La Planeta
CATEGORIES:2019,Artèria,Etiquetas internas,Jóvenes,No popular,Nuevas funciones,Popularidad,Teatro
ATTACH;FMTTYPE=image/jpeg:https://temporada-alta.com/wp-content/uploads/ElChinabum_destacada-1.jpg
END:VEVENT
BEGIN:VEVENT
DTSTART;TZID=Europe/Madrid:20191117T000000
DTEND;TZID=Europe/Madrid:20191117T235959
DTSTAMP:20260421T104922
CREATED:20190802T094534Z
LAST-MODIFIED:20191117T183007Z
UID:39384-1573948800-1574035199@temporada-alta.com
SUMMARY:Romancero gitano
DESCRIPTION:Un espectáculo basado en el poemario de García Lorca que ya ha triunfado en Madrid\, Buenos Aires y Montevideo\nNúria Espert y Lluís Pasqual vuelven a Federico García Lorca. Vuelven a las palabras del poeta y dramaturgo más importante de sus trayectorias profesionales. Después de triunfar en Madrid\, Buenos Aires o Montevideo\, llegan a Temporada Alta con un espectáculo creado a partir del popular Romancero gitano. Un poemario que evoca las raíces\, el origen de su autor. Un mapa de Andalucía. Un libro antipintoresco\, antifolklórico y antiflamenco que ahora volverá a cobrar vida a través de la voz y la presencia de Núria Espert y la minimalista puesta en escena de Pasqual\, dos de las grandes figuras del teatro catalán. \n 
URL:https://temporada-alta.com/es/espectaculo/romancero-gitano/
LOCATION:Teatre Municipal de Girona\, Espanya
CATEGORIES:2019,Etiquetas internas,Nuevas funciones,Popular,Popularidad,Sonoro,Teatro
ATTACH;FMTTYPE=image/jpeg:https://temporada-alta.com/wp-content/uploads/RomanceroGitano_destacada.jpg
END:VEVENT
END:VCALENDAR