BEGIN:VCALENDAR
VERSION:2.0
PRODID:-//Temporada Alta - ECPv6.15.17//NONSGML v1.0//EN
CALSCALE:GREGORIAN
METHOD:PUBLISH
X-WR-CALNAME:Temporada Alta
X-ORIGINAL-URL:https://temporada-alta.com/es/
X-WR-CALDESC:Eventos para Temporada Alta
REFRESH-INTERVAL;VALUE=DURATION:PT1H
X-Robots-Tag:noindex
X-PUBLISHED-TTL:PT1H
BEGIN:VTIMEZONE
TZID:Europe/Madrid
BEGIN:DAYLIGHT
TZOFFSETFROM:+0100
TZOFFSETTO:+0200
TZNAME:CEST
DTSTART:20180325T010000
END:DAYLIGHT
BEGIN:STANDARD
TZOFFSETFROM:+0200
TZOFFSETTO:+0100
TZNAME:CET
DTSTART:20181028T010000
END:STANDARD
BEGIN:DAYLIGHT
TZOFFSETFROM:+0100
TZOFFSETTO:+0200
TZNAME:CEST
DTSTART:20190331T010000
END:DAYLIGHT
BEGIN:STANDARD
TZOFFSETFROM:+0200
TZOFFSETTO:+0100
TZNAME:CET
DTSTART:20191027T010000
END:STANDARD
BEGIN:DAYLIGHT
TZOFFSETFROM:+0100
TZOFFSETTO:+0200
TZNAME:CEST
DTSTART:20200329T010000
END:DAYLIGHT
BEGIN:STANDARD
TZOFFSETFROM:+0200
TZOFFSETTO:+0100
TZNAME:CET
DTSTART:20201025T010000
END:STANDARD
END:VTIMEZONE
BEGIN:VEVENT
DTSTART;TZID=Europe/Madrid:20191104T000000
DTEND;TZID=Europe/Madrid:20191209T235959
DTSTAMP:20260421T111222
CREATED:20190802T094512Z
LAST-MODIFIED:20191209T220003Z
UID:38799-1572825600-1575935999@temporada-alta.com
SUMMARY:IX Torneig de Dramatúrgia
DESCRIPTION:Uno de los eventos más populares del Festival. Ocho dramaturgos suben al ring a fin de que el público escoja el texto ganador\nVuelve el enfrentamiento teatral más celebrado del festival: el gran combate de la dramaturgia catalana. Un ring en el qué los boxeadores substituyen los puños por el texto. El Torneo de Dramaturgia se celebra por noveno año consecutivo y enfrontará cordialmente los textos de ocho dramaturgos de expresión catalana. Cómo cada año\, el público decidirá el mejor texto de cada combate y el ganador final. El enfrentamiento se ha exportado a las Islas Baleares\, el País Valenciano\, Madrid o América del Sur\, y entre los premiados de las ediciones catalanas anteriores está Jordi Galceran —con El crèdit\, que ahora triunfa en París —\, Jordi Oriol o Cristina Clemente. \n 
URL:https://temporada-alta.com/es/espectaculo/ix-torneig-de-dramaturgia/
LOCATION:Sala La Planeta
CATEGORIES:2019,Popular,Popularidad,Sonoro,Teatro
ATTACH;FMTTYPE=image/jpeg:https://temporada-alta.com/wp-content/uploads/TorneigDeDramaturgia_destacada.jpg
END:VEVENT
BEGIN:VEVENT
DTSTART;TZID=Europe/Madrid:20191116T000000
DTEND;TZID=Europe/Madrid:20191116T235959
DTSTAMP:20260421T111222
CREATED:20190527T111324Z
LAST-MODIFIED:20191116T200005Z
UID:35702-1573862400-1573948799@temporada-alta.com
SUMMARY:El Petit de Cal Eril
DESCRIPTION:El último disco de los de Guissona presenta ocho temas inéditos producidos por Bankrobber\nLa banda de Guissona presenta su séptima entrega\, Energía fosca\, como siempre bajo el paraguas de Bankrobber. Capitaneado por Joan Pons\, el grupo intenta renovar la sonoridad e incluso la instrumentación de cada nuevo disco\, y aquí se aleja de la etiqueta de “pop metafísico” que se había ganado con el álbum anterior\, Triangular – un subgénero reivindicado junto con Ferran Palau y que\, de hecho\, parece que acuñó Jaume Sisa. El grupo lo forman Artur Tort\, Dani Comas\, Ildefonso Alonso\, Jordi Matas y el mismo Pons\, y la construcción y arreglos del disco ha sido totalmente colectiva. Un detalle: el álbum se grabó en una masía de las montañas de Prades y con energía solar. \n 
URL:https://temporada-alta.com/es/espectaculo/el-petit-de-cal-eril/
LOCATION:El Canal
CATEGORIES:2019,Música,Popular,Popularidad,Sonoro
ATTACH;FMTTYPE=image/jpeg:https://temporada-alta.com/wp-content/uploads/ElPetitDeCalEril_destacada.jpg
END:VEVENT
BEGIN:VEVENT
DTSTART;TZID=Europe/Madrid:20191116T000000
DTEND;TZID=Europe/Madrid:20191116T235959
DTSTAMP:20260421T111222
CREATED:20190702T160520Z
LAST-MODIFIED:20191116T200013Z
UID:36679-1573862400-1573948799@temporada-alta.com
SUMMARY:Ultraorbism
DESCRIPTION:Uno de los fundadores de La Fura dels Baus presenta una acción interactiva sobre el escritor sirio Llucià de Samòsata (s. I dC)\nUltraorbism es una acción con animaciones y video mapping basada en las Historias verídicas del escritor sirio Luciano de Samósata\, del siglo I dC. En una especie de enorme libro dispuesto en el suelo que limita al fondo con una pantalla de retroproyección\, el artista y miembro fundador de La Fura dels Baus\, Marcel·lí Antúnez\, nos narra las venturas y desventuras en un viaje imposible de Ultral·lí. Un viaje donde todo es inventado\, lleno de referencias a la mitología y la literatura de la época. Una acción interactiva que\, tras realizarse a la vez en Barcelona y Falmouth\, fue galardonada con el premio de Arte del Japan Media Arts Festival. \n 
URL:https://temporada-alta.com/es/espectaculo/ultraorbism/
CATEGORIES:2019,No popular,Popularidad,Teatro,Visual
ATTACH;FMTTYPE=image/jpeg:https://temporada-alta.com/wp-content/uploads/ULTRAORBISM_imatgedestacada.jpg
END:VEVENT
BEGIN:VEVENT
DTSTART;TZID=Europe/Madrid:20191116T000000
DTEND;TZID=Europe/Madrid:20191116T235959
DTSTAMP:20260421T111222
CREATED:20190802T094540Z
LAST-MODIFIED:20191116T200009Z
UID:39188-1573862400-1573948799@temporada-alta.com
SUMMARY:A Casa. El monòleg de ‘Homebody/Kabul’
DESCRIPTION:El monólogo Homeboy/Kabul con el que Vicky Peña recibió el premio Max a mejor actriz\nSentada en su confortable casa de Londres\, leyendo una guía turística de Kabul\, una mujer nos invita a emprender un viaje que ella misma ha comenzado ya hace tiempo\, a ser testimonios de un naufragio personal y colectivo. Con humor y rigor\, Vicky Peña retoma el fragmento del monólogo Homebody/Kabul\, estrenado en el Teatro Español y en el Teatre Lliure. Espléndida y memorable interpretación premiada con el Max a mejor actriz. Un fabuloso texto de Tony Kushner escrito antes del 11S y estrenado poco después en Estados Unidos\, con una gran polémica. A veces\, la persona que vuelve a casa no es la misma. \n 
URL:https://temporada-alta.com/es/espectaculo/a-casa-el-monoleg-de-homebody-kabul/
LOCATION:Teatre de Salt
CATEGORIES:2019,No popular,Popularidad,Teatro
ATTACH;FMTTYPE=image/jpeg:https://temporada-alta.com/wp-content/uploads/ACasa_destacada.jpg
END:VEVENT
BEGIN:VEVENT
DTSTART;TZID=Europe/Madrid:20191116T000000
DTEND;TZID=Europe/Madrid:20191116T235959
DTSTAMP:20260421T111222
CREATED:20190614T110008Z
LAST-MODIFIED:20191116T213004Z
UID:36281-1573862400-1573948799@temporada-alta.com
SUMMARY:Joan Dausà
DESCRIPTION:El músico catalán finaliza una gira que ha hecho historia  \nAra som gegants marcará un antes y un después en la carrera musical de Joan Dausà. Cerca de 60 conciertos donde se han vivido noches históricas. Canciones como “La gran eufòria” y “Tot anorà bé”\, han resultado hits de su cancionero. Mejor artista y premio del público al mejor disco de canción de autor del 2018 en el Enderrock. Todas estas alegrías no habrían sido posibles sin el soporte de su público. Por este motivo\, ha querido cerrar esta etapa de éxito con cinco conciertos de despedida en teatros y auditorios\, dónde la proximidad con los suyos continúe siendo una de sus características diferenciales. En las comarcas gerundenses\, esta actuación se dará en el marco del Festival. La banda no volverá a los escenarios hasta 2021. \n 
URL:https://temporada-alta.com/es/espectaculo/joan-dausa/
LOCATION:Auditori de Girona
CATEGORIES:2019,Etiquetas internas,Música,Nuevas funciones,Popular,Popularidad,Sonoro
ATTACH;FMTTYPE=image/jpeg:https://temporada-alta.com/wp-content/uploads/joan-dausa-web.jpg
END:VEVENT
BEGIN:VEVENT
DTSTART;TZID=Europe/Madrid:20191116T000000
DTEND;TZID=Europe/Madrid:20191116T235959
DTSTAMP:20260421T111222
CREATED:20190802T094530Z
LAST-MODIFIED:20191116T170009Z
UID:39119-1573862400-1573948799@temporada-alta.com
SUMMARY:En lo alto para siempre. Basat en ‘Entrevistes breus amb homes repulsius’ de David Foster Wallace
DESCRIPTION:Basado en Entrevistas breves con Hombres repulsivos del escritor americano David Foster Wallace\nAcercarse a la vida\, la obra y el pensamiento de David Foster Wallace\, el escritor que captó como pocos el malestar y la hipocresía de los Estados Unidos. Este es el hilo conductor del nuevo montaje de creación libre de Juan Navarro y Gonzalo Cunill. La inspiración llega alimentada por algunos relatos de Entrevistes breus amb homes repulsius. Un puñetazo —cómo prácticamente todos sus escritos— y sin embargo la puerta o umbral para entrar a su universo sensible\, desde el cual el autor intentaba sobrevivir día tras día. Los umbrales pueden aterrorizar o amedrentar\, pero también pueden estimular la imaginación para crear fantasías inesperadas. \n 
URL:https://temporada-alta.com/es/espectaculo/en-lo-alto-para-siempre-basat-en-entrevistes-breus-amb-homes-repulsius-de-david-foster-wallace/
LOCATION:Sala La Planeta
CATEGORIES:2019,No popular,Popularidad,Teatro
ATTACH;FMTTYPE=image/jpeg:https://temporada-alta.com/wp-content/uploads/enloaltoparasiempre_destacada2.jpg
END:VEVENT
END:VCALENDAR