BEGIN:VCALENDAR
VERSION:2.0
PRODID:-//Temporada Alta - ECPv6.15.17//NONSGML v1.0//EN
CALSCALE:GREGORIAN
METHOD:PUBLISH
X-WR-CALNAME:Temporada Alta
X-ORIGINAL-URL:https://temporada-alta.com/es/
X-WR-CALDESC:Eventos para Temporada Alta
REFRESH-INTERVAL;VALUE=DURATION:PT1H
X-Robots-Tag:noindex
X-PUBLISHED-TTL:PT1H
BEGIN:VTIMEZONE
TZID:Europe/Madrid
BEGIN:DAYLIGHT
TZOFFSETFROM:+0100
TZOFFSETTO:+0200
TZNAME:CEST
DTSTART:20180325T010000
END:DAYLIGHT
BEGIN:STANDARD
TZOFFSETFROM:+0200
TZOFFSETTO:+0100
TZNAME:CET
DTSTART:20181028T010000
END:STANDARD
BEGIN:DAYLIGHT
TZOFFSETFROM:+0100
TZOFFSETTO:+0200
TZNAME:CEST
DTSTART:20190331T010000
END:DAYLIGHT
BEGIN:STANDARD
TZOFFSETFROM:+0200
TZOFFSETTO:+0100
TZNAME:CET
DTSTART:20191027T010000
END:STANDARD
BEGIN:DAYLIGHT
TZOFFSETFROM:+0100
TZOFFSETTO:+0200
TZNAME:CEST
DTSTART:20200329T010000
END:DAYLIGHT
BEGIN:STANDARD
TZOFFSETFROM:+0200
TZOFFSETTO:+0100
TZNAME:CET
DTSTART:20201025T010000
END:STANDARD
END:VTIMEZONE
BEGIN:VEVENT
DTSTART;TZID=Europe/Madrid:20191104T000000
DTEND;TZID=Europe/Madrid:20191209T235959
DTSTAMP:20260421T105049
CREATED:20190802T094512Z
LAST-MODIFIED:20191209T220003Z
UID:38799-1572825600-1575935999@temporada-alta.com
SUMMARY:IX Torneig de Dramatúrgia
DESCRIPTION:Uno de los eventos más populares del Festival. Ocho dramaturgos suben al ring a fin de que el público escoja el texto ganador\nVuelve el enfrentamiento teatral más celebrado del festival: el gran combate de la dramaturgia catalana. Un ring en el qué los boxeadores substituyen los puños por el texto. El Torneo de Dramaturgia se celebra por noveno año consecutivo y enfrontará cordialmente los textos de ocho dramaturgos de expresión catalana. Cómo cada año\, el público decidirá el mejor texto de cada combate y el ganador final. El enfrentamiento se ha exportado a las Islas Baleares\, el País Valenciano\, Madrid o América del Sur\, y entre los premiados de las ediciones catalanas anteriores está Jordi Galceran —con El crèdit\, que ahora triunfa en París —\, Jordi Oriol o Cristina Clemente. \n 
URL:https://temporada-alta.com/es/espectaculo/ix-torneig-de-dramaturgia/
LOCATION:Sala La Planeta
CATEGORIES:2019,Popular,Popularidad,Sonoro,Teatro
ATTACH;FMTTYPE=image/jpeg:https://temporada-alta.com/wp-content/uploads/TorneigDeDramaturgia_destacada.jpg
END:VEVENT
BEGIN:VEVENT
DTSTART;TZID=Europe/Madrid:20191114T000000
DTEND;TZID=Europe/Madrid:20191114T235959
DTSTAMP:20260421T105049
CREATED:20191016T004132Z
LAST-MODIFIED:20191114T203006Z
UID:45257-1573689600-1573775999@temporada-alta.com
SUMMARY:Previa: Jo\, dona. A Lili Elbe
DESCRIPTION:Si eres socio/a de El Club o miembro de Artèria\, ven al ensayo general de Jo\, dona. A Lili Elbe.\nJo\, dona. A Lili Elbe es un homenaje a Lili Elbe\, una de las primeras personas a someterse a una cirugía de reasignación de sexo. Como socio/a de El Club o miembro de Artèria\, te invitamos a la previa del nuevo montaje de Marta Carrasco\, galardonada con el Premio Nacional de Danza de Cataluña en 2005. Ven al ensayo general!
URL:https://temporada-alta.com/es/espectaculo/previa-jo-dona-a-lili-elbe/
CATEGORIES:Actividades,Altres activitats,Etiquetas internas,Previas
ATTACH;FMTTYPE=image/jpeg:https://temporada-alta.com/wp-content/uploads/alilielbe_CAS.jpg
END:VEVENT
BEGIN:VEVENT
DTSTART;TZID=Europe/Madrid:20191114T000000
DTEND;TZID=Europe/Madrid:20191114T235959
DTSTAMP:20260421T105049
CREATED:20191016T004506Z
LAST-MODIFIED:20191114T203008Z
UID:45425-1573689600-1573775999@temporada-alta.com
SUMMARY:Prèvia: Europa Bull
DESCRIPTION:Si eres socio/a de El Club o miembro de Arteria\, ven al ensayo general de Europa Bull\nEuropa Bull\, premio Quim Masó 2018\, es un espectáculo poético\, elegante y lleno de humor sobre los miedos de los europeos\, desamparados después de pensar durante mucho tiempo que había encontrado un refugio de las tormentas de la economía y de las guerras nacionales . Como socio/a de El Club o miembro de Arteria\, te invitamos a la previa del nuevo montaje de Jordi Oriol. Ven al ensayo general!
URL:https://temporada-alta.com/es/espectaculo/previa-europa-bull/
LOCATION:El Canal
CATEGORIES:Actividades,Etiquetas internas,Previas
ATTACH;FMTTYPE=image/jpeg:https://temporada-alta.com/wp-content/uploads/europabull_cast.jpg
END:VEVENT
END:VCALENDAR