BEGIN:VCALENDAR
VERSION:2.0
PRODID:-//Temporada Alta - ECPv6.15.17//NONSGML v1.0//EN
CALSCALE:GREGORIAN
METHOD:PUBLISH
X-ORIGINAL-URL:https://temporada-alta.com/es/
X-WR-CALDESC:Eventos para Temporada Alta
REFRESH-INTERVAL;VALUE=DURATION:PT1H
X-Robots-Tag:noindex
X-PUBLISHED-TTL:PT1H
BEGIN:VTIMEZONE
TZID:Europe/Madrid
BEGIN:DAYLIGHT
TZOFFSETFROM:+0100
TZOFFSETTO:+0200
TZNAME:CEST
DTSTART:20180325T010000
END:DAYLIGHT
BEGIN:STANDARD
TZOFFSETFROM:+0200
TZOFFSETTO:+0100
TZNAME:CET
DTSTART:20181028T010000
END:STANDARD
BEGIN:DAYLIGHT
TZOFFSETFROM:+0100
TZOFFSETTO:+0200
TZNAME:CEST
DTSTART:20190331T010000
END:DAYLIGHT
BEGIN:STANDARD
TZOFFSETFROM:+0200
TZOFFSETTO:+0100
TZNAME:CET
DTSTART:20191027T010000
END:STANDARD
BEGIN:DAYLIGHT
TZOFFSETFROM:+0100
TZOFFSETTO:+0200
TZNAME:CEST
DTSTART:20200329T010000
END:DAYLIGHT
BEGIN:STANDARD
TZOFFSETFROM:+0200
TZOFFSETTO:+0100
TZNAME:CET
DTSTART:20201025T010000
END:STANDARD
END:VTIMEZONE
BEGIN:VEVENT
DTSTART;TZID=Europe/Madrid:20191104T000000
DTEND;TZID=Europe/Madrid:20191209T235959
DTSTAMP:20260421T105529
CREATED:20190802T094512Z
LAST-MODIFIED:20191209T220003Z
UID:38799-1572825600-1575935999@temporada-alta.com
SUMMARY:IX Torneig de Dramatúrgia
DESCRIPTION:Uno de los eventos más populares del Festival. Ocho dramaturgos suben al ring a fin de que el público escoja el texto ganador\nVuelve el enfrentamiento teatral más celebrado del festival: el gran combate de la dramaturgia catalana. Un ring en el qué los boxeadores substituyen los puños por el texto. El Torneo de Dramaturgia se celebra por noveno año consecutivo y enfrontará cordialmente los textos de ocho dramaturgos de expresión catalana. Cómo cada año\, el público decidirá el mejor texto de cada combate y el ganador final. El enfrentamiento se ha exportado a las Islas Baleares\, el País Valenciano\, Madrid o América del Sur\, y entre los premiados de las ediciones catalanas anteriores está Jordi Galceran —con El crèdit\, que ahora triunfa en París —\, Jordi Oriol o Cristina Clemente. \n 
URL:https://temporada-alta.com/es/espectaculo/ix-torneig-de-dramaturgia/
LOCATION:Sala La Planeta
CATEGORIES:2019,Popular,Popularidad,Sonoro,Teatro
ATTACH;FMTTYPE=image/jpeg:https://temporada-alta.com/wp-content/uploads/TorneigDeDramaturgia_destacada.jpg
END:VEVENT
BEGIN:VEVENT
DTSTART;TZID=Europe/Madrid:20191110T000000
DTEND;TZID=Europe/Madrid:20191110T235959
DTSTAMP:20260421T105529
CREATED:20190802T094538Z
LAST-MODIFIED:20191110T190009Z
UID:39193-1573344000-1573430399@temporada-alta.com
SUMMARY:Paradisos oceànics
DESCRIPTION:Mercè Aránega y Paula Blanco escenifican las crónicas del viaje a la Polinesia de la escritora de Girona\, Aurora Bertrana. Adaptación teatral de Josep Maria Fonalleras\nMònica Bofill dirige una obra que nos habla de la Polinesia y de un autora por descubrir\, Aurora Bertrana\, pero que a la vez nos invita a una reflexión sobre los paraísos perdidos\, sobre la capacidad de hacer frente a las adversidades y sobre la pervivencia de la dignidad humana por encima de las circunstancias adversas. Entre 1962 y 1929\, Bertrana\, interpretada por Mercè Aránega y Paula Blanco\, viajó a la Polinesia francesa con su marido y escribió unas crónicas reunidas en un volumen titulado Paradisos oceànics. Uno de los primeros ejemplos de la moderna literatura de viajes escrita en catalán. \n 
URL:https://temporada-alta.com/es/espectaculo/paradisos-oceanics/
LOCATION:Teatre de Salt
CATEGORIES:2019,No popular,Popularidad,Teatro
ATTACH;FMTTYPE=image/jpeg:https://temporada-alta.com/wp-content/uploads/ParadisosOceanics_destacada.jpg
END:VEVENT
BEGIN:VEVENT
DTSTART;TZID=Europe/Madrid:20191110T000000
DTEND;TZID=Europe/Madrid:20191110T235959
DTSTAMP:20260421T105529
CREATED:20190802T094541Z
LAST-MODIFIED:20191110T190005Z
UID:38105-1573344000-1573430399@temporada-alta.com
SUMMARY:M.A.R. Un discurso plástico a través del espacio
DESCRIPTION:Teatro de objetos para explicar como la arquitectura marca formas de vida. Una mesa puesta es el universo móvil que ha elegido Andrea Díaz para explicarlo\nCuántas veces hemos transformado una mesa preparada para comer en un campo de historias? Este juego de infancia se ha convertido en manos de Andrea Díaz Reboredo en una íntima función teatral para explicar\, mediante objetos cotidianos (un tenedor\, un plato)\, la vida de una casa y su memoria social\, familiar y económica. M.A.R. también es un viaje evocador a través de los materiales —no es nada extraño que Xavier Bobés esté involucrado en este proyecto—\, una coreografía de pequeños y precisos gestos y una reflexión sobre la arquitectura y su capacidad de reflejar\, con la creación de espacios\, la cultura de cada sociedad. \n 
URL:https://temporada-alta.com/es/espectaculo/m-a-r-un-discurso-plastico-a-traves-del-espacio/
LOCATION:Sala La Planeta
CATEGORIES:2019,Etiquetas internas,Movilidad reducida,No popular,Popularidad,Teatro
ATTACH;FMTTYPE=image/jpeg:https://temporada-alta.com/wp-content/uploads/M.A.R_destacada-1.jpg
END:VEVENT
BEGIN:VEVENT
DTSTART;TZID=Europe/Madrid:20191110T000000
DTEND;TZID=Europe/Madrid:20191110T235959
DTSTAMP:20260421T105529
CREATED:20190415T145338Z
LAST-MODIFIED:20191110T190007Z
UID:35038-1573344000-1573430399@temporada-alta.com
SUMMARY:La tendresa (Girona)
DESCRIPTION:Una comedia de equívocos de Alfredo Sanzol inspirada en los juegos y metáforas de las obras de Shakespeare\nCoproducida por Dagoll Dagom y T de Teatre en colaboración con el Teatro de la Ciudad\, Alfredo Sanzol firma y dirige una comedia de equívocos que bebe de los trucos\, los juegos y las metáforas de las comedias de Shakespeare. Harta que los hombres le estropeen la vida\, la reina Esmeralda se refugia en una isla desierta con sus dos hijas. Pronto descubren que no están solas: en la isla también vive un hombre que se instaló allí hace veinte años con los dos hijos\, precisamente para huir de las mujeres. Una obra sobre la necesidad de abrirse a los demás y sobre la valentía no sólo de sentir amor\, sino también de expresarlo. \n 
URL:https://temporada-alta.com/es/espectaculo/la-tendresa/
LOCATION:Teatre Municipal de Girona\, Espanya
CATEGORIES:2019,Etiquetas internas,Jóvenes,Nuevas funciones,Popular,Popularidad,Teatro
ATTACH;FMTTYPE=image/jpeg:https://temporada-alta.com/wp-content/uploads/latendresa_imatgedestacada2.jpg
END:VEVENT
END:VCALENDAR