BEGIN:VCALENDAR
VERSION:2.0
PRODID:-//Temporada Alta - ECPv6.15.17//NONSGML v1.0//EN
CALSCALE:GREGORIAN
METHOD:PUBLISH
X-ORIGINAL-URL:https://temporada-alta.com/es/
X-WR-CALDESC:Eventos para Temporada Alta
REFRESH-INTERVAL;VALUE=DURATION:PT1H
X-Robots-Tag:noindex
X-PUBLISHED-TTL:PT1H
BEGIN:VTIMEZONE
TZID:Europe/Madrid
BEGIN:DAYLIGHT
TZOFFSETFROM:+0100
TZOFFSETTO:+0200
TZNAME:CEST
DTSTART:20180325T010000
END:DAYLIGHT
BEGIN:STANDARD
TZOFFSETFROM:+0200
TZOFFSETTO:+0100
TZNAME:CET
DTSTART:20181028T010000
END:STANDARD
BEGIN:DAYLIGHT
TZOFFSETFROM:+0100
TZOFFSETTO:+0200
TZNAME:CEST
DTSTART:20190331T010000
END:DAYLIGHT
BEGIN:STANDARD
TZOFFSETFROM:+0200
TZOFFSETTO:+0100
TZNAME:CET
DTSTART:20191027T010000
END:STANDARD
BEGIN:DAYLIGHT
TZOFFSETFROM:+0100
TZOFFSETTO:+0200
TZNAME:CEST
DTSTART:20200329T010000
END:DAYLIGHT
BEGIN:STANDARD
TZOFFSETFROM:+0200
TZOFFSETTO:+0100
TZNAME:CET
DTSTART:20201025T010000
END:STANDARD
END:VTIMEZONE
BEGIN:VEVENT
DTSTART;TZID=Europe/Madrid:20191104T000000
DTEND;TZID=Europe/Madrid:20191209T235959
DTSTAMP:20260421T105503
CREATED:20190802T094512Z
LAST-MODIFIED:20191209T220003Z
UID:38799-1572825600-1575935999@temporada-alta.com
SUMMARY:IX Torneig de Dramatúrgia
DESCRIPTION:Uno de los eventos más populares del Festival. Ocho dramaturgos suben al ring a fin de que el público escoja el texto ganador\nVuelve el enfrentamiento teatral más celebrado del festival: el gran combate de la dramaturgia catalana. Un ring en el qué los boxeadores substituyen los puños por el texto. El Torneo de Dramaturgia se celebra por noveno año consecutivo y enfrontará cordialmente los textos de ocho dramaturgos de expresión catalana. Cómo cada año\, el público decidirá el mejor texto de cada combate y el ganador final. El enfrentamiento se ha exportado a las Islas Baleares\, el País Valenciano\, Madrid o América del Sur\, y entre los premiados de las ediciones catalanas anteriores está Jordi Galceran —con El crèdit\, que ahora triunfa en París —\, Jordi Oriol o Cristina Clemente. \n 
URL:https://temporada-alta.com/es/espectaculo/ix-torneig-de-dramaturgia/
LOCATION:Sala La Planeta
CATEGORIES:2019,Popular,Popularidad,Sonoro,Teatro
ATTACH;FMTTYPE=image/jpeg:https://temporada-alta.com/wp-content/uploads/TorneigDeDramaturgia_destacada.jpg
END:VEVENT
BEGIN:VEVENT
DTSTART;TZID=Europe/Madrid:20191108T000000
DTEND;TZID=Europe/Madrid:20191108T235959
DTSTAMP:20260421T105503
CREATED:20190730T140131Z
LAST-MODIFIED:20191108T230004Z
UID:37387-1573171200-1573257599@temporada-alta.com
SUMMARY:Postfunción 'La Tendresa'
DESCRIPTION:Después de la función\, conoce la compañía y explícanos qué te ha parecido el espectáculo\nDe la mano de la asociación de críticos Recomana\, participa en este coloquio post-función dónde podrás compartir tus primeras impresiones y conocer un poco mejor esta producción\, ganadora del Premio Max en su versión castellana (La Ternura). \n  \nOrganiza:       \nDinamiza:
URL:https://temporada-alta.com/es/espectaculo/post-funcion-la-tendresa/
LOCATION:Teatre Municipal de Girona\, Espanya
CATEGORIES:Actividades,Etiquetas internas,Post-funciones
ATTACH;FMTTYPE=image/jpeg:https://temporada-alta.com/wp-content/uploads/LaTendresa_CAST.jpg
END:VEVENT
BEGIN:VEVENT
DTSTART;TZID=Europe/Madrid:20191108T000000
DTEND;TZID=Europe/Madrid:20191108T235959
DTSTAMP:20260421T105503
CREATED:20190802T094508Z
LAST-MODIFIED:20191108T200010Z
UID:37070-1573171200-1573257599@temporada-alta.com
SUMMARY:Trahisons
DESCRIPTION:El popular colectivo belga Stop Thinking About Names (Tg STAN) debuta en el Festival con un Pinter poco convencional\nTg STAN\, el popular colectivo belga nacido en Anvers hace 30 años y conocido por el hecho de crear obras sin la figura del director (STAN es el acrónimo para Stop Thinking About Names)\, llega por primera vez al festival. Lo hace con Traición\, una de las grandes obras del Nobel de literatura Harold Pinter. Un laberinto de traiciones a tres bandas que va más allá del adulterio. Una pieza sobre la mentira que el grupo trabaja huyendo de la puesta en escena más costumista. Unas interpretaciones casi quirúrgicas —el actor es siempre el centro de su proceso creativo— que rezuman verdad por todos lados y no dejarán a nadie indiferente. \n 
URL:https://temporada-alta.com/es/espectaculo/trahisons/
LOCATION:Teatre de Salt
CATEGORIES:2019,Etiquetas internas,Internacional,No popular,Popularidad,Sobretítulos,Teatro,Visual
ATTACH;FMTTYPE=image/jpeg:https://temporada-alta.com/wp-content/uploads/Trahision_destacada.jpg
END:VEVENT
BEGIN:VEVENT
DTSTART;TZID=Europe/Madrid:20191108T000000
DTEND;TZID=Europe/Madrid:20191108T235959
DTSTAMP:20260421T105503
CREATED:20190802T094558Z
LAST-MODIFIED:20191108T200005Z
UID:37069-1573171200-1573257599@temporada-alta.com
SUMMARY:Porn is on
DESCRIPTION:Una reflexión sobre qué sexualidad femenina promulga la pornografía mainstream. Entre el documental y la performance\nLa pornografía mainstream es un fenómeno de masas. Pero\, qué visión da del sexo? En Porn is on\, la creadora y performer Marina Rodríguez reflexiona sobre lo que dice el porno de nosotris y sobre la imagen\, a menudo distorsionada y estigmatizada\, que ofrece de la sexualidad femenina: la mujer siempre está a disposición del placer masculino. A medio camino entre el teatro documental y la performance\, el montaje\, creado a partir de testimonios reales\, se propone analizar la pornografía con otros ojos. Por qué\, si la oferta de material pornográfico es tan grande\, la idea del sexo que ofrece es tan pequeña? Que comience la polémica. \n 
URL:https://temporada-alta.com/es/espectaculo/porn-is-on/
LOCATION:Sala La Planeta
CATEGORIES:2019,Artèria,Etiquetas internas,Jóvenes,No popular,Nuevas funciones,Popularidad,Teatro
ATTACH;FMTTYPE=image/jpeg:https://temporada-alta.com/wp-content/uploads/PornIsOn_destacada.jpg
END:VEVENT
BEGIN:VEVENT
DTSTART;TZID=Europe/Madrid:20191108T000000
DTEND;TZID=Europe/Madrid:20191108T235959
DTSTAMP:20260421T105503
CREATED:20191009T171006Z
LAST-MODIFIED:20191108T200003Z
UID:44834-1573171200-1573257599@temporada-alta.com
SUMMARY:Prèvia: La defensa alien
DESCRIPTION:Si eres socio / a de El Club o miembro de Arteria\, ven al ensayo general de La defensa alien\nLa defensa alien\, un tríptico de Jordi Duran Roldós sobre todas las preguntas y dudas que puede generar un concepto como la cultura. Como socio/a de El Club o miembro de Arteria\, te invitamos a la previa de este montaje formado por tres piezas\, cada una de ellas con el acompañamiento creativo de una persona vinculada al mundo de las artes escénicas ( Carla Rovira i Pitarch\, Judit Vidiella i Labrador y Marga Socias). Ven al ensayo general antes del estreno!
URL:https://temporada-alta.com/es/espectaculo/previa-la-defensa-alien/
LOCATION:Casino de Girona
CATEGORIES:Actividades,Etiquetas internas,Previas
ATTACH;FMTTYPE=image/jpeg:https://temporada-alta.com/wp-content/uploads/ladefensa_cast.jpg
END:VEVENT
END:VCALENDAR