BEGIN:VCALENDAR
VERSION:2.0
PRODID:-//Temporada Alta - ECPv6.15.17//NONSGML v1.0//EN
CALSCALE:GREGORIAN
METHOD:PUBLISH
X-ORIGINAL-URL:https://temporada-alta.com/es/
X-WR-CALDESC:Eventos para Temporada Alta
REFRESH-INTERVAL;VALUE=DURATION:PT1H
X-Robots-Tag:noindex
X-PUBLISHED-TTL:PT1H
BEGIN:VTIMEZONE
TZID:Europe/Madrid
BEGIN:DAYLIGHT
TZOFFSETFROM:+0100
TZOFFSETTO:+0200
TZNAME:CEST
DTSTART:20180325T010000
END:DAYLIGHT
BEGIN:STANDARD
TZOFFSETFROM:+0200
TZOFFSETTO:+0100
TZNAME:CET
DTSTART:20181028T010000
END:STANDARD
BEGIN:DAYLIGHT
TZOFFSETFROM:+0100
TZOFFSETTO:+0200
TZNAME:CEST
DTSTART:20190331T010000
END:DAYLIGHT
BEGIN:STANDARD
TZOFFSETFROM:+0200
TZOFFSETTO:+0100
TZNAME:CET
DTSTART:20191027T010000
END:STANDARD
BEGIN:DAYLIGHT
TZOFFSETFROM:+0100
TZOFFSETTO:+0200
TZNAME:CEST
DTSTART:20200329T010000
END:DAYLIGHT
BEGIN:STANDARD
TZOFFSETFROM:+0200
TZOFFSETTO:+0100
TZNAME:CET
DTSTART:20201025T010000
END:STANDARD
END:VTIMEZONE
BEGIN:VEVENT
DTSTART;TZID=Europe/Madrid:20191101T000000
DTEND;TZID=Europe/Madrid:20191102T235959
DTSTAMP:20260421T105504
CREATED:20190802T094522Z
LAST-MODIFIED:20191102T170007Z
UID:39642-1572566400-1572739199@temporada-alta.com
SUMMARY:Próximo
DESCRIPTION:El autor y director de La omisión de la familia Coleman presenta\, por primera vez en España\, su último montaje que aborda las relaciones afectivas en la era de Internet\nTolcachir marcó con La omisión de la famila Coleman —obra que se ha podido ver dos veces en el festival— un antes y un después en la dramaturgia argentina del siglo xxi\, una contribución consolidada desde el espacio Timbre 4 en Buenos Aires. Próximo es su trabajo más reciente como autor y director. Un texto para dos actores (Lautaro Perotti i Santi Marín) que aborda las relaciones afectivas en la era de Internet. Una historia de amor construida en la distancia\, con Skype\, WhatsApp\, llamadas al móvil y flirteo en las redes sociales. La falsa proximidad y la soledad se harán evidentes cuando la comunicación se corta. \n 
URL:https://temporada-alta.com/es/espectaculo/proximo/
LOCATION:Teatre de Salt
CATEGORIES:2019,Connexió Iberoamèrica,Etiquetas internas,Internacional,Jóvenes,No popular,Popularidad,Teatro
ATTACH;FMTTYPE=image/jpeg:https://temporada-alta.com/wp-content/uploads/Proximo_destacada.jpg
END:VEVENT
BEGIN:VEVENT
DTSTART;TZID=Europe/Madrid:20191102T000000
DTEND;TZID=Europe/Madrid:20191102T235959
DTSTAMP:20260421T105504
CREATED:20190702T153010Z
LAST-MODIFIED:20191103T013006Z
UID:36676-1572652800-1572739199@temporada-alta.com
SUMMARY:Casa de nines\, 20 anys després (Sant Feliu de Guíxols)
DESCRIPTION:Emma Vilarasau y Ramon Madaula protagonizan una reinterpretación de Lucas Hnath del clásico de Ibsen. Un texto que ya ha triunfado en Broadway\n¿Qué pasaría si Nora\, el personaje más conocido de Henrik Ibsen\, reapareciera en la misma casa que había dejado atrás veinte años antes? Emma Vilarasau y Ramon Madaula protagonizan el drama prefeminista de Ibsen\, Casa de nines\, pero con los protagonistas dos décadas más viejos. La obra\, escrita por Lucas Hnath\, uno de los autores norteamericanos más representados del momento\, se plantea qué consecuencias pueden tener los actos de Nora. Qué pasaría si volviera y cómo reaccionaría la familia que dejó atrás. Un éxito de Broadway que nos llega de la mano de una de las grandes directoras de la escena catalana\, Sílvia Munt. \n 
URL:https://temporada-alta.com/es/espectaculo/casa-de-nines-vint-anys-despres-sant-feliu-de-guixols/
LOCATION:Teatre Auditori Narcís Masferrer
CATEGORIES:2019,Popular,Popularidad,Teatro
ATTACH;FMTTYPE=image/jpeg:https://temporada-alta.com/wp-content/uploads/Casa-de-nines_David-Ruano_imatgedestacada-1.jpg
END:VEVENT
BEGIN:VEVENT
DTSTART;TZID=Europe/Madrid:20191102T000000
DTEND;TZID=Europe/Madrid:20191102T235959
DTSTAMP:20260421T105504
CREATED:20190731T100109Z
LAST-MODIFIED:20191102T180007Z
UID:37553-1572652800-1572739199@temporada-alta.com
SUMMARY:Postfunción 'Próximo'
DESCRIPTION:Después de la función\, comenta qué te ha parecido con Clàudio Tolcachir y el resto de la compañía\nComparte una charla después de la función con Clàudio Tolcachir\, Lautaro Perotti y Santi Marín. Próximo es el trabajo más reciente de Tolcachir como autor y director\, un texto para dos actores que aborda las relaciones afectivas en la era de internet. El coloquio estará dinamizado por Jordi Garcia\, socio de El Club. \n  \nOrganiza:       \nDinamiza:     Laura Iglesias\, socia de El Club \n 
URL:https://temporada-alta.com/es/espectaculo/post-funcion-proximo/
LOCATION:Teatre de Salt
CATEGORIES:Actividades,Etiquetas internas,Post-funciones
ATTACH;FMTTYPE=image/jpeg:https://temporada-alta.com/wp-content/uploads/Proximo_CAST.jpg
END:VEVENT
BEGIN:VEVENT
DTSTART;TZID=Europe/Madrid:20191102T000000
DTEND;TZID=Europe/Madrid:20191102T235959
DTSTAMP:20260421T105504
CREATED:20190527T111320Z
LAST-MODIFIED:20191102T170009Z
UID:35700-1572652800-1572739199@temporada-alta.com
SUMMARY:Hotel
DESCRIPTION:Música\, teatro y danza\, para celebrar los 25 años de una de las compañías circenses de más prestigio del Canadá\nLa prestigiosa compañía canadiense Cirque Éloize os da la bienvenida a su Hotel\, un edificio antiguo y encantador que acoge viajeros de todo tipo. Un espacio en el que todos somos un poco extranjeros. Un lugar que reúne gente absolutamente diversa y anima a encuentros extravagantes. Historias humanas pasadas por el filtro luminoso del circo. Una gran familia pintoresca y temporal que aquí representan una docena de músicos y acróbatas en escena y que nos explicarán su vida a través de géneros y números diversos. Un espectáculo para todos los públicos de una compañía que ya ha maravillado al público de Temporada Alta en otras ocasiones. \n 
URL:https://temporada-alta.com/es/espectaculo/hotel/
LOCATION:Teatre Municipal de Girona\, Espanya
CATEGORIES:2019,Circo,Circo,En familia,Etiquetas internas,Internacional,Jóvenes,Música,Nuevas funciones,Para todos los públicos,Popular,Popularidad,Visual
ATTACH;FMTTYPE=image/jpeg:https://temporada-alta.com/wp-content/uploads/hotel_imatgedestacada.jpg
END:VEVENT
END:VCALENDAR