BEGIN:VCALENDAR
VERSION:2.0
PRODID:-//Temporada Alta - ECPv6.15.17//NONSGML v1.0//EN
CALSCALE:GREGORIAN
METHOD:PUBLISH
X-ORIGINAL-URL:https://temporada-alta.com/es/
X-WR-CALDESC:Eventos para Temporada Alta
REFRESH-INTERVAL;VALUE=DURATION:PT1H
X-Robots-Tag:noindex
X-PUBLISHED-TTL:PT1H
BEGIN:VTIMEZONE
TZID:Europe/Madrid
BEGIN:DAYLIGHT
TZOFFSETFROM:+0100
TZOFFSETTO:+0200
TZNAME:CEST
DTSTART:20180325T010000
END:DAYLIGHT
BEGIN:STANDARD
TZOFFSETFROM:+0200
TZOFFSETTO:+0100
TZNAME:CET
DTSTART:20181028T010000
END:STANDARD
BEGIN:DAYLIGHT
TZOFFSETFROM:+0100
TZOFFSETTO:+0200
TZNAME:CEST
DTSTART:20190331T010000
END:DAYLIGHT
BEGIN:STANDARD
TZOFFSETFROM:+0200
TZOFFSETTO:+0100
TZNAME:CET
DTSTART:20191027T010000
END:STANDARD
BEGIN:DAYLIGHT
TZOFFSETFROM:+0100
TZOFFSETTO:+0200
TZNAME:CEST
DTSTART:20200329T010000
END:DAYLIGHT
BEGIN:STANDARD
TZOFFSETFROM:+0200
TZOFFSETTO:+0100
TZNAME:CET
DTSTART:20201025T010000
END:STANDARD
END:VTIMEZONE
BEGIN:VEVENT
DTSTART;TZID=Europe/Madrid:20191028T000000
DTEND;TZID=Europe/Madrid:20191028T235959
DTSTAMP:20260421T105530
CREATED:20190527T111320Z
LAST-MODIFIED:20191028T200008Z
UID:35698-1572220800-1572307199@temporada-alta.com
SUMMARY:Omara Portuondo
DESCRIPTION:La diva cubana vuelve a Temporada Alta con su mejor repertorio. En esta ocasión acompañada de Roberto Fonseca al piano\nLa reina del Tropicana\, la voz de las D’Aida\, la novia del filin\, la glamurosa actriz y bailarina de la Habana de los años cincuenta\, la diva del Buena Vista Social Club. Esta es Omara Portuondo\, la gran cantante cubana que repasa su extraordinaria carrera en esta gira que ha nombrado El último beso. Un concierto íntimo\, rodeada de amigos\, con lo mejor de su repertorio. Un cuarteto liderado por el virtuoso Roberto Fonseca. Un espectáculo que es un sentido canto de amor a su tierra\, raíces y sonidos. Profundamente cubana y al mismo tiempo artista universal\, con un estilo tan personal que un bolero en su voz suena a blues. \n 
URL:https://temporada-alta.com/es/espectaculo/omara-portuondo/
LOCATION:Auditori de Girona
CATEGORIES:2019,Connexió Iberoamèrica,Etiquetas internas,Internacional,Música,Popular,Popularidad,Sonoro
ATTACH;FMTTYPE=image/jpeg:https://temporada-alta.com/wp-content/uploads/omara_imatgedestacada-1.jpg
END:VEVENT
BEGIN:VEVENT
DTSTART;TZID=Europe/Madrid:20191028T000000
DTEND;TZID=Europe/Madrid:20191028T235959
DTSTAMP:20260421T105530
CREATED:20190802T094529Z
LAST-MODIFIED:20191028T200011Z
UID:40653-1572220800-1572307199@temporada-alta.com
SUMMARY:Iphigenia en Vallecas
DESCRIPTION:Una nueva versión del mito que ya ha conseguido dos premios Max este 2019. Ifi es una joven nini que sobrevive en Vallecas\nIfi es una joven sin recursos. Sobrevive como puede. No estudia ni trabaja\, no sabe qué hacer con su vida. Así que se dedica a matar las horas: busca juerga\, se emborracha\, se droga. Iphigenia en Vallecas\, protagonizada por María Hervás y dirigida por Antonio C. Guijosa\, propone una nueva versión del mito. Quién paga estos esfuerzos que piden desde Europa a los gobiernos y desde los gobiernos a la gente? Qué y quién se está sacrificando? Un montaje ganador de dos premios Max 2019\, al mejor espectáculo revelación y a la mejor actriz protagonista y que ha triunfado en el Teatro Pavón-Kamikaze de Madrid. \n 
URL:https://temporada-alta.com/es/espectaculo/iphigenia-en-vallecas/
LOCATION:Teatre de Salt
CATEGORIES:2019,Etiquetas internas,Jóvenes,No popular,Popularidad,Teatro
ATTACH;FMTTYPE=image/jpeg:https://temporada-alta.com/wp-content/uploads/Iphigenia_destacada.jpg
END:VEVENT
END:VCALENDAR