BEGIN:VCALENDAR
VERSION:2.0
PRODID:-//Temporada Alta - ECPv6.15.17//NONSGML v1.0//EN
CALSCALE:GREGORIAN
METHOD:PUBLISH
X-WR-CALNAME:Temporada Alta
X-ORIGINAL-URL:https://temporada-alta.com/es/
X-WR-CALDESC:Eventos para Temporada Alta
REFRESH-INTERVAL;VALUE=DURATION:PT1H
X-Robots-Tag:noindex
X-PUBLISHED-TTL:PT1H
BEGIN:VTIMEZONE
TZID:Europe/Madrid
BEGIN:DAYLIGHT
TZOFFSETFROM:+0100
TZOFFSETTO:+0200
TZNAME:CEST
DTSTART:20180325T010000
END:DAYLIGHT
BEGIN:STANDARD
TZOFFSETFROM:+0200
TZOFFSETTO:+0100
TZNAME:CET
DTSTART:20181028T010000
END:STANDARD
BEGIN:DAYLIGHT
TZOFFSETFROM:+0100
TZOFFSETTO:+0200
TZNAME:CEST
DTSTART:20190331T010000
END:DAYLIGHT
BEGIN:STANDARD
TZOFFSETFROM:+0200
TZOFFSETTO:+0100
TZNAME:CET
DTSTART:20191027T010000
END:STANDARD
BEGIN:DAYLIGHT
TZOFFSETFROM:+0100
TZOFFSETTO:+0200
TZNAME:CEST
DTSTART:20200329T010000
END:DAYLIGHT
BEGIN:STANDARD
TZOFFSETFROM:+0200
TZOFFSETTO:+0100
TZNAME:CET
DTSTART:20201025T010000
END:STANDARD
END:VTIMEZONE
BEGIN:VEVENT
DTSTART;TZID=Europe/Madrid:20191024T000000
DTEND;TZID=Europe/Madrid:20191024T235959
DTSTAMP:20260421T122421
CREATED:20190731T120541Z
LAST-MODIFIED:20191025T140005Z
UID:37628-1571875200-1571961599@temporada-alta.com
SUMMARY:Postfunción 'Livalone'
DESCRIPTION:Después del espectáculo\, quédate a hablar con Francesc Cúellar\, director e intérprete de Livalone\nDespués de la función\, participa en un coloquio con Frances Cúellar\, co-director e intérprete de Livalone. Es posible tener veintitantos años y vivir solo en Barcelona? Comparte tus primeras impresiones del montaje y descubre más sobre el universo creativo de la propuesta de la mano de Nova Veu\, plataforma vinculada a la asociación de críticos Recomana. \n  \nOrganiza:       \nDinamiza:  \n 
URL:https://temporada-alta.com/es/espectaculo/post-funcion-livalone/
CATEGORIES:Actividades,Etiquetas internas,Post-funciones
ATTACH;FMTTYPE=image/jpeg:https://temporada-alta.com/wp-content/uploads/Livalone_CAST.jpg
END:VEVENT
BEGIN:VEVENT
DTSTART;TZID=Europe/Madrid:20191024T000000
DTEND;TZID=Europe/Madrid:20191024T235959
DTSTAMP:20260421T122421
CREATED:20190802T094548Z
LAST-MODIFIED:20191025T140004Z
UID:37064-1571875200-1571961599@temporada-alta.com
SUMMARY:Livalone
DESCRIPTION:Una sarcástica radiografía de la generación millennial\, creada y protagonizada por dos de los performers de Fundación Agrupación Colectiva\nArmado con un portátil\, un equipo de música y diversas proyecciones\, el creador y performer Francesc Cuéllar encarna el prototipo de jóven de 25 años que se propone el gran hecho de vivir solo en Barcelona. Con lucidez y humor\, Cuéllar y Alejandro Curiel\, dos de los nombres que despuntan en la nueva generación teatral\, presentan una conferencia escénica sobre los caminos para llegar a la autosuficiencia antes de los treinta años. Una disección de las adversidades que debe afrontar toda una generación de jóvenes millennials  que viven indefinidamente en precariedad. Un repaso minucioso y sarcástico de los usos y costumbres\, derechos y necesidades de la sociedad contemporánea. \n 
URL:https://temporada-alta.com/es/espectaculo/livalone/
CATEGORIES:2019,Artèria,Etiquetas internas,Jóvenes,No popular,Nuevas funciones,Popularidad,Teatro
ATTACH;FMTTYPE=image/jpeg:https://temporada-alta.com/wp-content/uploads/Livalone_destacada-1.jpg
END:VEVENT
END:VCALENDAR