BEGIN:VCALENDAR
VERSION:2.0
PRODID:-//Temporada Alta - ECPv6.15.17//NONSGML v1.0//EN
CALSCALE:GREGORIAN
METHOD:PUBLISH
X-WR-CALNAME:Temporada Alta
X-ORIGINAL-URL:https://temporada-alta.com/es/
X-WR-CALDESC:Eventos para Temporada Alta
REFRESH-INTERVAL;VALUE=DURATION:PT1H
X-Robots-Tag:noindex
X-PUBLISHED-TTL:PT1H
BEGIN:VTIMEZONE
TZID:Europe/Madrid
BEGIN:DAYLIGHT
TZOFFSETFROM:+0100
TZOFFSETTO:+0200
TZNAME:CEST
DTSTART:20180325T010000
END:DAYLIGHT
BEGIN:STANDARD
TZOFFSETFROM:+0200
TZOFFSETTO:+0100
TZNAME:CET
DTSTART:20181028T010000
END:STANDARD
BEGIN:DAYLIGHT
TZOFFSETFROM:+0100
TZOFFSETTO:+0200
TZNAME:CEST
DTSTART:20190331T010000
END:DAYLIGHT
BEGIN:STANDARD
TZOFFSETFROM:+0200
TZOFFSETTO:+0100
TZNAME:CET
DTSTART:20191027T010000
END:STANDARD
BEGIN:DAYLIGHT
TZOFFSETFROM:+0100
TZOFFSETTO:+0200
TZNAME:CEST
DTSTART:20200329T010000
END:DAYLIGHT
BEGIN:STANDARD
TZOFFSETFROM:+0200
TZOFFSETTO:+0100
TZNAME:CET
DTSTART:20201025T010000
END:STANDARD
END:VTIMEZONE
BEGIN:VEVENT
DTSTART;TZID=Europe/Madrid:20191019T000000
DTEND;TZID=Europe/Madrid:20191019T235900
DTSTAMP:20260421T122420
CREATED:20190802T090017Z
LAST-MODIFIED:20191023T140157Z
UID:37174-1571443200-1571529540@temporada-alta.com
SUMMARY:Casa de nines\, 20 anys després (Girona)
DESCRIPTION:Emma Vilarasau y Ramon Madaula protagonizan una reinterpretación de Lucas Hnath del clásico de Ibsen. Un texto que ya ha triunfado en Broadway\n¿Qué pasaría si Nora\, el personaje más conocido de Henrik Ibsen\, reapareciera en la misma casa que había dejado atrás veinte años antes? Emma Vilarasau y Ramon Madaula protagonizan el drama prefeminista de Ibsen\, Casa de nines\, pero con los protagonistas dos décadas más viejos. La obra\, escrita por Lucas Hnath\, uno de los autores norteamericanos más representados del momento\, se plantea qué consecuencias pueden tener los actos de Nora. Qué pasaría si volviera y cómo reaccionaría la familia que dejó atrás. Un éxito de Broadway que nos llega de la mano de una de las grandes directoras de la escena catalana\, Sílvia Munt. \n 
URL:https://temporada-alta.com/es/espectaculo/casa-de-nines-20-anys-depres-girona/
LOCATION:Teatre Auditori Narcís Masferrer
CATEGORIES:2019,Teatro
ATTACH;FMTTYPE=image/jpeg:https://temporada-alta.com/wp-content/uploads/Casa-de-nines_David-Ruano_imatgedestacada-1.jpg
END:VEVENT
BEGIN:VEVENT
DTSTART;TZID=Europe/Madrid:20191019T000000
DTEND;TZID=Europe/Madrid:20191019T235900
DTSTAMP:20260421T122420
CREATED:20190802T094515Z
LAST-MODIFIED:20191020T003020Z
UID:37194-1571443200-1571529540@temporada-alta.com
SUMMARY:Non Solum
DESCRIPTION:Un monólogo de Sergi López que se estrenó hace 15 años en Temporada Alta y que continúa siendo garantía de éxito\nVuelve el gran éxito de Sergi López\, uno de los montajes más aclamados del teatro catalán. Un hombre se multiplica para responder a la pregunta: qué está pasando aquí? Uno se ríe de la nada\, otro canta una canción y otro nos explica su primer encuentro con un extraterrestre. El resto se enfada al descubrir que todos son un mismo. Un auténtico tour de force concebido desde la improvisación dónde López demuestra\, una vez más\, que es uno de los mejores actores de su generación. Una comedia delirante y existencial que hace más de quince años que gira y triunfa alrededor del mundo\, también en Temporada Alta\, dónde se estrenó en 2005. \n 
URL:https://temporada-alta.com/es/espectaculo/non-solum-2019/
LOCATION:Teatre de Salt
CATEGORIES:2019,Nuevas funciones,Popular,Popularidad,Teatro
ATTACH;FMTTYPE=image/jpeg:https://temporada-alta.com/wp-content/uploads/NonSolum_destacada.jpg
END:VEVENT
END:VCALENDAR