BEGIN:VCALENDAR
VERSION:2.0
PRODID:-//Temporada Alta - ECPv6.15.17//NONSGML v1.0//EN
CALSCALE:GREGORIAN
METHOD:PUBLISH
X-WR-CALNAME:Temporada Alta
X-ORIGINAL-URL:https://temporada-alta.com/es/
X-WR-CALDESC:Eventos para Temporada Alta
REFRESH-INTERVAL;VALUE=DURATION:PT1H
X-Robots-Tag:noindex
X-PUBLISHED-TTL:PT1H
BEGIN:VTIMEZONE
TZID:Europe/Madrid
BEGIN:DAYLIGHT
TZOFFSETFROM:+0100
TZOFFSETTO:+0200
TZNAME:CEST
DTSTART:20180325T010000
END:DAYLIGHT
BEGIN:STANDARD
TZOFFSETFROM:+0200
TZOFFSETTO:+0100
TZNAME:CET
DTSTART:20181028T010000
END:STANDARD
BEGIN:DAYLIGHT
TZOFFSETFROM:+0100
TZOFFSETTO:+0200
TZNAME:CEST
DTSTART:20190331T010000
END:DAYLIGHT
BEGIN:STANDARD
TZOFFSETFROM:+0200
TZOFFSETTO:+0100
TZNAME:CET
DTSTART:20191027T010000
END:STANDARD
BEGIN:DAYLIGHT
TZOFFSETFROM:+0100
TZOFFSETTO:+0200
TZNAME:CEST
DTSTART:20200329T010000
END:DAYLIGHT
BEGIN:STANDARD
TZOFFSETFROM:+0200
TZOFFSETTO:+0100
TZNAME:CET
DTSTART:20201025T010000
END:STANDARD
END:VTIMEZONE
BEGIN:VEVENT
DTSTART;TZID=Europe/Madrid:20191015T000000
DTEND;TZID=Europe/Madrid:20191015T235900
DTSTAMP:20260421T122458
CREATED:20190802T094515Z
LAST-MODIFIED:20191015T233007Z
UID:38787-1571097600-1571183940@temporada-alta.com
SUMMARY:Love me not
DESCRIPTION:Una película poco convencional del director de Stella Cadente\, con guión de Sergi Belbel\nProtagonizada por Ingrid García-Jonsson\, Love me not es un drama alegórico que revive el mito bíblico de Salomé y se divide en dos etapas. La primera tiene lugar en el año 2006 en un destacamento militar en Oriente Medio\, en que Yokanaan está confinado en una prisión en medio del desierto\, entre barracones\, considerado terrorista por unos y profeta por otros; mientras que la segunda etapa nos transporta a la actualidad. Después de Stella Cadente\, Lluís Miñarro vuelve a la gran pantalla con una película poco convencional. \n 
URL:https://temporada-alta.com/es/espectaculo/love-me-not/
LOCATION:Sala Truffaut (Cinemes Albéniz Plaça)
CATEGORIES:2019,Cine,Etiquetas internas,No popular,Popularidad,Sobretítulos,Visual
ATTACH;FMTTYPE=image/jpeg:https://temporada-alta.com/wp-content/uploads/LoveMeNot_destacada.jpg
END:VEVENT
BEGIN:VEVENT
DTSTART;TZID=Europe/Madrid:20191015T000000
DTEND;TZID=Europe/Madrid:20191015T235900
DTSTAMP:20260421T122458
CREATED:20191002T154015Z
LAST-MODIFIED:20191004T101800Z
UID:44530-1571097600-1571183940@temporada-alta.com
SUMMARY:Entrega del XIII Premio Quim Masó
DESCRIPTION:Toti Soler actuará en el acto de entrega de este galardón a proyectos de producción teatral\nVicent Andrés Estellés dijo de Toti Soler que era “luminoso y terrible\, él y su guitarra\, toda de luz y de ternura\, de delicadeza\, de agua”. El escritor Josep Maria Fonalleras presentará el acto y\, en esta ocasión\, Toti Soler actuará en la ceremonia abierta al público para anunciar el ganador de la edición de este año de este premio de producción teatral. El ganador recibirá cerca de 40.000 euros para la producción del espectáculo\, que se estrenará en Temporada Alta y hará temporada en el TNC. \nOrganiza:
URL:https://temporada-alta.com/es/espectaculo/lliurament-del-xiii-premi-quim-maso/
LOCATION:Sala La Planeta
CATEGORIES:Actividades,Altres activitats
ATTACH;FMTTYPE=image/jpeg:https://temporada-alta.com/wp-content/uploads/pqm-1.jpg
END:VEVENT
END:VCALENDAR