BEGIN:VCALENDAR
VERSION:2.0
PRODID:-//Temporada Alta - ECPv6.15.17//NONSGML v1.0//EN
CALSCALE:GREGORIAN
METHOD:PUBLISH
X-WR-CALNAME:Temporada Alta
X-ORIGINAL-URL:https://temporada-alta.com/es/
X-WR-CALDESC:Eventos para Temporada Alta
REFRESH-INTERVAL;VALUE=DURATION:PT1H
X-Robots-Tag:noindex
X-PUBLISHED-TTL:PT1H
BEGIN:VTIMEZONE
TZID:Europe/Madrid
BEGIN:DAYLIGHT
TZOFFSETFROM:+0100
TZOFFSETTO:+0200
TZNAME:CEST
DTSTART:20180325T010000
END:DAYLIGHT
BEGIN:STANDARD
TZOFFSETFROM:+0200
TZOFFSETTO:+0100
TZNAME:CET
DTSTART:20181028T010000
END:STANDARD
BEGIN:DAYLIGHT
TZOFFSETFROM:+0100
TZOFFSETTO:+0200
TZNAME:CEST
DTSTART:20190331T010000
END:DAYLIGHT
BEGIN:STANDARD
TZOFFSETFROM:+0200
TZOFFSETTO:+0100
TZNAME:CET
DTSTART:20191027T010000
END:STANDARD
BEGIN:DAYLIGHT
TZOFFSETFROM:+0100
TZOFFSETTO:+0200
TZNAME:CEST
DTSTART:20200329T010000
END:DAYLIGHT
BEGIN:STANDARD
TZOFFSETFROM:+0200
TZOFFSETTO:+0100
TZNAME:CET
DTSTART:20201025T010000
END:STANDARD
END:VTIMEZONE
BEGIN:VEVENT
DTSTART;TZID=Europe/Madrid:20191011T000000
DTEND;TZID=Europe/Madrid:20191012T235959
DTSTAMP:20260421T122449
CREATED:20190802T094507Z
LAST-MODIFIED:20191013T013504Z
UID:40520-1570752000-1570924799@temporada-alta.com
SUMMARY:Macbettu
DESCRIPTION:El teatro físico de Alessandro Serra al servicio de uno de los grandes clásicos de Shakespeare. Mejor producción italiana 2017 (UBU y Premio Nacional de la Crítica)\nAlessandro Serra\, uno de los directores más personales de la escena italiana\, presenta en Temporada Alta el montaje que le ha catapultado internacionalmente. Una versión del Macbeth de Shakespeare trasladada a la cultura sarda. Con un elenco formado solo por hombres —a la más pura tradición isabelina—\, impregna el clásico de los sonidos de la lengua sarda y la cultura autóctona de la isla mediterránea. Con el cuerpo del intérprete siempre en el centro de su universo dramático\, Macbettu crea un potente diálogo teatral muy físico entre los rituales ancestrales\, las fuerzas de la naturaleza y la literatura shakesperiana. \n 
URL:https://temporada-alta.com/es/espectaculo/macbettu/
LOCATION:Teatre de Salt
CATEGORIES:2019,Etiquetas internas,Internacional,No popular,Popularidad,Sobretítulos,Teatro,Visual
ATTACH;FMTTYPE=image/jpeg:https://temporada-alta.com/wp-content/uploads/Macbettu_destacada.jpg
END:VEVENT
BEGIN:VEVENT
DTSTART;TZID=Europe/Madrid:20191012T000000
DTEND;TZID=Europe/Madrid:20191012T235959
DTSTAMP:20260421T122449
CREATED:20190702T110503Z
LAST-MODIFIED:20191022T144859Z
UID:36670-1570838400-1570924799@temporada-alta.com
SUMMARY:La partida d'escacs (Sant Feliu de Guíxols)
DESCRIPTION:Jordi Bosch protagoniza un nuevo espectáculo de Iván Morales. Un estudio sobre las obsesiones inspirado en una novela de Stefan Zweig\nStefan Zweig\, el gran cronista austríaco de la Europa finisecular\, escribió La partida d’escacs cuando ya se encontraba en su exilio argentino. El narrador de este relato está de camino a Buenos Aires a bordo de un trasatlántico. Este será el escenario de una extraña partida de ajedrez entre dos maestros cuyas vidas están dolorosamente relacionadas con este juego milenario. Iván Morales ha transformado la historia en un intenso monólogo –entre la comedia y el drama– al servicio de Jordi Bosch\, que asume todas las voces y todas las personalidades en un espacio que recrea el esplendor de las grandes embarcaciones y la magia del teatro. \n 
URL:https://temporada-alta.com/es/espectaculo/la-partida-descacs-sant-feliu-de-guixols/
CATEGORIES:2019,Popular,Popularidad,Teatro
ATTACH;FMTTYPE=image/jpeg:https://temporada-alta.com/wp-content/uploads/La-partida-descacs_David-Ruano_imatgedestacada.jpg
END:VEVENT
BEGIN:VEVENT
DTSTART;TZID=Europe/Madrid:20191012T000000
DTEND;TZID=Europe/Madrid:20191012T235900
DTSTAMP:20260421T122449
CREATED:20190802T094502Z
LAST-MODIFIED:20191028T123957Z
UID:37085-1570838400-1570924740@temporada-alta.com
SUMMARY:Measure for Measure (Mesura por mesura)
DESCRIPTION:La gran Royal Shakespeare Company\, vuelve a Girona\, con una tragicomedia dirigida por Gregory Doran\nLa mítica Royal Shakespeare Company vuelve a Temporada Alta. Lo hace con una de las piezas más oscuras de Shakespeare y\, a la vez\, una de las más actuales: Mesura por mesura. La obra\, una contundente crítica a los gobernantes\, explica la historia del lugarteniente Angelo\, que\, decidido a perseguir el fornicio\, condena a muerte a un joven caballero por haber dejado embarazada a su prometida fuera del matrimonio. Una comedia trágica y subversiva sobre la justicia\, la moralidad y el deseo sexual. Gregory Doran\, uno de los grandes expertos en Shakespeare de su generación\, ha trasladado la acción a la Viena de antes del colapso del Imperio austrohúngaro. La Viena de Freud\, Klimt y Mahler. \n 
URL:https://temporada-alta.com/es/espectaculo/measure-for-measure-mesura-por-mesura/
LOCATION:Teatre Municipal de Girona\, Espanya
CATEGORIES:2019,Etiquetas internas,Internacional,Sobretítulos,Teatro,Visual
ATTACH;FMTTYPE=image/jpeg:https://temporada-alta.com/wp-content/uploads/MeasureForMeasure_destacada-1.jpg
END:VEVENT
END:VCALENDAR