BEGIN:VCALENDAR
VERSION:2.0
PRODID:-//Temporada Alta - ECPv6.15.17//NONSGML v1.0//EN
CALSCALE:GREGORIAN
METHOD:PUBLISH
X-WR-CALNAME:Temporada Alta
X-ORIGINAL-URL:https://temporada-alta.com/es/
X-WR-CALDESC:Eventos para Temporada Alta
REFRESH-INTERVAL;VALUE=DURATION:PT1H
X-Robots-Tag:noindex
X-PUBLISHED-TTL:PT1H
BEGIN:VTIMEZONE
TZID:Europe/Madrid
BEGIN:DAYLIGHT
TZOFFSETFROM:+0100
TZOFFSETTO:+0200
TZNAME:CEST
DTSTART:20180325T010000
END:DAYLIGHT
BEGIN:STANDARD
TZOFFSETFROM:+0200
TZOFFSETTO:+0100
TZNAME:CET
DTSTART:20181028T010000
END:STANDARD
BEGIN:DAYLIGHT
TZOFFSETFROM:+0100
TZOFFSETTO:+0200
TZNAME:CEST
DTSTART:20190331T010000
END:DAYLIGHT
BEGIN:STANDARD
TZOFFSETFROM:+0200
TZOFFSETTO:+0100
TZNAME:CET
DTSTART:20191027T010000
END:STANDARD
BEGIN:DAYLIGHT
TZOFFSETFROM:+0100
TZOFFSETTO:+0200
TZNAME:CEST
DTSTART:20200329T010000
END:DAYLIGHT
BEGIN:STANDARD
TZOFFSETFROM:+0200
TZOFFSETTO:+0100
TZNAME:CET
DTSTART:20201025T010000
END:STANDARD
END:VTIMEZONE
BEGIN:VEVENT
DTSTART;TZID=Europe/Madrid:20191010T190000
DTEND;TZID=Europe/Madrid:20191011T200000
DTSTAMP:20260421T124952
CREATED:20190409T123004Z
LAST-MODIFIED:20191010T153623Z
UID:35071-1570734000-1570824000@temporada-alta.com
SUMMARY:HITS
DESCRIPTION:Tricicle en estado puro en su montaje de despedida. Lo mejor de lo mejor desde sus inicios\nHumor inteligente trepidante y sorprendente. HITS —el nombre no engaña— contiene lo bueno y mejor de Tricicle desde los inicios\, en el año 1982. El montaje de despedida de una de las compañías más emblemáticas e internacionales de la escena catalana\, reúne doce sketches de obras como Slastic\, Manicòmic bis y Bits\, entre otras\, escogidas por los espectadores a través de las redes sociales. Además de un amplio resumen\, compuesto de gags cortísimos\, que cierra el montaje y deja al público a punto del colapso respiratorio. Cien minutos llenos de gags que todo el mundo tiene en su memoria. Os lo perderéis? Última oportunidad. \n 
URL:https://temporada-alta.com/es/espectaculo/hits/
LOCATION:Auditori de Girona
CATEGORIES:2019,Etiquetas internas,Popular,Popularidad,Teatro,Visual
ATTACH;FMTTYPE=image/jpeg:https://temporada-alta.com/wp-content/uploads/3.-Fitxa_David-Ruano.jpg
END:VEVENT
BEGIN:VEVENT
DTSTART;TZID=Europe/Madrid:20191011T000000
DTEND;TZID=Europe/Madrid:20191011T235900
DTSTAMP:20260421T124952
CREATED:20190802T094507Z
LAST-MODIFIED:20191014T080914Z
UID:40540-1570752000-1570838340@temporada-alta.com
SUMMARY:On Goldberg Variations / Variations
DESCRIPTION:María Muñoz y Pep Ramis presentan una versión propia de las Variaciones Goldberg de Bach\, con siete bailarines en el escenario\nBailar las Variaciones Goldberg. Es lo que hace la compañía Mal Pelo en On Goldberg Variations / Variations (“Variaciones sobre las Variaciones Goldberg”)\, un espectáculo que fusiona la danza con la música de Bach. Después de Bach\, el solo inspirado en los preludios y las fugas de la obra El clavecí ben temprat que María Muñoz bailó en el año 2004\, Mal Pelo vuelve al universo del compositor alemán con un trabajo sobre la relación de la música barroca con el movimiento y el espacio. La pieza\, interpretada por siete bailarines de diferentes edades\, combina las partituras barrocas con improvisaciones hechas por el pianista Dan Tepfer y textos propios y de John Berger. Una obra absolutamente hipnótica. \n 
URL:https://temporada-alta.com/es/espectaculo/on-goldberg-variations-variations/
LOCATION:El Canal
CATEGORIES:2019,Danza,No popular,Popularidad
ATTACH;FMTTYPE=image/jpeg:https://temporada-alta.com/wp-content/uploads/OnGoldbergVariations_destacada.jpg
END:VEVENT
BEGIN:VEVENT
DTSTART;TZID=Europe/Madrid:20191011T000000
DTEND;TZID=Europe/Madrid:20191012T235959
DTSTAMP:20260421T124952
CREATED:20190802T094507Z
LAST-MODIFIED:20191013T013504Z
UID:40520-1570752000-1570924799@temporada-alta.com
SUMMARY:Macbettu
DESCRIPTION:El teatro físico de Alessandro Serra al servicio de uno de los grandes clásicos de Shakespeare. Mejor producción italiana 2017 (UBU y Premio Nacional de la Crítica)\nAlessandro Serra\, uno de los directores más personales de la escena italiana\, presenta en Temporada Alta el montaje que le ha catapultado internacionalmente. Una versión del Macbeth de Shakespeare trasladada a la cultura sarda. Con un elenco formado solo por hombres —a la más pura tradición isabelina—\, impregna el clásico de los sonidos de la lengua sarda y la cultura autóctona de la isla mediterránea. Con el cuerpo del intérprete siempre en el centro de su universo dramático\, Macbettu crea un potente diálogo teatral muy físico entre los rituales ancestrales\, las fuerzas de la naturaleza y la literatura shakesperiana. \n 
URL:https://temporada-alta.com/es/espectaculo/macbettu/
LOCATION:Teatre de Salt
CATEGORIES:2019,Etiquetas internas,Internacional,No popular,Popularidad,Sobretítulos,Teatro,Visual
ATTACH;FMTTYPE=image/jpeg:https://temporada-alta.com/wp-content/uploads/Macbettu_destacada.jpg
END:VEVENT
END:VCALENDAR