BEGIN:VCALENDAR
VERSION:2.0
PRODID:-//Temporada Alta - ECPv6.15.17//NONSGML v1.0//EN
CALSCALE:GREGORIAN
METHOD:PUBLISH
X-ORIGINAL-URL:https://temporada-alta.com/es/
X-WR-CALDESC:Eventos para Temporada Alta
REFRESH-INTERVAL;VALUE=DURATION:PT1H
X-Robots-Tag:noindex
X-PUBLISHED-TTL:PT1H
BEGIN:VTIMEZONE
TZID:Europe/Madrid
BEGIN:DAYLIGHT
TZOFFSETFROM:+0100
TZOFFSETTO:+0200
TZNAME:CEST
DTSTART:20180325T010000
END:DAYLIGHT
BEGIN:STANDARD
TZOFFSETFROM:+0200
TZOFFSETTO:+0100
TZNAME:CET
DTSTART:20181028T010000
END:STANDARD
BEGIN:DAYLIGHT
TZOFFSETFROM:+0100
TZOFFSETTO:+0200
TZNAME:CEST
DTSTART:20190331T010000
END:DAYLIGHT
BEGIN:STANDARD
TZOFFSETFROM:+0200
TZOFFSETTO:+0100
TZNAME:CET
DTSTART:20191027T010000
END:STANDARD
BEGIN:DAYLIGHT
TZOFFSETFROM:+0100
TZOFFSETTO:+0200
TZNAME:CEST
DTSTART:20200329T010000
END:DAYLIGHT
BEGIN:STANDARD
TZOFFSETFROM:+0200
TZOFFSETTO:+0100
TZNAME:CET
DTSTART:20201025T010000
END:STANDARD
END:VTIMEZONE
BEGIN:VEVENT
DTSTART;TZID=Europe/Madrid:20191006T000000
DTEND;TZID=Europe/Madrid:20191006T235900
DTSTAMP:20260421T122704
CREATED:20190614T090503Z
LAST-MODIFIED:20191006T213503Z
UID:36283-1570320000-1570406340@temporada-alta.com
SUMMARY:10 anys amb el Pot Petit
DESCRIPTION:El grupo que ha revolucionado la animación infantil en catalán celebra su décimo cumpleaños. Con 13 músicos en el escenario\nJana\, Pau y Melmelada Band nos invitan a su gran fiesta de aniversario. Quizá también vengan Gina\, Juna y Pol; el león vergonzoso\, el gusano miedoso\, los piratas\, la hormiga rockera y el dragón Rac. Ya ha llegado la invitación para visitar su mundo mágico. No hace falta llevar ningún regalo\, solo muchas ganas de pasárselo bien. Habrá sobretodo mucha música. Muchas canciones muy chulas que seguramente ya conocéis\, habéis cantado y habéis bailado. Seguro que las recordáis de discos como Canta amb El Pot Petit (2012)\, Ritmes i Rialles (2015) y A l’aventura (2018). Como es una fiesta muy especial —El Pot Petit hace diez años de aventuras y de hacer amigos\, pequeños y grandes—\, estas canciones tan conocidas sonaran como nunca antes las habíais escuchado. Con 13 músicos en el escenario. Una experiencia para recordar para siempre. \n 
URL:https://temporada-alta.com/es/espectaculo/10-anys-amb-el-pot-petit/
LOCATION:Auditori de Girona
CATEGORIES:2019,En familia,Etiquetas internas,Familiar,Música,Popular,Popularidad,Sonoro
ATTACH;FMTTYPE=image/jpeg:https://temporada-alta.com/wp-content/uploads/web_10anysambelpotpetit.jpg
END:VEVENT
END:VCALENDAR