BEGIN:VCALENDAR
VERSION:2.0
PRODID:-//Temporada Alta - ECPv6.15.17//NONSGML v1.0//EN
CALSCALE:GREGORIAN
METHOD:PUBLISH
X-WR-CALNAME:Temporada Alta
X-ORIGINAL-URL:https://temporada-alta.com/es/
X-WR-CALDESC:Eventos para Temporada Alta
REFRESH-INTERVAL;VALUE=DURATION:PT1H
X-Robots-Tag:noindex
X-PUBLISHED-TTL:PT1H
BEGIN:VTIMEZONE
TZID:Europe/Madrid
BEGIN:DAYLIGHT
TZOFFSETFROM:+0100
TZOFFSETTO:+0200
TZNAME:CEST
DTSTART:20180325T010000
END:DAYLIGHT
BEGIN:STANDARD
TZOFFSETFROM:+0200
TZOFFSETTO:+0100
TZNAME:CET
DTSTART:20181028T010000
END:STANDARD
BEGIN:DAYLIGHT
TZOFFSETFROM:+0100
TZOFFSETTO:+0200
TZNAME:CEST
DTSTART:20190331T010000
END:DAYLIGHT
BEGIN:STANDARD
TZOFFSETFROM:+0200
TZOFFSETTO:+0100
TZNAME:CET
DTSTART:20191027T010000
END:STANDARD
BEGIN:DAYLIGHT
TZOFFSETFROM:+0100
TZOFFSETTO:+0200
TZNAME:CEST
DTSTART:20200329T010000
END:DAYLIGHT
BEGIN:STANDARD
TZOFFSETFROM:+0200
TZOFFSETTO:+0100
TZNAME:CET
DTSTART:20201025T010000
END:STANDARD
END:VTIMEZONE
BEGIN:VEVENT
DTSTART;TZID=Europe/Madrid:20190902T000000
DTEND;TZID=Europe/Madrid:20190902T235959
DTSTAMP:20260421T141550
CREATED:20190805T153505Z
LAST-MODIFIED:20190902T145508Z
UID:37920-1567382400-1567468799@temporada-alta.com
SUMMARY:Presentación de la programación de TA19 a los socios de El Club
DESCRIPTION:Si eres socio/a de El Club\, ven a descubrir en primicia la programación de Temporada Alta 2019\nNarcís Puig\, ayudante de dirección artística\, te explicará en primicia la programación de Temporada Alta 2019. Si eres socio/a de El Club\, ven a conocer el Festival espectáculo a espectáculo y descubre cuales son las propuestas que más te pueden interesar. \n  \nOrganiza:     
URL:https://temporada-alta.com/es/espectaculo/presentacion-de-la-programacion-de-ta19-a-los-socios-de-el-club/
LOCATION:Sala La Planeta
CATEGORIES:Actividades,Etiquetas internas,Otras actividades
ATTACH;FMTTYPE=image/jpeg:https://temporada-alta.com/wp-content/uploads/socios.jpg
END:VEVENT
END:VCALENDAR