BEGIN:VCALENDAR
VERSION:2.0
PRODID:-//Temporada Alta - ECPv6.15.17//NONSGML v1.0//EN
CALSCALE:GREGORIAN
METHOD:PUBLISH
X-ORIGINAL-URL:https://temporada-alta.com/es/
X-WR-CALDESC:Eventos para Temporada Alta
REFRESH-INTERVAL;VALUE=DURATION:PT1H
X-Robots-Tag:noindex
X-PUBLISHED-TTL:PT1H
BEGIN:VTIMEZONE
TZID:Europe/Madrid
BEGIN:DAYLIGHT
TZOFFSETFROM:+0100
TZOFFSETTO:+0200
TZNAME:CEST
DTSTART:20180325T010000
END:DAYLIGHT
BEGIN:STANDARD
TZOFFSETFROM:+0200
TZOFFSETTO:+0100
TZNAME:CET
DTSTART:20181028T010000
END:STANDARD
BEGIN:DAYLIGHT
TZOFFSETFROM:+0100
TZOFFSETTO:+0200
TZNAME:CEST
DTSTART:20190331T010000
END:DAYLIGHT
BEGIN:STANDARD
TZOFFSETFROM:+0200
TZOFFSETTO:+0100
TZNAME:CET
DTSTART:20191027T010000
END:STANDARD
BEGIN:DAYLIGHT
TZOFFSETFROM:+0100
TZOFFSETTO:+0200
TZNAME:CEST
DTSTART:20200329T010000
END:DAYLIGHT
BEGIN:STANDARD
TZOFFSETFROM:+0200
TZOFFSETTO:+0100
TZNAME:CET
DTSTART:20201025T010000
END:STANDARD
END:VTIMEZONE
BEGIN:VEVENT
DTSTART;TZID=Europe/Madrid:20190209T080000
DTEND;TZID=Europe/Madrid:20190215T170000
DTSTAMP:20260421T124444
CREATED:20190124T121813Z
LAST-MODIFIED:20190125T091722Z
UID:21006-1549699200-1550250000@temporada-alta.com
SUMMARY:Calma!
DESCRIPTION:Guillem Albà estrena su nuevo espectáculo en Buenos Aires \nUn espectáculo de teatro de creación\, con material completamente nuevo e inédito\, que recoge el color más poético y visual de Pluja y Trau y la locura más festiva y desenfrenada del clown cabaretero de Marabunta. Con el único acompañamiento de un regidor de escena\, y un técnico de sonido e iluminación\, el personaje se mostrará solo ante la audiencia. Guillem jugará con el público durante la hora y cuarto de espectáculo\, haciéndolo partícipe de una experiencia teatral real\, y dándole un papel destacado en el conjunto del show.
URL:https://temporada-alta.com/es/espectaculo/calma/
LOCATION:Teatro Timbre 4 de Buenos Aires
CATEGORIES:2019 Iberoamerica
ATTACH;FMTTYPE=image/jpeg:https://temporada-alta.com/wp-content/uploads/20181211112923-calma.jpg
END:VEVENT
END:VCALENDAR