BEGIN:VCALENDAR
VERSION:2.0
PRODID:-//Temporada Alta - ECPv6.15.17//NONSGML v1.0//EN
CALSCALE:GREGORIAN
METHOD:PUBLISH
X-WR-CALNAME:Temporada Alta
X-ORIGINAL-URL:https://temporada-alta.com/es/
X-WR-CALDESC:Eventos para Temporada Alta
REFRESH-INTERVAL;VALUE=DURATION:PT1H
X-Robots-Tag:noindex
X-PUBLISHED-TTL:PT1H
BEGIN:VTIMEZONE
TZID:Europe/Madrid
BEGIN:DAYLIGHT
TZOFFSETFROM:+0100
TZOFFSETTO:+0200
TZNAME:CEST
DTSTART:20170326T010000
END:DAYLIGHT
BEGIN:STANDARD
TZOFFSETFROM:+0200
TZOFFSETTO:+0100
TZNAME:CET
DTSTART:20171029T010000
END:STANDARD
BEGIN:DAYLIGHT
TZOFFSETFROM:+0100
TZOFFSETTO:+0200
TZNAME:CEST
DTSTART:20180325T010000
END:DAYLIGHT
BEGIN:STANDARD
TZOFFSETFROM:+0200
TZOFFSETTO:+0100
TZNAME:CET
DTSTART:20181028T010000
END:STANDARD
BEGIN:DAYLIGHT
TZOFFSETFROM:+0100
TZOFFSETTO:+0200
TZNAME:CEST
DTSTART:20190331T010000
END:DAYLIGHT
BEGIN:STANDARD
TZOFFSETFROM:+0200
TZOFFSETTO:+0100
TZNAME:CET
DTSTART:20191027T010000
END:STANDARD
END:VTIMEZONE
BEGIN:VEVENT
DTSTART;TZID=Europe/Madrid:20181207T000000
DTEND;TZID=Europe/Madrid:20181207T235959
DTSTAMP:20260421T105057
CREATED:20180803T093311Z
LAST-MODIFIED:20181207T190016Z
UID:3193-1544140800-1544227199@temporada-alta.com
SUMMARY:Esmorza amb mi
DESCRIPTION:Después de Sé de un lugar\, Iván Morales presenta una delicada comèdia sobre el amor y el azar\nOtra gran comedia sobre el amor\, el azar y la infelicidad del autor de la celebrada Sé de un lugar. Una historia de deseos cruzados que ha cautivado al público desde su estreno la pasada temporada. Sentimientos a flor de piel\, confesiones sinceras y conversaciones tarantinianas.
URL:https://temporada-alta.com/es/espectaculo/esmorza-amb-mi/
CATEGORIES:2018
ATTACH;FMTTYPE=image/jpeg:https://temporada-alta.com/wp-content/uploads/EsmozaAmbMi_c_SandraRoca.jpg
END:VEVENT
BEGIN:VEVENT
DTSTART;TZID=Europe/Madrid:20181207T000000
DTEND;TZID=Europe/Madrid:20181207T235959
DTSTAMP:20260421T105057
CREATED:20180809T132020Z
LAST-MODIFIED:20181207T190009Z
UID:4996-1544140800-1544227199@temporada-alta.com
SUMMARY:Els ocells
DESCRIPTION:Después del éxito de Fairfly\, la compañía La Calòrica adapta la primera comedia que cuestionó la democracia\nPrimero los emprendedores y ahora la democracia. La Calòrica no tiene límites en su ambición por reírse de los grandes mitos colectivos. Humor negro y despiadado\, inspirado directamente en la primera comedia que cuestionó el recién nacido sistema político: Los pájaros de Aristófanes.
URL:https://temporada-alta.com/es/espectaculo/els-ocells/
LOCATION:Sala La Planeta
CATEGORIES:2018
ATTACH;FMTTYPE=image/jpeg:https://temporada-alta.com/wp-content/uploads/ElsOcells_c_ClaraRamon.jpg
END:VEVENT
BEGIN:VEVENT
DTSTART;TZID=Europe/Madrid:20181207T000000
DTEND;TZID=Europe/Madrid:20181207T235959
DTSTAMP:20260421T105057
CREATED:20180809T132027Z
LAST-MODIFIED:20181207T190011Z
UID:4998-1544140800-1544227199@temporada-alta.com
SUMMARY:Cronología de las bestias
DESCRIPTION:Carmen Machi protagoniza la historia de una família escrita y dirigida por el cofundador de Timbre 4\, Lautaro Perotti\nCarmen Machi protagoniza la historia de una familia destrozada por la muerte de su hijo\, que decide evadir la realidad mintiéndose y engañándose hasta las últimas consecuencias. Un espectáculo escrito y dirigido por el argentino Lautaro Perotti\, cofundador de la prestigiosa sala bonaerense Timbre 4.
URL:https://temporada-alta.com/es/espectaculo/cronologia-de-las-bestias/
LOCATION:Teatre Municipal de Girona\, Espanya
CATEGORIES:2018
ATTACH;FMTTYPE=image/jpeg:https://temporada-alta.com/wp-content/uploads/cronologia_bestias_c_JavierNaval-3.jpg
END:VEVENT
BEGIN:VEVENT
DTSTART;TZID=Europe/Madrid:20181207T000000
DTEND;TZID=Europe/Madrid:20181207T235959
DTSTAMP:20260421T105057
CREATED:20180809T130622Z
LAST-MODIFIED:20181207T190015Z
UID:4861-1544140800-1544227199@temporada-alta.com
SUMMARY:Ventura
DESCRIPTION:Una experiencia teatral para 25 espectadores situada en una casa particular que maravilla al público desde 2015\nUna historia familiar narrada desde la más estricta proximidad\, en un entorno único que forma parte de la propia dramaturgia. Ventura es una experiencia para vivirla\, que vuelve al Festival por méritos propios.
URL:https://temporada-alta.com/es/espectaculo/ventura/
CATEGORIES:2018
ATTACH;FMTTYPE=image/jpeg:https://temporada-alta.com/wp-content/uploads/ventura_c_BernatCasero.jpg
END:VEVENT
END:VCALENDAR