BEGIN:VCALENDAR
VERSION:2.0
PRODID:-//Temporada Alta - ECPv6.15.17//NONSGML v1.0//EN
CALSCALE:GREGORIAN
METHOD:PUBLISH
X-ORIGINAL-URL:https://temporada-alta.com/es/
X-WR-CALDESC:Eventos para Temporada Alta
REFRESH-INTERVAL;VALUE=DURATION:PT1H
X-Robots-Tag:noindex
X-PUBLISHED-TTL:PT1H
BEGIN:VTIMEZONE
TZID:Europe/Madrid
BEGIN:DAYLIGHT
TZOFFSETFROM:+0100
TZOFFSETTO:+0200
TZNAME:CEST
DTSTART:20170326T010000
END:DAYLIGHT
BEGIN:STANDARD
TZOFFSETFROM:+0200
TZOFFSETTO:+0100
TZNAME:CET
DTSTART:20171029T010000
END:STANDARD
BEGIN:DAYLIGHT
TZOFFSETFROM:+0100
TZOFFSETTO:+0200
TZNAME:CEST
DTSTART:20180325T010000
END:DAYLIGHT
BEGIN:STANDARD
TZOFFSETFROM:+0200
TZOFFSETTO:+0100
TZNAME:CET
DTSTART:20181028T010000
END:STANDARD
BEGIN:DAYLIGHT
TZOFFSETFROM:+0100
TZOFFSETTO:+0200
TZNAME:CEST
DTSTART:20190331T010000
END:DAYLIGHT
BEGIN:STANDARD
TZOFFSETFROM:+0200
TZOFFSETTO:+0100
TZNAME:CET
DTSTART:20191027T010000
END:STANDARD
END:VTIMEZONE
BEGIN:VEVENT
DTSTART;TZID=Europe/Madrid:20181205T000000
DTEND;TZID=Europe/Madrid:20181205T235959
DTSTAMP:20260421T105620
CREATED:20180803T093305Z
LAST-MODIFIED:20181205T190007Z
UID:3191-1543968000-1544054399@temporada-alta.com
SUMMARY:Les noies de Mossbank Road (Torroella)
DESCRIPTION:El último éxito de Sílvia Munt con Cristina Genebat\, Marta Marco y Clara Segura\nUna brillante comedia dramática de la británica Amelia Bullmore sobre la amistad entre tres mujeres\, interpretada por un trío de grandes actrices catalanas\, dirigidas por Sílvia Munt después de su éxito con El preu.
URL:https://temporada-alta.com/es/espectaculo/les-noies-de-mossbank-road-torroella/
LOCATION:Auditori Teatre Espai Ter
CATEGORIES:2018
ATTACH;FMTTYPE=image/jpeg:https://temporada-alta.com/wp-content/uploads/LES_NOIES_MOSSBANK_c_FelipeMena-1.jpg
END:VEVENT
END:VCALENDAR