BEGIN:VCALENDAR
VERSION:2.0
PRODID:-//Temporada Alta - ECPv6.15.17//NONSGML v1.0//EN
CALSCALE:GREGORIAN
METHOD:PUBLISH
X-WR-CALNAME:Temporada Alta
X-ORIGINAL-URL:https://temporada-alta.com/es/
X-WR-CALDESC:Eventos para Temporada Alta
REFRESH-INTERVAL;VALUE=DURATION:PT1H
X-Robots-Tag:noindex
X-PUBLISHED-TTL:PT1H
BEGIN:VTIMEZONE
TZID:Europe/Madrid
BEGIN:DAYLIGHT
TZOFFSETFROM:+0100
TZOFFSETTO:+0200
TZNAME:CEST
DTSTART:20170326T010000
END:DAYLIGHT
BEGIN:STANDARD
TZOFFSETFROM:+0200
TZOFFSETTO:+0100
TZNAME:CET
DTSTART:20171029T010000
END:STANDARD
BEGIN:DAYLIGHT
TZOFFSETFROM:+0100
TZOFFSETTO:+0200
TZNAME:CEST
DTSTART:20180325T010000
END:DAYLIGHT
BEGIN:STANDARD
TZOFFSETFROM:+0200
TZOFFSETTO:+0100
TZNAME:CET
DTSTART:20181028T010000
END:STANDARD
BEGIN:DAYLIGHT
TZOFFSETFROM:+0100
TZOFFSETTO:+0200
TZNAME:CEST
DTSTART:20190331T010000
END:DAYLIGHT
BEGIN:STANDARD
TZOFFSETFROM:+0200
TZOFFSETTO:+0100
TZNAME:CET
DTSTART:20191027T010000
END:STANDARD
END:VTIMEZONE
BEGIN:VEVENT
DTSTART;TZID=Europe/Madrid:20181028T000000
DTEND;TZID=Europe/Madrid:20181028T235900
DTSTAMP:20260421T105059
CREATED:20180809T130142Z
LAST-MODIFIED:20181203T094740Z
UID:4894-1540684800-1540771140@temporada-alta.com
SUMMARY:La set i la revolució
DESCRIPTION:Un espectáculo multidisciplinar sobre la masculinidad surgido de la unión de cuatro reconocidos creadores con trayectorias singulares\nCuatro reconocidos creadores con trayectorias artísticas muy singulares (Piero Steiner\, Andrés Corchero\, Pep Ramis y Enric Ases) exploran con la palabra y el movimiento los territorios de la masculinidad. Lugares para «hablar de sus cosas»\, para reforzar los vínculos de la tribu de los hombres.
URL:https://temporada-alta.com/es/espectaculo/la-set-i-la-revolucio/
LOCATION:Teatre de Salt
CATEGORIES:2018
ATTACH;FMTTYPE=image/jpeg:https://temporada-alta.com/wp-content/uploads/LaSetiLaRevolucio_c_ElClub.jpg
END:VEVENT
BEGIN:VEVENT
DTSTART;TZID=Europe/Madrid:20181028T000000
DTEND;TZID=Europe/Madrid:20181028T235900
DTSTAMP:20260421T105059
CREATED:20180809T131012Z
LAST-MODIFIED:20181203T094028Z
UID:4891-1540684800-1540771140@temporada-alta.com
SUMMARY:Sol bémol
DESCRIPTION:Un espectáculo de circo aéreo que combina humor y música en directo\, un montaje mágico y poético para toda la familia\nUn sueño teatral que combina música\, humor y acrobacias\, un espectáculo de circo aéreo donde las piruetas se multiplican y el piano tiene vida propia. La compañía belga formada por Dirk van Boxelaere y Fien van Herwegen ha creado un universo mágico y poético. Un espectacular montaje para niños y niñas a partir de 4 años.
URL:https://temporada-alta.com/es/espectaculo/sol-bemol/
LOCATION:Teatre Municipal de Girona\, Espanya
CATEGORIES:2018
ATTACH;FMTTYPE=image/jpeg:https://temporada-alta.com/wp-content/uploads/SolBemol_c_KristofCeulemans.jpg
END:VEVENT
END:VCALENDAR