BEGIN:VCALENDAR
VERSION:2.0
PRODID:-//Temporada Alta - ECPv6.15.17//NONSGML v1.0//EN
CALSCALE:GREGORIAN
METHOD:PUBLISH
X-WR-CALNAME:Temporada Alta
X-ORIGINAL-URL:https://temporada-alta.com/es/
X-WR-CALDESC:Eventos para Temporada Alta
REFRESH-INTERVAL;VALUE=DURATION:PT1H
X-Robots-Tag:noindex
X-PUBLISHED-TTL:PT1H
BEGIN:VTIMEZONE
TZID:Europe/Madrid
BEGIN:DAYLIGHT
TZOFFSETFROM:+0100
TZOFFSETTO:+0200
TZNAME:CEST
DTSTART:20170326T010000
END:DAYLIGHT
BEGIN:STANDARD
TZOFFSETFROM:+0200
TZOFFSETTO:+0100
TZNAME:CET
DTSTART:20171029T010000
END:STANDARD
BEGIN:DAYLIGHT
TZOFFSETFROM:+0100
TZOFFSETTO:+0200
TZNAME:CEST
DTSTART:20180325T010000
END:DAYLIGHT
BEGIN:STANDARD
TZOFFSETFROM:+0200
TZOFFSETTO:+0100
TZNAME:CET
DTSTART:20181028T010000
END:STANDARD
BEGIN:DAYLIGHT
TZOFFSETFROM:+0100
TZOFFSETTO:+0200
TZNAME:CEST
DTSTART:20190331T010000
END:DAYLIGHT
BEGIN:STANDARD
TZOFFSETFROM:+0200
TZOFFSETTO:+0100
TZNAME:CET
DTSTART:20191027T010000
END:STANDARD
END:VTIMEZONE
BEGIN:VEVENT
DTSTART;TZID=Europe/Madrid:20181021T000000
DTEND;TZID=Europe/Madrid:20181021T235900
DTSTAMP:20260421T111043
CREATED:20180809T130125Z
LAST-MODIFIED:20251220T222320Z
UID:4875-1540080000-1540166340@temporada-alta.com
SUMMARY:Fairfly
DESCRIPTION:Un auténtico fenómeno de público y crítica\, una comedia sobre el falso mito de los emprendedores ganadora de dos Premios Max y dos Premis Butaca\nEsta ácida comedia de Joan Yago sobre el falso mito de los emprendedores se ha convertido desde su estreno en un fenómeno de público y crítica. Premio de la Crítica de Cataluña (Pequeño Formato)\, dos Butaca (Pequeño Formato y Texto) y dos Max (Revelación y Texto Revelación).
URL:https://temporada-alta.com/es/espectaculo/fairfly-2018/
LOCATION:Teatre de Salt
CATEGORIES:2018
ATTACH;FMTTYPE=image/jpeg:https://temporada-alta.com/wp-content/uploads/Fairfly_c_AnnaFabrega.jpg
END:VEVENT
BEGIN:VEVENT
DTSTART;TZID=Europe/Madrid:20181021T000000
DTEND;TZID=Europe/Madrid:20181021T235900
DTSTAMP:20260421T111043
CREATED:20180809T130644Z
LAST-MODIFIED:20181203T090043Z
UID:4874-1540080000-1540166340@temporada-alta.com
SUMMARY:La llavor del foc
DESCRIPTION:Una propuesta escénica sobre el diálogo entre culturas creado por Carlota Subirós y Babou Cham\nUn viajero enigmático que lleva el secreto más bien guardado en su maleta de equipaje\, la existencia de la tierra. El viajero\,  invita a los niños y niñas a vivir un viaje a través de un montón de historias sobre el origen del mundo a través de mitos de diferentes culturas. Una apuesta por la cultura como forma de integración.
URL:https://temporada-alta.com/es/espectaculo/la-llavor-del-foc/
LOCATION:Sala La Planeta
CATEGORIES:2018
ATTACH;FMTTYPE=image/jpeg:https://temporada-alta.com/wp-content/uploads/LaLlavorDelFoc_c_CarlotaSubiros.jpg
END:VEVENT
END:VCALENDAR